From mboxrd@z Thu Jan 1 00:00:00 1970 Return-Path: Received: from mails.dpdk.org (mails.dpdk.org [217.70.189.124]) by inbox.dpdk.org (Postfix) with ESMTP id E9BAC4623E for ; Sun, 16 Feb 2025 20:53:38 +0100 (CET) Received: from mails.dpdk.org (localhost [127.0.0.1]) by mails.dpdk.org (Postfix) with ESMTP id C21F1400EF; Sun, 16 Feb 2025 20:53:38 +0100 (CET) Received: from mail-yb1-f228.google.com (mail-yb1-f228.google.com [209.85.219.228]) by mails.dpdk.org (Postfix) with ESMTP id E6AE3400D6 for ; Sun, 16 Feb 2025 20:53:36 +0100 (CET) Received: by mail-yb1-f228.google.com with SMTP id 3f1490d57ef6-e5db2d767f2so2643225276.2 for ; Sun, 16 Feb 2025 11:53:36 -0800 (PST) DKIM-Signature: v=1; a=rsa-sha256; c=relaxed/relaxed; d=iol.unh.edu; s=unh-iol; t=1739735616; x=1740340416; darn=dpdk.org; h=references:in-reply-to:cc:to:from:subject:message-id:date:from:to :cc:subject:date:message-id:reply-to; bh=CmbJ3dyTcppFuG8EuOlAz8oWDoLy7dSGUBsvPh31hGw=; b=SP7UTGIKnsinMN2cGQOefTotWv9CKKBGRNiF9lKs4Jm+AFaTrUs7RBi+sF4hCoSZi2 I9XPj8VjkDMJxmnVd3vptZ8Ab+YnhkfaxzXtmpZe590heResOfyZEoTce+GhvRfWM3qe 1pJwqTSbXjCwUxxCjHNA1cKCfB4hpqRLblY4Y= X-Google-DKIM-Signature: v=1; a=rsa-sha256; c=relaxed/relaxed; d=1e100.net; s=20230601; t=1739735616; x=1740340416; h=references:in-reply-to:cc:to:from:subject:message-id:date :x-gm-message-state:from:to:cc:subject:date:message-id:reply-to; bh=CmbJ3dyTcppFuG8EuOlAz8oWDoLy7dSGUBsvPh31hGw=; b=gEfCsOdeCvwsA3jPdIZ1SLf3D+E2bbehHPnhP7ZX+PKGjSABLpPAcSsM/BTKr+OJKq armuwDEuO+intI3eu5juMRBmBjWkUPHLKeg1TmDqRCdMFv4lnm+MTeWrXTEkLZM5jdP6 fwBa4ujFh2hLbW/Dvdl5M/lFmoukK4c40KDqczBVTWLqK9OFfp//V17RCqM9ykLu4Dt3 Tx3sxnnnzjr+nNhbkcp83mhh0EqA81iwe0PoA2JIAYHM9bk64SLlSuBj0DTccvgnQG4j H7hp0a9NpPNmbbVSyZPZbIvS+wFSIhSZ3A48Ygvs3bLvzXFpcIAVPkthzTHFCjdS0tzW j2RQ== X-Gm-Message-State: AOJu0Yy5zASKyLkkUzxldziC6DrxkaZaT4KOeZRqSPQhx0ogdIy680j2 FlDFJkAcH0x6u00xm7pcblb1sHukzQZrX2ohRdS+QctWmtjFhUH0rdsaOXEf8D3yMU/jsB/zSjT OdgQ7Ax9p4VqUFjMyg8I1hgnlLfuwTaI7BFd067lcwHRWoTfAyu4LvFLC X-Gm-Gg: ASbGncumCgtdSq9ne8ED6mnhCDlwMUnhnC8tlPzi3yAVu2064WqSpt7Klqo0BHDCFn0 ICGbvObIowfzneqLPzy5LqbekL/ZIw+XJqstMQDCjXyK2e7l77U7XoTJukl/nHjD1zidwaR6abw JHzoO8IG2uO3sgXm1kMk/xUKB5AEKnWjn34k7ewYoGxHSb2zV7TvHVarO+RHxK3pxYz5K05RgQI 54rDj/OrkZHA5WDoQt6IFBJQ5Ksmfaibop2S+j82scHXrtAtCzsYefgkNSRxsYMBLMaagm+lPnt P21pZcFff+2yst9Zm4QKrTtCvaSVc50wIxfngpCcYA== X-Google-Smtp-Source: AGHT+IHBZPncWmwaBJIxsvyse8qYeTy3MFDqWc6uq7TJOU74dMraMPwoFc9FMVKeCJLnzKaZ6fvRaZy4yDm+ X-Received: by 2002:a05:6902:701:b0:e5d:ac3c:9df1 with SMTP id 3f1490d57ef6-e5dc903446dmr5661096276.6.1739735616170; Sun, 16 Feb 2025 11:53:36 -0800 (PST) Received: from postal.iol.unh.edu (postal.iol.unh.edu. [2606:4100:3880:1234::84]) by smtp-relay.gmail.com with ESMTPS id 3f1490d57ef6-e5dadfc0380sm426608276.16.2025.02.16.11.53.36 (version=TLS1_2 cipher=ECDHE-ECDSA-AES128-GCM-SHA256 bits=128/128); Sun, 16 Feb 2025 11:53:36 -0800 (PST) X-Relaying-Domain: iol.unh.edu Date: Sun, 16 Feb 2025 11:53:36 -0800 (PST) Message-ID: <67b24240.250a0220.22308b.5f4bSMTPIN_ADDED_MISSING@mx.google.com> Received: from [172.17.0.6] (unknown [172.18.0.217]) by postal.iol.unh.edu (Postfix) with ESMTP id BA7FC6052471; Sun, 16 Feb 2025 14:53:35 -0500 (EST) Subject: |SUCCESS| pw151531 [PATCH] crypto/cnxk: fix status code in asymmetri From: dpdklab@iol.unh.edu To: Test Report Cc: dpdk-test-reports@iol.unh.edu In-Reply-To: <20250216142510.1467-1-gmuthukrishn@marvell.com> References: <20250216142510.1467-1-gmuthukrishn@marvell.com> Content-Type: text/plain X-BeenThere: test-report@dpdk.org X-Mailman-Version: 2.1.29 Precedence: list List-Id: automatic DPDK test reports List-Unsubscribe: , List-Archive: List-Post: List-Help: List-Subscribe: , Errors-To: test-report-bounces@dpdk.org Test-Label: iol-unit-arm64-testing Test-Status: SUCCESS http://dpdk.org/patch/151531 _Testing PASS_ Submitter: Gowrishankar Muthukrishnan Date: Sunday, February 16 2025 14:25:07 DPDK git baseline: Repo:dpdk Branch: master CommitID:e5176f23ae8b31437c3e5eb875c81f95bf3a9942 151531 --> testing pass Upstream job id: Generic-Unit-Test-DPDK#315446 Test environment and result as below: +-----------------------------+----------------+------------------------------+--------------+---------------------------+ | Environment | dpdk_unit_test | cryptodev_sw_snow3g_autotest | lpm_autotest | cryptodev_sw_zuc_autotest | +=============================+================+==============================+==============+===========================+ | 32-bit Ubuntu 22.04.4 (ARM) | PASS | SKIPPED | SKIPPED | SKIPPED | +-----------------------------+----------------+------------------------------+--------------+---------------------------+ | CentOS Stream 10 (ARM) | PASS | SKIPPED | SKIPPED | SKIPPED | +-----------------------------+----------------+------------------------------+--------------+---------------------------+ | Fedora 40 (ARM) | PASS | SKIPPED | SKIPPED | SKIPPED | +-----------------------------+----------------+------------------------------+--------------+---------------------------+ | CentOS Stream 9 (ARM) | PASS | SKIPPED | SKIPPED | SKIPPED | +-----------------------------+----------------+------------------------------+--------------+---------------------------+ | Debian 12 (arm) | PASS | PASS | SKIPPED | PASS | +-----------------------------+----------------+------------------------------+--------------+---------------------------+ | Debian 11 (Buster) (ARM) | PASS | SKIPPED | SKIPPED | SKIPPED | +-----------------------------+----------------+------------------------------+--------------+---------------------------+ | Fedora 41 (ARM) | PASS | SKIPPED | SKIPPED | SKIPPED | +-----------------------------+----------------+------------------------------+--------------+---------------------------+ | Fedora 40 (ARM Clang) | PASS | SKIPPED | SKIPPED | SKIPPED | +-----------------------------+----------------+------------------------------+--------------+---------------------------+ | Fedora 41 (ARM Clang) | PASS | SKIPPED | SKIPPED | SKIPPED | +-----------------------------+----------------+------------------------------+--------------+---------------------------+ | Ubuntu 20.04 (ARM) | PASS | SKIPPED | SKIPPED | SKIPPED | +-----------------------------+----------------+------------------------------+--------------+---------------------------+ | RHEL9 (ARM) | PASS | SKIPPED | SKIPPED | SKIPPED | +-----------------------------+----------------+------------------------------+--------------+---------------------------+ | Ubuntu 22.04 (ARM) | PASS | SKIPPED | SKIPPED | SKIPPED | +-----------------------------+----------------+------------------------------+--------------+---------------------------+ | Ubuntu 24.04 (ARM) | PASS | SKIPPED | SKIPPED | SKIPPED | +-----------------------------+----------------+------------------------------+--------------+---------------------------+ | Ubuntu 20.04 ARM SVE | SKIPPED | SKIPPED | PASS | SKIPPED | +-----------------------------+----------------+------------------------------+--------------+---------------------------+ 32-bit Ubuntu 22.04.4 (ARM) Kernel: 5.15.83+ aarch64 Compiler: gcc (Ubuntu 11.4.0-1ubuntu1~22.04) 11.4.0 CentOS Stream 10 (ARM) Kernel: Depends on container host Compiler: gcc 14.2.1 20241104 (Red Hat 14.2.1-6) Fedora 40 (ARM) Kernel: Depends on container host Compiler: gcc 14.2.1 20240912 (Red Hat 14.2.1-3) CentOS Stream 9 (ARM) Kernel: Depends on container host Compiler: gcc 11.5.0 20240719 (Red Hat 11.5.0-2) Debian 12 (arm) Kernel: Depends on container host Compiler: gcc (Debian 12.2.0-14) 12.2.0 Debian 11 (Buster) (ARM) Kernel: Depends on container host Compiler: gcc (Debian 10.2.1-6) 10.2.1 20210110 Fedora 41 (ARM) Kernel: Depends on container host Compiler: gcc 14.2.1 20240912 (Red Hat 14.2.1-3) Fedora 40 (ARM Clang) Kernel: Depends on container host Compiler: clang 18.1.8 (Fedora 18.1.8-1.fc40) Fedora 41 (ARM Clang) Kernel: Depends on container host Compiler: clang 19.1.5 (Fedora 19.1.5-1.fc41) Ubuntu 20.04 (ARM) Kernel: Depends on container host Compiler: gcc (Ubuntu 9.4.0-1ubuntu1~20.04.2) 9.4.0 RHEL9 (ARM) Kernel: Depends on container host Compiler: gcc 11.5.0 20240719 (Red Hat 11.5.0-2) Ubuntu 22.04 (ARM) Kernel: Depends on container host Compiler: gcc (Ubuntu 11.4.0-1ubuntu1~22.04) 11.4.0 Ubuntu 24.04 (ARM) Kernel: Depends on container host Compiler: gcc (Ubuntu 13.3.0-6ubuntu2~24.04) 13.3.0 Ubuntu 20.04 ARM SVE Kernel: Depends on container host Compiler: gcc (Ubuntu 10.5.0-1ubuntu1~20.04) 10.5.0 To view detailed results, visit: https://lab.dpdk.org/results/dashboard/patchsets/32587/ UNH-IOL DPDK Community Lab To manage your email subscriptions, visit: https://lab.dpdk.org/results/dashboard/preferences/subscriptions/