From mboxrd@z Thu Jan 1 00:00:00 1970 Return-Path: Received: from mails.dpdk.org (mails.dpdk.org [217.70.189.124]) by inbox.dpdk.org (Postfix) with ESMTP id E90454623E for ; Sun, 16 Feb 2025 20:54:04 +0100 (CET) Received: from mails.dpdk.org (localhost [127.0.0.1]) by mails.dpdk.org (Postfix) with ESMTP id E5CE5400EF; Sun, 16 Feb 2025 20:54:04 +0100 (CET) Received: from mail-pl1-f225.google.com (mail-pl1-f225.google.com [209.85.214.225]) by mails.dpdk.org (Postfix) with ESMTP id A0886400D6 for ; Sun, 16 Feb 2025 20:54:03 +0100 (CET) Received: by mail-pl1-f225.google.com with SMTP id d9443c01a7336-220e83d65e5so52287705ad.1 for ; Sun, 16 Feb 2025 11:54:03 -0800 (PST) DKIM-Signature: v=1; a=rsa-sha256; c=relaxed/relaxed; d=iol.unh.edu; s=unh-iol; t=1739735643; x=1740340443; darn=dpdk.org; h=references:in-reply-to:cc:to:from:subject:message-id:date:from:to :cc:subject:date:message-id:reply-to; bh=DgewAi1SPxL6kNmH+r5vNs7FkEkrPsBUOvVbu5U9sgw=; b=Yi/IJVpeGzJ3xEjuUmJlM88hiR6bMf8bWtKzcJNnIFcctQViF5dBQzeCzyOuutDADG bL//UWRS48IDsSYdrDUbwK9PLYVGgsujCWHoz2WOE2ttwVUX8S+Caz5J52gPsONFfJVf pcHMCtnBYtamKaJw5mLplcZv71128j7xd3Bcc= X-Google-DKIM-Signature: v=1; a=rsa-sha256; c=relaxed/relaxed; d=1e100.net; s=20230601; t=1739735643; x=1740340443; h=references:in-reply-to:cc:to:from:subject:message-id:date :x-gm-message-state:from:to:cc:subject:date:message-id:reply-to; bh=DgewAi1SPxL6kNmH+r5vNs7FkEkrPsBUOvVbu5U9sgw=; b=CU5WpUkZ2s0Y2caj5P42mAl2i4kmlApk3+OShvW2ljOmeo4ggw1onH4X4c67n+ONdd iwbq7hGA4oO5ib33GgT7RYhyQuTRtXmfD+1Di5H0/8+JYvF9nhCVs2UrCbXYfVXdIP2t TZ0Yr5IdASKqtsYN0gcek3eX6cK3aWs2GaWcVWu37iMIn0IhBwDki8byZPvVoWsGwqPQ uTb/OBr69sxUDpkgazffE6yDCkCAvJrehbSv5uvbQ7i4pV8WX7gSvNYb9gFK5+Zhxo3U cF17nGEFWGXrwpLBPfe8K303gsRXRYVKg8SWSdY8Yzg2Nv1qKj17I1FZw+QMTw1j6vfJ cWCw== X-Gm-Message-State: AOJu0YyOUMUudJfFydzzUFgz811AB7PPyAzFp2NWRz4L22pq1lnF7uSb 4NEVf6GdOEMUp6NcGh1BQGzleUX8aMfwdSPJC2ND0YrJ6NaAHgPRLA4dKpBtWM4zPzL3Rz8vkqZ joQJpkLLqpYvzdcyXA2K/8XqnsEEJAIENnK68N2hxklh073xPnbzjlI+b X-Gm-Gg: ASbGncsnv8NNhi43LwTxF02JdMsOSNmBXZNHTNqm78Oj1nDZwa6sPbPUMTWgFwxVH1P cv9LqauMLeGezha/jKhKpxNb1uj94iZigWwO5aEjDTVco2CYG7Ao2qm0FHHWHsUBGSzzvr18W1J N4g3MsWwWk8Y1PzJyKXutbU0XM8KyxxK+lhlXawHnWrXKQIIBbVXpVkTrSljs6Q0H/TmtFAJnFF dLRDjJShrpN91mprCwF6Ocr/y3WJl84KB7pLihhuMOgzhye0jwQ+/cE+AC5sjaTSVoCeEQMRZ3j j02MCufAvcC87Cv11avSZLSx/4kRat0enavMnlWyjA== X-Google-Smtp-Source: AGHT+IFIxeFozdddZcV1+GudL33+qezuM9uLWaMLuGZGndhQT5jfehl/sigTiYeZBwzsGxFfBgVoGr5TqzHc X-Received: by 2002:a17:903:22cb:b0:21f:93f8:ce16 with SMTP id d9443c01a7336-2210406a9bcmr105304005ad.31.1739735642765; Sun, 16 Feb 2025 11:54:02 -0800 (PST) Received: from postal.iol.unh.edu (postal.iol.unh.edu. [2606:4100:3880:1234::84]) by smtp-relay.gmail.com with ESMTPS id d9443c01a7336-220d5201e33sm3810585ad.10.2025.02.16.11.54.02 (version=TLS1_2 cipher=ECDHE-ECDSA-AES128-GCM-SHA256 bits=128/128); Sun, 16 Feb 2025 11:54:02 -0800 (PST) X-Relaying-Domain: iol.unh.edu Date: Sun, 16 Feb 2025 11:54:02 -0800 (PST) Message-ID: <67b2425a.170a0220.3d78c8.2d0bSMTPIN_ADDED_MISSING@mx.google.com> Received: from [172.21.0.7] (unknown [172.18.0.240]) by postal.iol.unh.edu (Postfix) with ESMTP id D6A086052471; Sun, 16 Feb 2025 14:54:01 -0500 (EST) Subject: |SUCCESS| pw151531 [PATCH] crypto/cnxk: fix status code in asymmetri From: dpdklab@iol.unh.edu To: Test Report Cc: dpdk-test-reports@iol.unh.edu In-Reply-To: <20250216142510.1467-1-gmuthukrishn@marvell.com> References: <20250216142510.1467-1-gmuthukrishn@marvell.com> Content-Type: text/plain X-BeenThere: test-report@dpdk.org X-Mailman-Version: 2.1.29 Precedence: list List-Id: automatic DPDK test reports List-Unsubscribe: , List-Archive: List-Post: List-Help: List-Subscribe: , Errors-To: test-report-bounces@dpdk.org Test-Label: iol-unit-arm64-testing Test-Status: SUCCESS http://dpdk.org/patch/151531 _Testing PASS_ Submitter: Gowrishankar Muthukrishnan Date: Sunday, February 16 2025 14:25:07 DPDK git baseline: Repo:dpdk Branch: master CommitID:e5176f23ae8b31437c3e5eb875c81f95bf3a9942 151531 --> testing pass Upstream job id: Generic-Unit-Test-DPDK#315450 Test environment and result as below: +-----------------------------+----------------+------------------------------+--------------+---------------------------+ | Environment | dpdk_unit_test | cryptodev_sw_snow3g_autotest | lpm_autotest | cryptodev_sw_zuc_autotest | +=============================+================+==============================+==============+===========================+ | 32-bit Ubuntu 22.04.4 (ARM) | PASS | SKIPPED | SKIPPED | SKIPPED | +-----------------------------+----------------+------------------------------+--------------+---------------------------+ | CentOS Stream 10 (ARM) | PASS | SKIPPED | SKIPPED | SKIPPED | +-----------------------------+----------------+------------------------------+--------------+---------------------------+ | Fedora 40 (ARM) | PASS | SKIPPED | SKIPPED | SKIPPED | +-----------------------------+----------------+------------------------------+--------------+---------------------------+ | CentOS Stream 9 (ARM) | PASS | SKIPPED | SKIPPED | SKIPPED | +-----------------------------+----------------+------------------------------+--------------+---------------------------+ | Debian 12 (arm) | PASS | PASS | SKIPPED | PASS | +-----------------------------+----------------+------------------------------+--------------+---------------------------+ | Debian 11 (Buster) (ARM) | PASS | SKIPPED | SKIPPED | SKIPPED | +-----------------------------+----------------+------------------------------+--------------+---------------------------+ | Fedora 41 (ARM) | PASS | SKIPPED | SKIPPED | SKIPPED | +-----------------------------+----------------+------------------------------+--------------+---------------------------+ | Fedora 40 (ARM Clang) | PASS | SKIPPED | SKIPPED | SKIPPED | +-----------------------------+----------------+------------------------------+--------------+---------------------------+ | Fedora 41 (ARM Clang) | PASS | SKIPPED | SKIPPED | SKIPPED | +-----------------------------+----------------+------------------------------+--------------+---------------------------+ | Ubuntu 20.04 (ARM) | PASS | SKIPPED | SKIPPED | SKIPPED | +-----------------------------+----------------+------------------------------+--------------+---------------------------+ | RHEL9 (ARM) | PASS | SKIPPED | SKIPPED | SKIPPED | +-----------------------------+----------------+------------------------------+--------------+---------------------------+ | Ubuntu 22.04 (ARM) | PASS | SKIPPED | SKIPPED | SKIPPED | +-----------------------------+----------------+------------------------------+--------------+---------------------------+ | Ubuntu 24.04 (ARM) | PASS | SKIPPED | SKIPPED | SKIPPED | +-----------------------------+----------------+------------------------------+--------------+---------------------------+ | Ubuntu 20.04 ARM SVE | SKIPPED | SKIPPED | PASS | SKIPPED | +-----------------------------+----------------+------------------------------+--------------+---------------------------+ 32-bit Ubuntu 22.04.4 (ARM) Kernel: 5.15.83+ aarch64 Compiler: gcc (Ubuntu 11.4.0-1ubuntu1~22.04) 11.4.0 CentOS Stream 10 (ARM) Kernel: Depends on container host Compiler: gcc 14.2.1 20241104 (Red Hat 14.2.1-6) Fedora 40 (ARM) Kernel: Depends on container host Compiler: gcc 14.2.1 20240912 (Red Hat 14.2.1-3) CentOS Stream 9 (ARM) Kernel: Depends on container host Compiler: gcc 11.5.0 20240719 (Red Hat 11.5.0-2) Debian 12 (arm) Kernel: Depends on container host Compiler: gcc (Debian 12.2.0-14) 12.2.0 Debian 11 (Buster) (ARM) Kernel: Depends on container host Compiler: gcc (Debian 10.2.1-6) 10.2.1 20210110 Fedora 41 (ARM) Kernel: Depends on container host Compiler: gcc 14.2.1 20240912 (Red Hat 14.2.1-3) Fedora 40 (ARM Clang) Kernel: Depends on container host Compiler: clang 18.1.8 (Fedora 18.1.8-1.fc40) Fedora 41 (ARM Clang) Kernel: Depends on container host Compiler: clang 19.1.5 (Fedora 19.1.5-1.fc41) Ubuntu 20.04 (ARM) Kernel: Depends on container host Compiler: gcc (Ubuntu 9.4.0-1ubuntu1~20.04.2) 9.4.0 RHEL9 (ARM) Kernel: Depends on container host Compiler: gcc 11.5.0 20240719 (Red Hat 11.5.0-2) Ubuntu 22.04 (ARM) Kernel: Depends on container host Compiler: gcc (Ubuntu 11.4.0-1ubuntu1~22.04) 11.4.0 Ubuntu 24.04 (ARM) Kernel: Depends on container host Compiler: gcc (Ubuntu 13.3.0-6ubuntu2~24.04) 13.3.0 Ubuntu 20.04 ARM SVE Kernel: Depends on container host Compiler: gcc (Ubuntu 10.5.0-1ubuntu1~20.04) 10.5.0 To view detailed results, visit: https://lab.dpdk.org/results/dashboard/patchsets/32587/ UNH-IOL DPDK Community Lab To manage your email subscriptions, visit: https://lab.dpdk.org/results/dashboard/preferences/subscriptions/