From mboxrd@z Thu Jan 1 00:00:00 1970 Return-Path: Received: from mails.dpdk.org (mails.dpdk.org [217.70.189.124]) by inbox.dpdk.org (Postfix) with ESMTP id 2DCB54623E for ; Sun, 16 Feb 2025 20:54:48 +0100 (CET) Received: from mails.dpdk.org (localhost [127.0.0.1]) by mails.dpdk.org (Postfix) with ESMTP id 25CDB400EF; Sun, 16 Feb 2025 20:54:48 +0100 (CET) Received: from mail-pl1-f226.google.com (mail-pl1-f226.google.com [209.85.214.226]) by mails.dpdk.org (Postfix) with ESMTP id B70FE400D6 for ; Sun, 16 Feb 2025 20:54:47 +0100 (CET) Received: by mail-pl1-f226.google.com with SMTP id d9443c01a7336-2212a930001so9145605ad.0 for ; Sun, 16 Feb 2025 11:54:47 -0800 (PST) DKIM-Signature: v=1; a=rsa-sha256; c=relaxed/relaxed; d=iol.unh.edu; s=unh-iol; t=1739735687; x=1740340487; darn=dpdk.org; h=references:in-reply-to:cc:to:from:subject:message-id:date:from:to :cc:subject:date:message-id:reply-to; bh=CjKNn0M0FhyU3TxElfICJyQl03EkM/3e8H1hP7fmj2g=; b=bwSDUtORB5T0dWkaFgcA5RA4eWxYwVklE56TqFyjGCgQYSyt/6GZN93+qGXctJAjWC 2RpsYb+2OrQt1d4qHJCxboQXlknH1gjB4V6N7EorYdAVnFz4yikbx02dnUsmms3ffaT8 7lDsV6Q5cKGePHALMkBvcONBIivwN6L4hOqu0= X-Google-DKIM-Signature: v=1; a=rsa-sha256; c=relaxed/relaxed; d=1e100.net; s=20230601; t=1739735687; x=1740340487; h=references:in-reply-to:cc:to:from:subject:message-id:date :x-gm-message-state:from:to:cc:subject:date:message-id:reply-to; bh=CjKNn0M0FhyU3TxElfICJyQl03EkM/3e8H1hP7fmj2g=; b=IbnuTbE41RYI5C39fjsyTn0eUSXl5KGDlJoCJMvVq1Xpwx/kOIHLsIMvtI78TS4ly0 IHowB+YChd/AIMf3veHNca7wjCWQ5tUvaoeVm3n/OBL2Tb6Hkd/sh4GIS9f7MxCR6ub6 1rLY7PGAvAWhjf+Ur9tVk7c53XwLc4TdCqh5SDv4vZWdVbsVTpVoQHomPTIbM9LaqDDI GcrYReaAcKLfn9S7O9nb/0DosqIKkUiY1zNim8HM76yKVSliGdQPGsePzJJ6oY9nn62t 4e+XbXBSAE8xbl3dgePHIv8cN53VgUBHLa6htY1auC/AxUcAE5GwW5UsjON7jRUlqmj4 B2tQ== X-Gm-Message-State: AOJu0YxtX/gPMljk/TaK0oNXDU+iuTLjitvwAlgeAKD+NY0UZzJIi7DW a6QtpBSCrflOiYd3PBUpq4QgTttoY7lxuXO0SEt7Txi+ABf/Gu8BaKesMH2ac89oNYZq20HM4C7 dCq333KjgYJQZ6OVwtp3BCqbkuSEfrb/+7qhzZy6/ X-Gm-Gg: ASbGncvx/BfRaDggX3cUmQ/thP9AgGWYmxgyJh6SQc9/+lkHy4DwO0dZmGCyWonx2bM X2ExUMk+zJY85i/xAnR2RZQ4KmJ4xT1becboZCtuq8AWqLQCUHdw2me5UCcvexzzNQhZ0ojDO0I 8Re9AomsyKGVq5t3hw44CV8apco6L/NZI74SnDM3tOg1FpFlqIOudiPOag7xbr50t1SbRFdokfp cob0/m6Gcgkc4bEHYLAvkGp9LerdPqv8ZOq9PHtpXxAxfK0zZmnPbmcDz5otXIVmTPhKzzXv/Y7 WmCDo+pGC3wbaFUzrqkNFpFmC107jw== X-Google-Smtp-Source: AGHT+IHhLEP8tBedHlWEhOG/QpYLi/KzrRoiaK0DUfYab9ME/FhGYHw63eZOW6Zvjoa+nbkCEJ7wg5WbZLHg X-Received: by 2002:a17:902:f706:b0:21f:35fd:1b57 with SMTP id d9443c01a7336-221040be680mr110494725ad.43.1739735687055; Sun, 16 Feb 2025 11:54:47 -0800 (PST) Received: from postal.iol.unh.edu (postal.iol.unh.edu. [132.177.123.84]) by smtp-relay.gmail.com with ESMTPS id d9443c01a7336-220d53f9f94sm3788585ad.78.2025.02.16.11.54.46 (version=TLS1_2 cipher=ECDHE-ECDSA-AES128-GCM-SHA256 bits=128/128); Sun, 16 Feb 2025 11:54:47 -0800 (PST) X-Relaying-Domain: iol.unh.edu Date: Sun, 16 Feb 2025 11:54:47 -0800 (PST) Message-ID: <67b24287.170a0220.86224.3725SMTPIN_ADDED_MISSING@mx.google.com> Received: from [172.21.0.5] (unknown [172.18.0.240]) by postal.iol.unh.edu (Postfix) with ESMTP id 2DD926052471; Sun, 16 Feb 2025 14:54:46 -0500 (EST) Subject: |SUCCESS| pw151531 [PATCH] crypto/cnxk: fix status code in asymmetri From: dpdklab@iol.unh.edu To: Test Report Cc: dpdk-test-reports@iol.unh.edu In-Reply-To: <20250216142510.1467-1-gmuthukrishn@marvell.com> References: <20250216142510.1467-1-gmuthukrishn@marvell.com> Content-Type: text/plain X-BeenThere: test-report@dpdk.org X-Mailman-Version: 2.1.29 Precedence: list List-Id: automatic DPDK test reports List-Unsubscribe: , List-Archive: List-Post: List-Help: List-Subscribe: , Errors-To: test-report-bounces@dpdk.org Test-Label: iol-unit-amd64-testing Test-Status: SUCCESS http://dpdk.org/patch/151531 _Testing PASS_ Submitter: Gowrishankar Muthukrishnan Date: Sunday, February 16 2025 14:25:07 DPDK git baseline: Repo:dpdk Branch: master CommitID:e5176f23ae8b31437c3e5eb875c81f95bf3a9942 151531 --> testing pass Upstream job id: Generic-Unit-Test-DPDK#315449 Test environment and result as below: +-------------------+----------------+ | Environment | dpdk_unit_test | +===================+================+ | Debian Bullseye | PASS | +-------------------+----------------+ | CentOS Stream 9 | PASS | +-------------------+----------------+ | CentOS Stream 10 | PASS | +-------------------+----------------+ | Debian 12 | PASS | +-------------------+----------------+ | Fedora 40 | PASS | +-------------------+----------------+ | Fedora 40 (Clang) | PASS | +-------------------+----------------+ | RHEL8 | PASS | +-------------------+----------------+ | Fedora 41 | PASS | +-------------------+----------------+ | RHEL9 | PASS | +-------------------+----------------+ | Fedora 41 (Clang) | PASS | +-------------------+----------------+ | Ubuntu 20.04 | PASS | +-------------------+----------------+ | Ubuntu 24.04 | PASS | +-------------------+----------------+ | Ubuntu 22.04 | PASS | +-------------------+----------------+ Debian Bullseye Kernel: Depends on container host Compiler: gcc (Debian 10.2.1-6) 10.2.1 20210110 CentOS Stream 9 Kernel: Depends on container host Compiler: gcc 11.5.0 20240719 (Red Hat 11.5.0-2) CentOS Stream 10 Kernel: Depends on container host Compiler: gcc 14.2.1 20241104 (Red Hat 14.2.1-6) Debian 12 Kernel: Depends on container host Compiler: gcc (Debian 12.2.0-14) 12.2.0 Fedora 40 Kernel: Depends on container host Compiler: gcc 14.2.1 20240912 (Red Hat 14.2.1-3) Fedora 40 (Clang) Kernel: Depends on container host Compiler: clang 18.1.8 (Fedora 18.1.8-1.fc40) RHEL8 Kernel: Depends on container host Compiler: gcc 8.5.0 20210514 (Red Hat 8.5.0-22) Fedora 41 Kernel: Depends on container host Compiler: gcc 14.2.1 20240912 (Red Hat 14.2.1-3) RHEL9 Kernel: Depends on container host Compiler: gcc 11.5.0 20240719 (Red Hat 11.5.0-2) Fedora 41 (Clang) Kernel: Depends on container host Compiler: clang 19.1.5 (Fedora 19.1.5-1.fc41) Ubuntu 20.04 Kernel: Depends on container host Compiler: gcc (Ubuntu 9.4.0-1ubuntu1~20.04.2) 9.4.0 Ubuntu 24.04 Kernel: Depends on container host Compiler: gcc (Ubuntu 13.3.0-6ubuntu2~24.04) 13.3.0 Ubuntu 22.04 Kernel: Depends on container host Compiler: gcc (Ubuntu 11.4.0-1ubuntu1~22.04) 11.4.0 To view detailed results, visit: https://lab.dpdk.org/results/dashboard/patchsets/32587/ UNH-IOL DPDK Community Lab To manage your email subscriptions, visit: https://lab.dpdk.org/results/dashboard/preferences/subscriptions/