From mboxrd@z Thu Jan 1 00:00:00 1970 Return-Path: Received: from mails.dpdk.org (mails.dpdk.org [217.70.189.124]) by inbox.dpdk.org (Postfix) with ESMTP id BF6F34623E for ; Sun, 16 Feb 2025 21:11:45 +0100 (CET) Received: from mails.dpdk.org (localhost [127.0.0.1]) by mails.dpdk.org (Postfix) with ESMTP id 96E45400EF; Sun, 16 Feb 2025 21:11:45 +0100 (CET) Received: from mail-yw1-f226.google.com (mail-yw1-f226.google.com [209.85.128.226]) by mails.dpdk.org (Postfix) with ESMTP id 37D4C400D6 for ; Sun, 16 Feb 2025 21:11:44 +0100 (CET) Received: by mail-yw1-f226.google.com with SMTP id 00721157ae682-6f47ed1f40dso25868507b3.1 for ; Sun, 16 Feb 2025 12:11:44 -0800 (PST) DKIM-Signature: v=1; a=rsa-sha256; c=relaxed/relaxed; d=iol.unh.edu; s=unh-iol; t=1739736703; x=1740341503; darn=dpdk.org; h=references:in-reply-to:cc:to:from:subject:message-id:date:from:to :cc:subject:date:message-id:reply-to; bh=O6nLMTS0kCwYlUtu3aqavzXkqpD22LjSIHmRyzysR6M=; b=OyqeRmXlr8CstmzeWY0yxvPR/ZAEXkxP+fEdAkQa3PIVSbiffpgLInKFVpGUtivkwh ct6zixA/kJVjwDBgnA4WMkcdIciCHVrt+dNTtJCmUicA/N9G9pAn5sICl1y1Efj1VJmZ AHsAVNNyXifYzLRBX9Ir3uGI1cTxeNw1KZ1aM= X-Google-DKIM-Signature: v=1; a=rsa-sha256; c=relaxed/relaxed; d=1e100.net; s=20230601; t=1739736703; x=1740341503; h=references:in-reply-to:cc:to:from:subject:message-id:date :x-gm-message-state:from:to:cc:subject:date:message-id:reply-to; bh=O6nLMTS0kCwYlUtu3aqavzXkqpD22LjSIHmRyzysR6M=; b=MI6uh/mbobeLUy4oju4IQqnHVAvXxfTWBAxnqrtKVfp1DpE7h34mHumHswHYFRrAET oZX2pQrS1MbAbCDFZFsrZbfXRprDzv4ABzk4lQkL7jxwIQO63/fscGl5LpoP2jFRxh2f 708nfN7+37m+bimxdWk3EOklpxQdWmKn3XG+hxE6w2/4wI4/mAPY4F9da4p/hjmKElYh nMtnece+AYmKoJWPJXjZQVaoiFmWt5t3v6+Bl0XOwolG38kXMZYrdk0DFr5yRyxUAiwR SqAtggEbiCi4T3pB1E518b7elSQUeptK4rpfKaqPvsMrmNMqARgAUi6mNOWlRGIO12l4 S0Eg== X-Gm-Message-State: AOJu0YxQA6aEzjuz+EPdzBQGia0YQ7g1VHpjobjSriiByct076dwnFzQ qeqKPWCeAX0es0AZuWxVSOnIJtnMG07F7GgJXr6qnIyIdb0wgmt87eKTJlhm1cp/AeSLrTyoqMy Ozcqz0vvgh3p6rQNwCiPSAMOkJMJFuAzMyApHbWHFc+Q33qg1ruY8h4T2 X-Gm-Gg: ASbGncvWiLeEOTKZVi4tBAE0Y7exXLXiuNCDIRKYHqzkJnyD0DupfMNK+1b7mfizwM3 3x35XrKOfo+9rG/H4CB4DOV1gsJg4Stn0+7f3B0wkLCXZoAiNA7zPb6mEwHfUkWRKL0JDV8ZHgp TLvyXV9x9kYyP0x7QnfzEAbgYU8ysXOn7YaH1kzBYIxvZd6dZ3RJf95ogEAZQUBJPN2Pr1BwRWI EhNwSIHtHLeuI7WQ8lzHQ8NgIUubBAo+OxbK3OqAJGJ8fubLra7t2SSvI2K/6ytgioLXNjRpep6 Q1lM3W9cWWXLLcDJSL/ICm7olDeFGq+3yVd5M72b2w== X-Google-Smtp-Source: AGHT+IFtNsF7fGjmmrZtU4LVcqpcAJIDr3N8hM7kZl7cpOkqygqxWBcvkbR6XsiH9bJGDEUh/eS4NiNgU9mk X-Received: by 2002:a05:690c:7308:b0:6f6:d405:7010 with SMTP id 00721157ae682-6fb5836613fmr60986767b3.29.1739736703531; Sun, 16 Feb 2025 12:11:43 -0800 (PST) Received: from postal.iol.unh.edu (postal.iol.unh.edu. [2606:4100:3880:1234::84]) by smtp-relay.gmail.com with ESMTPS id 00721157ae682-6fb35d4ef6asm1036537b3.24.2025.02.16.12.11.43 (version=TLS1_2 cipher=ECDHE-ECDSA-AES128-GCM-SHA256 bits=128/128); Sun, 16 Feb 2025 12:11:43 -0800 (PST) X-Relaying-Domain: iol.unh.edu Date: Sun, 16 Feb 2025 12:11:43 -0800 (PST) Message-ID: <67b2467f.050a0220.a5696.5217SMTPIN_ADDED_MISSING@mx.google.com> Received: from [172.17.0.3] (unknown [172.18.0.217]) by postal.iol.unh.edu (Postfix) with ESMTP id 26C846052471; Sun, 16 Feb 2025 15:11:43 -0500 (EST) Subject: |SUCCESS| pw151531 [PATCH] crypto/cnxk: fix status code in asymmetri From: dpdklab@iol.unh.edu To: Test Report Cc: dpdk-test-reports@iol.unh.edu In-Reply-To: <20250216142510.1467-1-gmuthukrishn@marvell.com> References: <20250216142510.1467-1-gmuthukrishn@marvell.com> Content-Type: text/plain X-BeenThere: test-report@dpdk.org X-Mailman-Version: 2.1.29 Precedence: list List-Id: automatic DPDK test reports List-Unsubscribe: , List-Archive: List-Post: List-Help: List-Subscribe: , Errors-To: test-report-bounces@dpdk.org Test-Label: iol-abi-testing Test-Status: SUCCESS http://dpdk.org/patch/151531 _Testing PASS_ Submitter: Gowrishankar Muthukrishnan Date: Sunday, February 16 2025 14:25:07 DPDK git baseline: Repo:dpdk Branch: master CommitID:e5176f23ae8b31437c3e5eb875c81f95bf3a9942 151531 --> testing pass Upstream job id: Generic-DPDK-Compile-ABI#116405 Test environment and result as below: +-------------------+----------+ | Environment | abi_test | +===================+==========+ | CentOS Stream 9 | PASS | +-------------------+----------+ | CentOS Stream 10 | PASS | +-------------------+----------+ | Debian Bullseye | PASS | +-------------------+----------+ | Fedora 40 | PASS | +-------------------+----------+ | Debian 12 | PASS | +-------------------+----------+ | Fedora 40 (Clang) | PASS | +-------------------+----------+ | RHEL9 | PASS | +-------------------+----------+ | Fedora 41 (Clang) | PASS | +-------------------+----------+ | Fedora 41 | PASS | +-------------------+----------+ | openSUSE Leap 15 | PASS | +-------------------+----------+ | RHEL8 | PASS | +-------------------+----------+ | Ubuntu 22.04 | PASS | +-------------------+----------+ | Ubuntu 24.04 | PASS | +-------------------+----------+ CentOS Stream 9 Kernel: Depends on container host Compiler: gcc 11.5.0 20240719 (Red Hat 11.5.0-2) CentOS Stream 10 Kernel: Depends on container host Compiler: gcc 14.2.1 20241104 (Red Hat 14.2.1-6) Debian Bullseye Kernel: Depends on container host Compiler: gcc (Debian 10.2.1-6) 10.2.1 20210110 Fedora 40 Kernel: Depends on container host Compiler: gcc 14.2.1 20240912 (Red Hat 14.2.1-3) Debian 12 Kernel: Depends on container host Compiler: gcc (Debian 12.2.0-14) 12.2.0 Fedora 40 (Clang) Kernel: Depends on container host Compiler: clang 18.1.8 (Fedora 18.1.8-1.fc40) RHEL9 Kernel: Depends on container host Compiler: gcc 11.5.0 20240719 (Red Hat 11.5.0-2) Fedora 41 (Clang) Kernel: Depends on container host Compiler: clang 19.1.5 (Fedora 19.1.5-1.fc41) Fedora 41 Kernel: Depends on container host Compiler: gcc 14.2.1 20240912 (Red Hat 14.2.1-3) openSUSE Leap 15 Kernel: Depends on container host Compiler: gcc (SUSE Linux) 7.5.0 RHEL8 Kernel: Depends on container host Compiler: gcc 8.5.0 20210514 (Red Hat 8.5.0-22) Ubuntu 22.04 Kernel: Depends on container host Compiler: gcc (Ubuntu 11.4.0-1ubuntu1~22.04) 11.4.0 Ubuntu 24.04 Kernel: Depends on container host Compiler: gcc (Ubuntu 13.3.0-6ubuntu2~24.04) 13.3.0 To view detailed results, visit: https://lab.dpdk.org/results/dashboard/patchsets/32587/ UNH-IOL DPDK Community Lab To manage your email subscriptions, visit: https://lab.dpdk.org/results/dashboard/preferences/subscriptions/