From mboxrd@z Thu Jan 1 00:00:00 1970 Return-Path: Received: from mails.dpdk.org (mails.dpdk.org [217.70.189.124]) by inbox.dpdk.org (Postfix) with ESMTP id D1A634623E for ; Sun, 16 Feb 2025 21:23:03 +0100 (CET) Received: from mails.dpdk.org (localhost [127.0.0.1]) by mails.dpdk.org (Postfix) with ESMTP id A6EC8400EF; Sun, 16 Feb 2025 21:23:03 +0100 (CET) Received: from mail-pl1-f227.google.com (mail-pl1-f227.google.com [209.85.214.227]) by mails.dpdk.org (Postfix) with ESMTP id 37007400D6 for ; Sun, 16 Feb 2025 21:23:02 +0100 (CET) Received: by mail-pl1-f227.google.com with SMTP id d9443c01a7336-220c2a87378so50977865ad.1 for ; Sun, 16 Feb 2025 12:23:02 -0800 (PST) DKIM-Signature: v=1; a=rsa-sha256; c=relaxed/relaxed; d=iol.unh.edu; s=unh-iol; t=1739737381; x=1740342181; darn=dpdk.org; h=references:in-reply-to:cc:to:from:subject:message-id:date:from:to :cc:subject:date:message-id:reply-to; bh=Gf10dV3O+RPwAOCtsDFzg9DZrGoq7Olfvca0h9tm6d8=; b=GUjB1FfLoGxPwMws03o5Ys2KCzTrtmYlYoDrhkHhCrYG0bBW9Y5wojL1JRttXwSAu4 9VWa5VTVMWHkuD/2dFna5KKrBomO3ubYgU6CoPjhkRi+vrxzhP7MBvm8ncpSlU8YphQ5 84ABhsV7RFITzvkW9c2IyExdHiDtPXmbj+3fc= X-Google-DKIM-Signature: v=1; a=rsa-sha256; c=relaxed/relaxed; d=1e100.net; s=20230601; t=1739737381; x=1740342181; h=references:in-reply-to:cc:to:from:subject:message-id:date :x-gm-message-state:from:to:cc:subject:date:message-id:reply-to; bh=Gf10dV3O+RPwAOCtsDFzg9DZrGoq7Olfvca0h9tm6d8=; b=FKEvh9pUsnBchsGjjIYbAIh7RIGoCUiXsnOUpJHUaFHKaSdDSGt+8tSut7de1ovb4B 480Rg4j5QEmR8HF/KDYt1j++fuchlIIoENznU45lAY7ZxYyNgIcb43jtEWQM5WMjhyej xrJ16esePP7gs3jX0bLyF0wtLS2YJSV/tix87CDrRaKTerxNSIugQ/g0wIN2G0g/TXm+ spt68k+TCtz/G8cu9fnHIQ27IQSrmpOx2onOkHsWrsQNIuxp768675aY9IDh5dnGYl88 nAxS2LMFW9WZjIYiUP4L3Ha0V4FFuX2YqE1XJnagqvVYuxmLf7Dp8iKZUppMU+crW6iG 3HPA== X-Gm-Message-State: AOJu0YwAx4Yu4/kDCBxfrsDkJElE6tIn5Mtk1SrTKkyDTihDlZokHVXc 7yiqegJfrkfMK3FeOuQ9zZgKUR5meKER/XCHJ8amRM8wlNk/KCm0V1sTojoLnNUhzGAMYsAZqRu huHzjByRTmR1PXC2eDrA9Bu+xtFLzF73syXEoV/DD8zvRIrEFz20aUUML X-Gm-Gg: ASbGncuKOlEueFnJz38tjBOBdxeUujGm1yUP1Iobtv4HNFZ2xOIYr3k+OdSWEQruIlK kW3OOQ063Zs02a19MJiZ+ucLf+Y7tu61CfiVoKIDS2lPuFj1oU8WrxLRQhriV295AOix2pPyr9r 2EU/qTdkaz7AS2967sy7V7WSB4TEwdzXzeO+Fj7aUTKYUkIolTgUyco7OiMhb7g/yO58KVp1fk+ wmMVTgac/seJMC6I1tiOdsDgjLzaNgOFDsbMBEcWe2H+OmyR7HJcRDB2gR0+kOZoA2WZhmoQGQJ zvawmJ20szeguwevsKZ4y7PbnfiRPBaFEMrXHkd+pg== X-Google-Smtp-Source: AGHT+IH2n/R5gdLyftEGGscJ5c/8vWgQjEeephBbxIKjDnu+/L3qOA9tkCtjBsOfDsLSvaPT3jt4m3l/xlgz X-Received: by 2002:a05:6a00:1903:b0:730:75b1:721b with SMTP id d2e1a72fcca58-732618b7d2amr12738300b3a.18.1739737380067; Sun, 16 Feb 2025 12:23:00 -0800 (PST) Received: from postal.iol.unh.edu (postal.iol.unh.edu. [2606:4100:3880:1234::84]) by smtp-relay.gmail.com with ESMTPS id d2e1a72fcca58-7325f140ce3sm345390b3a.19.2025.02.16.12.22.59 (version=TLS1_2 cipher=ECDHE-ECDSA-AES128-GCM-SHA256 bits=128/128); Sun, 16 Feb 2025 12:23:00 -0800 (PST) X-Relaying-Domain: iol.unh.edu Date: Sun, 16 Feb 2025 12:23:00 -0800 (PST) Message-ID: <67b24924.050a0220.365ac6.180cSMTPIN_ADDED_MISSING@mx.google.com> Received: from [172.17.0.3] (unknown [172.18.0.217]) by postal.iol.unh.edu (Postfix) with ESMTP id 2642C6052471; Sun, 16 Feb 2025 15:22:59 -0500 (EST) Subject: |SUCCESS| pw151532 [PATCH] crypto/openssl: validate incorrect signat From: dpdklab@iol.unh.edu To: Test Report Cc: dpdk-test-reports@iol.unh.edu In-Reply-To: <20250216142822.1508-1-gmuthukrishn@marvell.com> References: <20250216142822.1508-1-gmuthukrishn@marvell.com> Content-Type: text/plain X-BeenThere: test-report@dpdk.org X-Mailman-Version: 2.1.29 Precedence: list List-Id: automatic DPDK test reports List-Unsubscribe: , List-Archive: List-Post: List-Help: List-Subscribe: , Errors-To: test-report-bounces@dpdk.org Test-Label: iol-compile-arm64-testing Test-Status: SUCCESS http://dpdk.org/patch/151532 _Testing PASS_ Submitter: Gowrishankar Muthukrishnan Date: Sunday, February 16 2025 14:28:19 DPDK git baseline: Repo:dpdk Branch: master CommitID:e5176f23ae8b31437c3e5eb875c81f95bf3a9942 151532 --> testing pass Upstream job id: Generic-DPDK-Compile-Meson#362157 Test environment and result as below: +----------------------------------------+--------------------+ | Environment | dpdk_meson_compile | +========================================+====================+ | RHEL9 (ARM) | PASS | +----------------------------------------+--------------------+ | Fedora 40 (ARM) | PASS | +----------------------------------------+--------------------+ | Ubuntu 20.04 ARM SVE | PASS | +----------------------------------------+--------------------+ | Ubuntu 20.04 ARM GCC Cross Compile | PASS | +----------------------------------------+--------------------+ | Debian 12 with MUSDK | PASS | +----------------------------------------+--------------------+ | Fedora 41 (ARM Clang) | PASS | +----------------------------------------+--------------------+ | Fedora 40 (ARM Clang) | PASS | +----------------------------------------+--------------------+ | Fedora 41 (ARM) | PASS | +----------------------------------------+--------------------+ | Ubuntu 20.04 (ARM) | PASS | +----------------------------------------+--------------------+ | Ubuntu 22.04 (ARM) | PASS | +----------------------------------------+--------------------+ | CentOS Stream 10 (ARM) | PASS | +----------------------------------------+--------------------+ | Ubuntu 24.04 (ARM) | PASS | +----------------------------------------+--------------------+ | Debian 12 (arm) | PASS | +----------------------------------------+--------------------+ | Debian 11 (Buster) (ARM) | PASS | +----------------------------------------+--------------------+ | Ubuntu 20.04 ARM Clang Cross Compile | PASS | +----------------------------------------+--------------------+ | Ubuntu 20.04 aarch32 GCC Cross Compile | PASS | +----------------------------------------+--------------------+ | CentOS Stream 9 (ARM) | PASS | +----------------------------------------+--------------------+ RHEL9 (ARM) Kernel: Depends on container host Compiler: gcc 11.5.0 20240719 (Red Hat 11.5.0-2) Fedora 40 (ARM) Kernel: Depends on container host Compiler: gcc 14.2.1 20240912 (Red Hat 14.2.1-3) Ubuntu 20.04 ARM SVE Kernel: Depends on container host Compiler: gcc (Ubuntu 10.5.0-1ubuntu1~20.04) 10.5.0 Ubuntu 20.04 ARM GCC Cross Compile Kernel: Depends on container host Compiler: aarch64-linux-gnu-gcc (Ubuntu 9.4.0-1ubuntu1~20.04.2) 9.4.0 Debian 12 with MUSDK Kernel: Depends on container host Compiler: gcc (Debian 12.2.0-14) 12.2.0 Fedora 41 (ARM Clang) Kernel: Depends on container host Compiler: clang 19.1.5 (Fedora 19.1.5-1.fc41) Fedora 40 (ARM Clang) Kernel: Depends on container host Compiler: clang 18.1.8 (Fedora 18.1.8-1.fc40) Fedora 41 (ARM) Kernel: Depends on container host Compiler: gcc 14.2.1 20240912 (Red Hat 14.2.1-3) Ubuntu 20.04 (ARM) Kernel: Depends on container host Compiler: gcc (Ubuntu 9.4.0-1ubuntu1~20.04.2) 9.4.0 Ubuntu 22.04 (ARM) Kernel: Depends on container host Compiler: gcc (Ubuntu 11.4.0-1ubuntu1~22.04) 11.4.0 CentOS Stream 10 (ARM) Kernel: Depends on container host Compiler: gcc 14.2.1 20241104 (Red Hat 14.2.1-6) Ubuntu 24.04 (ARM) Kernel: Depends on container host Compiler: gcc (Ubuntu 13.3.0-6ubuntu2~24.04) 13.3.0 Debian 12 (arm) Kernel: Depends on container host Compiler: gcc (Debian 12.2.0-14) 12.2.0 Debian 11 (Buster) (ARM) Kernel: Depends on container host Compiler: gcc (Debian 10.2.1-6) 10.2.1 20210110 Ubuntu 20.04 ARM Clang Cross Compile Kernel: Depends on container host Compiler: clang 10.0.0-4ubuntu1 Ubuntu 20.04 aarch32 GCC Cross Compile Kernel: Depends on container host Compiler: gcc 9.4.0 CentOS Stream 9 (ARM) Kernel: Depends on container host Compiler: gcc 11.5.0 20240719 (Red Hat 11.5.0-2) To view detailed results, visit: https://lab.dpdk.org/results/dashboard/patchsets/32588/ UNH-IOL DPDK Community Lab To manage your email subscriptions, visit: https://lab.dpdk.org/results/dashboard/preferences/subscriptions/