From mboxrd@z Thu Jan 1 00:00:00 1970 Return-Path: Received: from mails.dpdk.org (mails.dpdk.org [217.70.189.124]) by inbox.dpdk.org (Postfix) with ESMTP id 79E264623F for ; Sun, 16 Feb 2025 22:06:20 +0100 (CET) Received: from mails.dpdk.org (localhost [127.0.0.1]) by mails.dpdk.org (Postfix) with ESMTP id 19B60400EF; Sun, 16 Feb 2025 22:06:20 +0100 (CET) Received: from mail-il1-f228.google.com (mail-il1-f228.google.com [209.85.166.228]) by mails.dpdk.org (Postfix) with ESMTP id 91BF2400D6 for ; Sun, 16 Feb 2025 22:06:18 +0100 (CET) Received: by mail-il1-f228.google.com with SMTP id e9e14a558f8ab-3ce87d31480so12842375ab.2 for ; Sun, 16 Feb 2025 13:06:18 -0800 (PST) DKIM-Signature: v=1; a=rsa-sha256; c=relaxed/relaxed; d=iol.unh.edu; s=unh-iol; t=1739739978; x=1740344778; darn=dpdk.org; h=references:in-reply-to:cc:to:from:subject:message-id:date:from:to :cc:subject:date:message-id:reply-to; bh=6H8pjuFXd5L1B/sPwKAWGcJHok6zpmm3mzl0iIefVAg=; b=HQz70Jze+iLXALRSaHOOnPQUYj0EBLuJL9//awb+vt8K8sWMWbgdyjNDdTbR7xDuVy OY2p3/tFNrgADKHKH5SjCC6ZgHV63NhOdYt7m2FPaF1Xs1++ukT1h4vBnRBj2WgCOzOW 3GUsAYR4sC6AgpcYbifX4vDdHXsdmJaIC0rkc= X-Google-DKIM-Signature: v=1; a=rsa-sha256; c=relaxed/relaxed; d=1e100.net; s=20230601; t=1739739978; x=1740344778; h=references:in-reply-to:cc:to:from:subject:message-id:date :x-gm-message-state:from:to:cc:subject:date:message-id:reply-to; bh=6H8pjuFXd5L1B/sPwKAWGcJHok6zpmm3mzl0iIefVAg=; b=RB1gW/8BUzlPZXLZynIvr9VVyYrdnIGct7vq8zBotgRTconu9ifn9i/PaCMyMQeuyN w2g/n0sm2/d4ly8AA61FAg9iMFQdEf+K9yff3MlFUoZC6ierXZkTswh35BUd1bpR8eiz 1tYlGPSwYoN6Hm0fBasmLC9h+gL61Pd53jJikYcA01STMB/qy4Q4N8oEi5oONyNPcdzn SI7py18orFcEC5AfcsVcPjlW+q2nz0ICZS0ZO+FFn0xWfZ4JoCn7Y/dRnrxvu4z1ZtoI qCbk4I+lsbmVwtXESmwmZo8hh6QDI6g/CvhxxFNQgbLm/tO2xy46Xg3NbcaRrtYUoDZi Zg2Q== X-Gm-Message-State: AOJu0YwuO5jcToMGYTnEwzEmhePO38fZG4cyvdsemoY21ZSldkhA05AW WvrIcJgYDi+PBy2xTJHGgR0jXDpGKkzMojJzsC2ORzgWv6nPyE3kCFt+t9XLu12uzvs4dnEZ6Ni McwKKv7agdmpcYN8yZUZAtbYuv715tjXf6jnCo1w4 X-Gm-Gg: ASbGncshgf9a8BdeO1A0bzpruvoeNuMRkEwKOQvrAqMOF79WRmSOdKbllb8Mdx/ByN6 6msR27shvRhhI7LpD6nirZrXuf3byZpscHVhLEW9GZ4aikZA9wfLXPjCX0eTqs9iEDpdwSAaOF3 pjCPTWJ8HVjJCv2QE15RRhSjZkF38Eg7UzCuHt4Ie8DrXZSjTv4Q1TukX/f7RL2LTgKrgcesnNZ TsOIe4XZKwWaz+JcN8p2QcNUt35AC0zss6gvoWtR3YbQEpfU/rW9qsU3C4NhBpDM/XGVLYFvdIo 33VrUMOvewDicvQ3VkjZAeCc2PiI7A== X-Google-Smtp-Source: AGHT+IFVhPQ7pcNRg2vgVe0vhUdARSOx1ZiMIDHv5XJJQjMcS0GBJrI3QKE6MJCUV856aFGC6gP1K85nobnx X-Received: by 2002:a05:6e02:198e:b0:3ce:8b1b:2f with SMTP id e9e14a558f8ab-3d2808d81cemr46532275ab.17.1739739977817; Sun, 16 Feb 2025 13:06:17 -0800 (PST) Received: from postal.iol.unh.edu (postal.iol.unh.edu. [132.177.123.84]) by smtp-relay.gmail.com with ESMTPS id e9e14a558f8ab-3d2853163c2sm2349835ab.25.2025.02.16.13.06.17 (version=TLS1_2 cipher=ECDHE-ECDSA-AES128-GCM-SHA256 bits=128/128); Sun, 16 Feb 2025 13:06:17 -0800 (PST) X-Relaying-Domain: iol.unh.edu Date: Sun, 16 Feb 2025 13:06:17 -0800 (PST) Message-ID: <67b25349.050a0220.9aa80.b724SMTPIN_ADDED_MISSING@mx.google.com> Received: from [172.17.0.3] (unknown [172.18.0.217]) by postal.iol.unh.edu (Postfix) with ESMTP id 5FE366052471; Sun, 16 Feb 2025 16:06:17 -0500 (EST) Subject: |SUCCESS| pw151531 [PATCH] crypto/cnxk: fix status code in asymmetri From: dpdklab@iol.unh.edu To: Test Report Cc: dpdk-test-reports@iol.unh.edu In-Reply-To: <20250216142510.1467-1-gmuthukrishn@marvell.com> References: <20250216142510.1467-1-gmuthukrishn@marvell.com> Content-Type: text/plain X-BeenThere: test-report@dpdk.org X-Mailman-Version: 2.1.29 Precedence: list List-Id: automatic DPDK test reports List-Unsubscribe: , List-Archive: List-Post: List-Help: List-Subscribe: , Errors-To: test-report-bounces@dpdk.org Test-Label: iol-compile-arm64-testing Test-Status: SUCCESS http://dpdk.org/patch/151531 _Testing PASS_ Submitter: Gowrishankar Muthukrishnan Date: Sunday, February 16 2025 14:25:07 DPDK git baseline: Repo:dpdk Branch: master CommitID:e5176f23ae8b31437c3e5eb875c81f95bf3a9942 151531 --> testing pass Upstream job id: Generic-DPDK-Compile-Meson#362191 Test environment and result as below: +----------------------------------------+--------------------+ | Environment | dpdk_meson_compile | +========================================+====================+ | RHEL9 (ARM) | PASS | +----------------------------------------+--------------------+ | Ubuntu 20.04 ARM SVE | PASS | +----------------------------------------+--------------------+ | Debian 12 with MUSDK | PASS | +----------------------------------------+--------------------+ | Fedora 40 (ARM Clang) | PASS | +----------------------------------------+--------------------+ | Fedora 41 (ARM) | PASS | +----------------------------------------+--------------------+ | Fedora 41 (ARM Clang) | PASS | +----------------------------------------+--------------------+ | Ubuntu 22.04 (ARM) | PASS | +----------------------------------------+--------------------+ | CentOS Stream 9 (ARM) | PASS | +----------------------------------------+--------------------+ | Ubuntu 24.04 (ARM) | PASS | +----------------------------------------+--------------------+ | CentOS Stream 10 (ARM) | PASS | +----------------------------------------+--------------------+ | Ubuntu 20.04 aarch32 GCC Cross Compile | PASS | +----------------------------------------+--------------------+ | Debian 11 (Buster) (ARM) | PASS | +----------------------------------------+--------------------+ | Debian 12 (arm) | PASS | +----------------------------------------+--------------------+ | Ubuntu 20.04 ARM Clang Cross Compile | PASS | +----------------------------------------+--------------------+ | Ubuntu 20.04 ARM GCC Cross Compile | PASS | +----------------------------------------+--------------------+ | Fedora 40 (ARM) | PASS | +----------------------------------------+--------------------+ | Ubuntu 20.04 (ARM) | PASS | +----------------------------------------+--------------------+ RHEL9 (ARM) Kernel: Depends on container host Compiler: gcc 11.5.0 20240719 (Red Hat 11.5.0-2) Ubuntu 20.04 ARM SVE Kernel: Depends on container host Compiler: gcc (Ubuntu 10.5.0-1ubuntu1~20.04) 10.5.0 Debian 12 with MUSDK Kernel: Depends on container host Compiler: gcc (Debian 12.2.0-14) 12.2.0 Fedora 40 (ARM Clang) Kernel: Depends on container host Compiler: clang 18.1.8 (Fedora 18.1.8-1.fc40) Fedora 41 (ARM) Kernel: Depends on container host Compiler: gcc 14.2.1 20240912 (Red Hat 14.2.1-3) Fedora 41 (ARM Clang) Kernel: Depends on container host Compiler: clang 19.1.5 (Fedora 19.1.5-1.fc41) Ubuntu 22.04 (ARM) Kernel: Depends on container host Compiler: gcc (Ubuntu 11.4.0-1ubuntu1~22.04) 11.4.0 CentOS Stream 9 (ARM) Kernel: Depends on container host Compiler: gcc 11.5.0 20240719 (Red Hat 11.5.0-2) Ubuntu 24.04 (ARM) Kernel: Depends on container host Compiler: gcc (Ubuntu 13.3.0-6ubuntu2~24.04) 13.3.0 CentOS Stream 10 (ARM) Kernel: Depends on container host Compiler: gcc 14.2.1 20241104 (Red Hat 14.2.1-6) Ubuntu 20.04 aarch32 GCC Cross Compile Kernel: Depends on container host Compiler: gcc 9.4.0 Debian 11 (Buster) (ARM) Kernel: Depends on container host Compiler: gcc (Debian 10.2.1-6) 10.2.1 20210110 Debian 12 (arm) Kernel: Depends on container host Compiler: gcc (Debian 12.2.0-14) 12.2.0 Ubuntu 20.04 ARM Clang Cross Compile Kernel: Depends on container host Compiler: clang 10.0.0-4ubuntu1 Ubuntu 20.04 ARM GCC Cross Compile Kernel: Depends on container host Compiler: aarch64-linux-gnu-gcc (Ubuntu 9.4.0-1ubuntu1~20.04.2) 9.4.0 Fedora 40 (ARM) Kernel: Depends on container host Compiler: gcc 14.2.1 20240912 (Red Hat 14.2.1-3) Ubuntu 20.04 (ARM) Kernel: Depends on container host Compiler: gcc (Ubuntu 9.4.0-1ubuntu1~20.04.2) 9.4.0 To view detailed results, visit: https://lab.dpdk.org/results/dashboard/patchsets/32587/ UNH-IOL DPDK Community Lab To manage your email subscriptions, visit: https://lab.dpdk.org/results/dashboard/preferences/subscriptions/