From mboxrd@z Thu Jan 1 00:00:00 1970 Return-Path: Received: from mails.dpdk.org (mails.dpdk.org [217.70.189.124]) by inbox.dpdk.org (Postfix) with ESMTP id D1C9746245 for ; Mon, 17 Feb 2025 09:52:18 +0100 (CET) Received: from mails.dpdk.org (localhost [127.0.0.1]) by mails.dpdk.org (Postfix) with ESMTP id AA7E9400D5; Mon, 17 Feb 2025 09:52:18 +0100 (CET) Received: from mail-qt1-f227.google.com (mail-qt1-f227.google.com [209.85.160.227]) by mails.dpdk.org (Postfix) with ESMTP id 06CD740041 for ; Mon, 17 Feb 2025 09:52:17 +0100 (CET) Received: by mail-qt1-f227.google.com with SMTP id d75a77b69052e-471f4909650so2959031cf.2 for ; Mon, 17 Feb 2025 00:52:16 -0800 (PST) DKIM-Signature: v=1; a=rsa-sha256; c=relaxed/relaxed; d=iol.unh.edu; s=unh-iol; t=1739782336; x=1740387136; darn=dpdk.org; h=references:in-reply-to:cc:to:from:subject:message-id:date:from:to :cc:subject:date:message-id:reply-to; bh=sYpgAfp1Lb1sPBTA3G3Vn2NsfEkQDN0v0+Fq54jqbAw=; b=AyA6gb207acXjyAbfB+w9Un+U98rqfHOBqAzwXUJvRiywuSPDW7DwTfOfWecn1yuKa 2v2uDFZcgwZz6AYisdUqUv6ohwOPd0QDsPSFMTPFXoiDAV+qRjJsip35jy+BXUGpz6y2 tEX9bM85FWelXOeagRTdUZrcKDL28K72EvOnQ= X-Google-DKIM-Signature: v=1; a=rsa-sha256; c=relaxed/relaxed; d=1e100.net; s=20230601; t=1739782336; x=1740387136; h=references:in-reply-to:cc:to:from:subject:message-id:date :x-gm-message-state:from:to:cc:subject:date:message-id:reply-to; bh=sYpgAfp1Lb1sPBTA3G3Vn2NsfEkQDN0v0+Fq54jqbAw=; b=ndl708hgNqv7/TkBxGfOVk4jU2LUUllJUg1UUxv2XcYxCcCo+E1qgNSXQZ2XK8zJxN 9mmulONOyaLY7KjQ/PBLTd2dTuP1E8xJj18AmtdSLuei0PbC13zHBL6tyLMqgHGKU4Wd nO8HXGk+GYRGUfpeK+WQRRyfNp6lod+V+W3q1oTOUfPcqzSvZkkUvgDPk2pT7IefH8TZ cxoM3GU+cMIMdh+gUcohIHgcKdf5gOwav3UE5b6ELkXRn3wBlocPwh+i+6Qm+jbFmLi4 bbo3KTQBm7JUze4u+rFThFKshJxCiOAVzyCLwKAynYt9Tx7WyM8z8q6Xue23s9R6iqRf iPag== X-Gm-Message-State: AOJu0Yz6fZyGWa1i9pEA8J8+z6MvCsdkr+y0OoXjWuaraDYCIRiFLF90 XH17PlrIvCpr93tFzOU9EwOb3KbfGlYxwlDJKM8A1MFY6rcOkWkLdXNWIX/UevS6fuXuETnjVzf VgD1M9HF3oMYQ7ReWKyxzq+wONux3D3Pa2wpjrkzZm8Z8O0FICrqxqqM8 X-Gm-Gg: ASbGncuAhR5ZNRBTz8W5k/B4u9MA42QCavL8idYDiPcxeCsEgnrqu9+peIJnAAiilJm DUfQVEExTx94Bn2SWhBgmzZHZ2pTG42+VpWuQidV5PlCRUqitmvT9fwLTkqHBlhKpJlLT0mGqy4 g44NONFYGctPRpegnOvgsjfGolzXuhzRtzrlXoJ7nChMyXLPz3LVawXzDmKd6HQN9s3PBM/u3Ij 2Tmcc1mLv1Em/E92FiJV8e2dpRqDAzpLhNWdt+CNf+gxsbAv/d9bCP3T8+vd5IIF7K1skZBrd+D zDck0qB399XwZuYOk4ITjzSrHBSm8ngnHDEiO3fxUQ== X-Google-Smtp-Source: AGHT+IEjG3b0vAtR/3DfN6NJ81cP7uFvhQ4lO2nc51iQa+wmuV5Ap5D7tz4KNV/WeCa3qSZQWbGStDJFGFtY X-Received: by 2002:a05:622a:40cf:b0:471:b10c:122a with SMTP id d75a77b69052e-471dbe8fb71mr133293011cf.44.1739782336403; Mon, 17 Feb 2025 00:52:16 -0800 (PST) Received: from postal.iol.unh.edu (postal.iol.unh.edu. [2606:4100:3880:1234::84]) by smtp-relay.gmail.com with ESMTPS id d75a77b69052e-471dca0ad29sm2543891cf.12.2025.02.17.00.52.16 (version=TLS1_2 cipher=ECDHE-ECDSA-AES128-GCM-SHA256 bits=128/128); Mon, 17 Feb 2025 00:52:16 -0800 (PST) X-Relaying-Domain: iol.unh.edu Date: Mon, 17 Feb 2025 00:52:16 -0800 (PST) Message-ID: <67b2f8c0.050a0220.161561.c288SMTPIN_ADDED_MISSING@mx.google.com> Received: from [172.21.0.6] (unknown [172.18.0.240]) by postal.iol.unh.edu (Postfix) with ESMTP id C92A76052471; Mon, 17 Feb 2025 03:52:15 -0500 (EST) Subject: |SUCCESS| pw151552 [PATCH] net/mlx5: support ESP in non-template RSS From: dpdklab@iol.unh.edu To: Test Report Cc: dpdk-test-reports@iol.unh.edu In-Reply-To: <20250217071316.37195-1-getelson@nvidia.com> References: <20250217071316.37195-1-getelson@nvidia.com> Content-Type: text/plain X-BeenThere: test-report@dpdk.org X-Mailman-Version: 2.1.29 Precedence: list List-Id: automatic DPDK test reports List-Unsubscribe: , List-Archive: List-Post: List-Help: List-Subscribe: , Errors-To: test-report-bounces@dpdk.org Test-Label: iol-unit-arm64-testing Test-Status: SUCCESS http://dpdk.org/patch/151552 _Testing PASS_ Submitter: Gregory Etelson Date: Monday, February 17 2025 07:13:16 DPDK git baseline: Repo:dpdk Branch: master CommitID:046cca99c3fd03bfb95d3e27a56aab40c2c8f45a 151552 --> testing pass Upstream job id: Generic-Unit-Test-DPDK#315502 Test environment and result as below: +-----------------------------+----------------+--------------+---------------------------+------------------------------+ | Environment | dpdk_unit_test | lpm_autotest | cryptodev_sw_zuc_autotest | cryptodev_sw_snow3g_autotest | +=============================+================+==============+===========================+==============================+ | 32-bit Ubuntu 22.04.4 (ARM) | PASS | SKIPPED | SKIPPED | SKIPPED | +-----------------------------+----------------+--------------+---------------------------+------------------------------+ | CentOS Stream 9 (ARM) | PASS | SKIPPED | SKIPPED | SKIPPED | +-----------------------------+----------------+--------------+---------------------------+------------------------------+ | CentOS Stream 10 (ARM) | PASS | SKIPPED | SKIPPED | SKIPPED | +-----------------------------+----------------+--------------+---------------------------+------------------------------+ | Debian 11 (Buster) (ARM) | PASS | SKIPPED | SKIPPED | SKIPPED | +-----------------------------+----------------+--------------+---------------------------+------------------------------+ | Fedora 40 (ARM) | PASS | SKIPPED | SKIPPED | SKIPPED | +-----------------------------+----------------+--------------+---------------------------+------------------------------+ | Debian 12 (arm) | PASS | SKIPPED | PASS | PASS | +-----------------------------+----------------+--------------+---------------------------+------------------------------+ | Fedora 41 (ARM Clang) | PASS | SKIPPED | SKIPPED | SKIPPED | +-----------------------------+----------------+--------------+---------------------------+------------------------------+ | Fedora 40 (ARM Clang) | PASS | SKIPPED | SKIPPED | SKIPPED | +-----------------------------+----------------+--------------+---------------------------+------------------------------+ | RHEL9 (ARM) | PASS | SKIPPED | SKIPPED | SKIPPED | +-----------------------------+----------------+--------------+---------------------------+------------------------------+ | Fedora 41 (ARM) | PASS | SKIPPED | SKIPPED | SKIPPED | +-----------------------------+----------------+--------------+---------------------------+------------------------------+ | Ubuntu 24.04 (ARM) | PASS | SKIPPED | SKIPPED | SKIPPED | +-----------------------------+----------------+--------------+---------------------------+------------------------------+ | Ubuntu 22.04 (ARM) | PASS | SKIPPED | SKIPPED | SKIPPED | +-----------------------------+----------------+--------------+---------------------------+------------------------------+ | Ubuntu 20.04 (ARM) | PASS | SKIPPED | SKIPPED | SKIPPED | +-----------------------------+----------------+--------------+---------------------------+------------------------------+ | Ubuntu 20.04 ARM SVE | SKIPPED | PASS | SKIPPED | SKIPPED | +-----------------------------+----------------+--------------+---------------------------+------------------------------+ 32-bit Ubuntu 22.04.4 (ARM) Kernel: 5.15.83+ aarch64 Compiler: gcc (Ubuntu 11.4.0-1ubuntu1~22.04) 11.4.0 CentOS Stream 9 (ARM) Kernel: Depends on container host Compiler: gcc 11.5.0 20240719 (Red Hat 11.5.0-2) CentOS Stream 10 (ARM) Kernel: Depends on container host Compiler: gcc 14.2.1 20241104 (Red Hat 14.2.1-6) Debian 11 (Buster) (ARM) Kernel: Depends on container host Compiler: gcc (Debian 10.2.1-6) 10.2.1 20210110 Fedora 40 (ARM) Kernel: Depends on container host Compiler: gcc 14.2.1 20240912 (Red Hat 14.2.1-3) Debian 12 (arm) Kernel: Depends on container host Compiler: gcc (Debian 12.2.0-14) 12.2.0 Fedora 41 (ARM Clang) Kernel: Depends on container host Compiler: clang 19.1.5 (Fedora 19.1.5-1.fc41) Fedora 40 (ARM Clang) Kernel: Depends on container host Compiler: clang 18.1.8 (Fedora 18.1.8-1.fc40) RHEL9 (ARM) Kernel: Depends on container host Compiler: gcc 11.5.0 20240719 (Red Hat 11.5.0-2) Fedora 41 (ARM) Kernel: Depends on container host Compiler: gcc 14.2.1 20240912 (Red Hat 14.2.1-3) Ubuntu 24.04 (ARM) Kernel: Depends on container host Compiler: gcc (Ubuntu 13.3.0-6ubuntu2~24.04) 13.3.0 Ubuntu 22.04 (ARM) Kernel: Depends on container host Compiler: gcc (Ubuntu 11.4.0-1ubuntu1~22.04) 11.4.0 Ubuntu 20.04 (ARM) Kernel: Depends on container host Compiler: gcc (Ubuntu 9.4.0-1ubuntu1~20.04.2) 9.4.0 Ubuntu 20.04 ARM SVE Kernel: Depends on container host Compiler: gcc (Ubuntu 10.5.0-1ubuntu1~20.04) 10.5.0 To view detailed results, visit: https://lab.dpdk.org/results/dashboard/patchsets/32592/ UNH-IOL DPDK Community Lab To manage your email subscriptions, visit: https://lab.dpdk.org/results/dashboard/preferences/subscriptions/