From mboxrd@z Thu Jan 1 00:00:00 1970 Return-Path: Received: from mails.dpdk.org (mails.dpdk.org [217.70.189.124]) by inbox.dpdk.org (Postfix) with ESMTP id EECD546247 for ; Mon, 17 Feb 2025 10:05:15 +0100 (CET) Received: from mails.dpdk.org (localhost [127.0.0.1]) by mails.dpdk.org (Postfix) with ESMTP id D5F0E400D6; Mon, 17 Feb 2025 10:05:15 +0100 (CET) Received: from mail-oa1-f98.google.com (mail-oa1-f98.google.com [209.85.160.98]) by mails.dpdk.org (Postfix) with ESMTP id 71C41400D5 for ; Mon, 17 Feb 2025 10:05:14 +0100 (CET) Received: by mail-oa1-f98.google.com with SMTP id 586e51a60fabf-2bcbfad2f8cso401678fac.1 for ; Mon, 17 Feb 2025 01:05:14 -0800 (PST) DKIM-Signature: v=1; a=rsa-sha256; c=relaxed/relaxed; d=iol.unh.edu; s=unh-iol; t=1739783113; x=1740387913; darn=dpdk.org; h=references:in-reply-to:cc:to:from:subject:message-id:date:from:to :cc:subject:date:message-id:reply-to; bh=do8bpSxJ95urqM5B2CsJNyXWdXKglVsbbUo0LW1NZsM=; b=YZOwBdMgG+wwKFB0umgapC6CNkn+Jc+gdelRHXkOhiPg4MkF0rQu1qco2VuMdFY+tw 2ERuGoFSUWz2B6USZ0Yzbm+0KkVkIjI0TZU2pX4psptZlm4Z2hMQb9PUtNSau3N6DZ0z hLWlFXPAqEAg5PhoFgY7YN7Jxejj9vCK4hPms= X-Google-DKIM-Signature: v=1; a=rsa-sha256; c=relaxed/relaxed; d=1e100.net; s=20230601; t=1739783113; x=1740387913; h=references:in-reply-to:cc:to:from:subject:message-id:date :x-gm-message-state:from:to:cc:subject:date:message-id:reply-to; bh=do8bpSxJ95urqM5B2CsJNyXWdXKglVsbbUo0LW1NZsM=; b=FpwLNblb3w4LBKFY9h6Ab/9/aH0eZjdf7g+KtLqnAYxzMbFYyI6W4E+VlRk8sNNUqh JU3LquEVGMKX+2nG8jRcKkvLLI9AjVrDnXZz1wRTMtlydRSngl7WytNEIeM+MP3vlzUM cxPxNcoZZpXa3Uc5QPfL+6ZMz942mnmTz0LYVMeaLDAJmtvvRxNjacy2SzSIfgpxrS9A Dpis+PHfYz9QaykrnluusgRZ3ExoVyD4Ba1Q2DtfRlypR4VkjK9ICkL3sUpgY7J1pBN2 7q+CalHd04ZYSgR6vO3OZRi0et+mDiij5sWkcSbgozhXwvHj3Nva9Dm85gTNaLEdKyL1 PnNA== X-Gm-Message-State: AOJu0YzLHuFUqpRot9IsE0SDN2jAY1UeUugJxF6PGvPaTkOwRGJDWzdw zun2greclPxEXKEuCs+t7A69jcSVTBN/nodeco8q++QIkNkBjUh+Gvd9qzWpBiu51KZBhc5P2UQ 148wH8Hmx9dN2z1n41m2f88oATYbX9Nu5IOUC3L8oYM6RWzpQVyMuHf2o X-Gm-Gg: ASbGnct+X5L5sVJKzMAsD13n8rVSVPTSL9JGDTjpLoY04XJAfwy14Pixnv0YG0IzDkb plb7HMlYy7TbhhH1MiaS06o+lboWbsh9IqrUhhZHmw7NK+xmPYkQRn9QLK+0TXwTFozJ63fzdBj TXzmSyRWont11BcWmTB6wfsbUIsWtG/gyuxtdxNYMclYgffqoQq7KovUG3qgR/AKtNlXLfRLfxn Rlyv9PSl0kDibk/Lc2MLH274Uf2LE4m4N4LNb870MM3D0Ig3HU8kfI1NHsMk5o4dTV8wsjfs7cp ZHZPVlOjDRZCuRn841cvB+axBj9cGLYs0QgfCfyt+Q== X-Google-Smtp-Source: AGHT+IHmEUouTKb6u/qYnITRKcT4euewXF0qCTraAlTs6As2M+kHHDbpFcnxdliGE955AQAnLWmGGqjowkr6 X-Received: by 2002:a05:6870:e97:b0:2b8:e8da:e89c with SMTP id 586e51a60fabf-2bc99d3fcc4mr5883635fac.29.1739783112249; Mon, 17 Feb 2025 01:05:12 -0800 (PST) Received: from postal.iol.unh.edu (postal.iol.unh.edu. [2606:4100:3880:1234::84]) by smtp-relay.gmail.com with ESMTPS id 586e51a60fabf-2b954868450sm513967fac.9.2025.02.17.01.05.11 (version=TLS1_2 cipher=ECDHE-ECDSA-AES128-GCM-SHA256 bits=128/128); Mon, 17 Feb 2025 01:05:12 -0800 (PST) X-Relaying-Domain: iol.unh.edu Date: Mon, 17 Feb 2025 01:05:12 -0800 (PST) Message-ID: <67b2fbc8.050a0220.20591d.8ee0SMTPIN_ADDED_MISSING@mx.google.com> Received: from [172.17.0.3] (unknown [172.18.0.217]) by postal.iol.unh.edu (Postfix) with ESMTP id 417816052471; Mon, 17 Feb 2025 04:05:11 -0500 (EST) Subject: |SUCCESS| pw151552 [PATCH] net/mlx5: support ESP in non-template RSS From: dpdklab@iol.unh.edu To: Test Report Cc: dpdk-test-reports@iol.unh.edu In-Reply-To: <20250217071316.37195-1-getelson@nvidia.com> References: <20250217071316.37195-1-getelson@nvidia.com> Content-Type: text/plain X-BeenThere: test-report@dpdk.org X-Mailman-Version: 2.1.29 Precedence: list List-Id: automatic DPDK test reports List-Unsubscribe: , List-Archive: List-Post: List-Help: List-Subscribe: , Errors-To: test-report-bounces@dpdk.org Test-Label: iol-abi-testing Test-Status: SUCCESS http://dpdk.org/patch/151552 _Testing PASS_ Submitter: Gregory Etelson Date: Monday, February 17 2025 07:13:16 DPDK git baseline: Repo:dpdk Branch: master CommitID:046cca99c3fd03bfb95d3e27a56aab40c2c8f45a 151552 --> testing pass Upstream job id: Generic-DPDK-Compile-ABI#116435 Test environment and result as below: +-------------------+----------+ | Environment | abi_test | +===================+==========+ | CentOS Stream 9 | PASS | +-------------------+----------+ | CentOS Stream 10 | PASS | +-------------------+----------+ | Debian 12 | PASS | +-------------------+----------+ | Debian Bullseye | PASS | +-------------------+----------+ | openSUSE Leap 15 | PASS | +-------------------+----------+ | Fedora 40 (Clang) | PASS | +-------------------+----------+ | Fedora 40 | PASS | +-------------------+----------+ | Fedora 41 (Clang) | PASS | +-------------------+----------+ | Fedora 41 | PASS | +-------------------+----------+ | Ubuntu 24.04 | PASS | +-------------------+----------+ | RHEL9 | PASS | +-------------------+----------+ | RHEL8 | PASS | +-------------------+----------+ | Ubuntu 22.04 | PASS | +-------------------+----------+ CentOS Stream 9 Kernel: Depends on container host Compiler: gcc 11.5.0 20240719 (Red Hat 11.5.0-2) CentOS Stream 10 Kernel: Depends on container host Compiler: gcc 14.2.1 20241104 (Red Hat 14.2.1-6) Debian 12 Kernel: Depends on container host Compiler: gcc (Debian 12.2.0-14) 12.2.0 Debian Bullseye Kernel: Depends on container host Compiler: gcc (Debian 10.2.1-6) 10.2.1 20210110 openSUSE Leap 15 Kernel: Depends on container host Compiler: gcc (SUSE Linux) 7.5.0 Fedora 40 (Clang) Kernel: Depends on container host Compiler: clang 18.1.8 (Fedora 18.1.8-1.fc40) Fedora 40 Kernel: Depends on container host Compiler: gcc 14.2.1 20240912 (Red Hat 14.2.1-3) Fedora 41 (Clang) Kernel: Depends on container host Compiler: clang 19.1.5 (Fedora 19.1.5-1.fc41) Fedora 41 Kernel: Depends on container host Compiler: gcc 14.2.1 20240912 (Red Hat 14.2.1-3) Ubuntu 24.04 Kernel: Depends on container host Compiler: gcc (Ubuntu 13.3.0-6ubuntu2~24.04) 13.3.0 RHEL9 Kernel: Depends on container host Compiler: gcc 11.5.0 20240719 (Red Hat 11.5.0-2) RHEL8 Kernel: Depends on container host Compiler: gcc 8.5.0 20210514 (Red Hat 8.5.0-22) Ubuntu 22.04 Kernel: Depends on container host Compiler: gcc (Ubuntu 11.4.0-1ubuntu1~22.04) 11.4.0 To view detailed results, visit: https://lab.dpdk.org/results/dashboard/patchsets/32592/ UNH-IOL DPDK Community Lab To manage your email subscriptions, visit: https://lab.dpdk.org/results/dashboard/preferences/subscriptions/