From mboxrd@z Thu Jan 1 00:00:00 1970 Return-Path: Received: from mails.dpdk.org (mails.dpdk.org [217.70.189.124]) by inbox.dpdk.org (Postfix) with ESMTP id 574B446247 for ; Mon, 17 Feb 2025 11:14:56 +0100 (CET) Received: from mails.dpdk.org (localhost [127.0.0.1]) by mails.dpdk.org (Postfix) with ESMTP id 38CF0400D6; Mon, 17 Feb 2025 11:14:56 +0100 (CET) Received: from mail-io1-f99.google.com (mail-io1-f99.google.com [209.85.166.99]) by mails.dpdk.org (Postfix) with ESMTP id AB06E400D5 for ; Mon, 17 Feb 2025 11:14:54 +0100 (CET) Received: by mail-io1-f99.google.com with SMTP id ca18e2360f4ac-855799b9d1cso47771639f.1 for ; Mon, 17 Feb 2025 02:14:54 -0800 (PST) DKIM-Signature: v=1; a=rsa-sha256; c=relaxed/relaxed; d=iol.unh.edu; s=unh-iol; t=1739787294; x=1740392094; darn=dpdk.org; h=references:in-reply-to:cc:to:from:subject:message-id:date:from:to :cc:subject:date:message-id:reply-to; bh=3iXmsu80TKWpIQ29z86HT7mpnD1E5zT25R4t0hPU6uQ=; b=gUQu2o59yOoWDxac4R3JQSFJ0wUacPlyBzog/Ucrw0DLbV0hO4frVknyqFxXmlzI+R cEq21qm0fNQXeItEEtUM+VBD4Ff9goqkty/xGip1s5xkdu3p+LjlrcOP1WV9HjItEBM0 Y1W9++VARHcs3Nr6zh+H/zsEWQGD/10ONRyJo= X-Google-DKIM-Signature: v=1; a=rsa-sha256; c=relaxed/relaxed; d=1e100.net; s=20230601; t=1739787294; x=1740392094; h=references:in-reply-to:cc:to:from:subject:message-id:date :x-gm-message-state:from:to:cc:subject:date:message-id:reply-to; bh=3iXmsu80TKWpIQ29z86HT7mpnD1E5zT25R4t0hPU6uQ=; b=VolVjg5kZXisTfBiZzNtdNYyw2EKkMgCBXXuxH8+nTjhI6+meQm2GVeAl6k1J4klLV 6p3nzMbhYD57WfEDvLNcA6v+6MWhOYnX2bAJfiqssLhjrnhWhFHrhuOQR4zg5pZGZW9I /GncBWQi0Iq8tBI7c2Tl7eKUCExgSoADby46t15uvT9jUMOUvKK5ISD2Po/yktsUAMAB Sr0Yq+uvaK2roZT77U9O2Heowd1hw+XlfzzOQEsyQ6/3ZqRoqkeZVXQE6bpUSzITbqUH UlMiPjLc8xAGI1C5rVGVGOqDbAcl/uQjdc/fka61R6th9wJVR4Fjswk961NoUBpTmSgP aLSQ== X-Gm-Message-State: AOJu0Yx2A5v7gxDWAdWx4rnHtME9Qfw6AQg+77Niax/DvX4DJ0EIbxik Vt/WF9bn00Yl+2TDtWmSfX2Zrl9hLk2Pawnv6ACjbNg5w4B1HNJ2uIPbsIhmju75gzY1r3zvdnk nNqoBrKh13E9Z1eBQOxyP4ldJ/uUPUv/GhFwEnQb9JgDATYadpkGPw0PC X-Gm-Gg: ASbGncuabE/2Npk9MQr+yPCVDzEfaSeOzzwjMV4SelBtpCHMU/3Soy501M3q5luJJeq OY4KDeC7jnKVaS8nfWa2E8aSFW6OapfEUGSlkP+2atFaJu5GwcBohYAoPWI5E1IQPS8DAoVZ4xI uXYgt6BfhNNUDLD32jq2tIpTI2K97dcVVei24y7r+REdd3TpdYp4RK1SGEFdA026Lfxpo45UrYe ghmCKJdGbLI3QZVBjFT8AQPQ6/QhH/bOaoSGqsd/TR1Uwx2V8oeF4r2rNSgw89gki8+GglZjAa8 nPdGLi9qk8vdcltklW3jtf5/k1B23nrjHpT+gPFghw== X-Google-Smtp-Source: AGHT+IEUWAbYrWyd7uVcHXWxdRoPVFRvetPlDRf5Xlp76jTyzsWUZnlggyvpfC6A5fh/m+kFLF4/rtoF10DA X-Received: by 2002:a05:6e02:1c2d:b0:3d2:6768:c4fa with SMTP id e9e14a558f8ab-3d280981aa8mr71537765ab.21.1739787293964; Mon, 17 Feb 2025 02:14:53 -0800 (PST) Received: from postal.iol.unh.edu (postal.iol.unh.edu. [2606:4100:3880:1234::84]) by smtp-relay.gmail.com with ESMTPS id 8926c6da1cb9f-4ed28173c46sm575652173.24.2025.02.17.02.14.53 (version=TLS1_2 cipher=ECDHE-ECDSA-AES128-GCM-SHA256 bits=128/128); Mon, 17 Feb 2025 02:14:53 -0800 (PST) X-Relaying-Domain: iol.unh.edu Date: Mon, 17 Feb 2025 02:14:53 -0800 (PST) Message-ID: <67b30c1d.050a0220.2e3ca.d39dSMTPIN_ADDED_MISSING@mx.google.com> Received: from [172.17.0.3] (unknown [172.18.0.217]) by postal.iol.unh.edu (Postfix) with ESMTP id 2FC226052471; Mon, 17 Feb 2025 05:14:53 -0500 (EST) Subject: |SUCCESS| pw151552 [PATCH] net/mlx5: support ESP in non-template RSS From: dpdklab@iol.unh.edu To: Test Report Cc: dpdk-test-reports@iol.unh.edu In-Reply-To: <20250217071316.37195-1-getelson@nvidia.com> References: <20250217071316.37195-1-getelson@nvidia.com> Content-Type: text/plain X-BeenThere: test-report@dpdk.org X-Mailman-Version: 2.1.29 Precedence: list List-Id: automatic DPDK test reports List-Unsubscribe: , List-Archive: List-Post: List-Help: List-Subscribe: , Errors-To: test-report-bounces@dpdk.org Test-Label: iol-compile-arm64-testing Test-Status: SUCCESS http://dpdk.org/patch/151552 _Testing PASS_ Submitter: Gregory Etelson Date: Monday, February 17 2025 07:13:16 DPDK git baseline: Repo:dpdk Branch: master CommitID:046cca99c3fd03bfb95d3e27a56aab40c2c8f45a 151552 --> testing pass Upstream job id: Generic-DPDK-Compile-Meson#362260 Test environment and result as below: +----------------------------------------+--------------------+ | Environment | dpdk_meson_compile | +========================================+====================+ | Ubuntu 20.04 ARM SVE | PASS | +----------------------------------------+--------------------+ | Ubuntu 20.04 ARM GCC Cross Compile | PASS | +----------------------------------------+--------------------+ | RHEL9 (ARM) | PASS | +----------------------------------------+--------------------+ | Debian 12 with MUSDK | PASS | +----------------------------------------+--------------------+ | Fedora 40 (ARM) | PASS | +----------------------------------------+--------------------+ | Fedora 40 (ARM Clang) | PASS | +----------------------------------------+--------------------+ | Fedora 41 (ARM) | PASS | +----------------------------------------+--------------------+ | Fedora 41 (ARM Clang) | PASS | +----------------------------------------+--------------------+ | Ubuntu 20.04 (ARM) | PASS | +----------------------------------------+--------------------+ | CentOS Stream 9 (ARM) | PASS | +----------------------------------------+--------------------+ | Ubuntu 24.04 (ARM) | PASS | +----------------------------------------+--------------------+ | Ubuntu 22.04 (ARM) | PASS | +----------------------------------------+--------------------+ | CentOS Stream 10 (ARM) | PASS | +----------------------------------------+--------------------+ | Debian 11 (Buster) (ARM) | PASS | +----------------------------------------+--------------------+ | Debian 12 (arm) | PASS | +----------------------------------------+--------------------+ | Ubuntu 20.04 ARM Clang Cross Compile | PASS | +----------------------------------------+--------------------+ | Ubuntu 20.04 aarch32 GCC Cross Compile | PASS | +----------------------------------------+--------------------+ Ubuntu 20.04 ARM SVE Kernel: Depends on container host Compiler: gcc (Ubuntu 10.5.0-1ubuntu1~20.04) 10.5.0 Ubuntu 20.04 ARM GCC Cross Compile Kernel: Depends on container host Compiler: aarch64-linux-gnu-gcc (Ubuntu 9.4.0-1ubuntu1~20.04.2) 9.4.0 RHEL9 (ARM) Kernel: Depends on container host Compiler: gcc 11.5.0 20240719 (Red Hat 11.5.0-2) Debian 12 with MUSDK Kernel: Depends on container host Compiler: gcc (Debian 12.2.0-14) 12.2.0 Fedora 40 (ARM) Kernel: Depends on container host Compiler: gcc 14.2.1 20240912 (Red Hat 14.2.1-3) Fedora 40 (ARM Clang) Kernel: Depends on container host Compiler: clang 18.1.8 (Fedora 18.1.8-1.fc40) Fedora 41 (ARM) Kernel: Depends on container host Compiler: gcc 14.2.1 20240912 (Red Hat 14.2.1-3) Fedora 41 (ARM Clang) Kernel: Depends on container host Compiler: clang 19.1.5 (Fedora 19.1.5-1.fc41) Ubuntu 20.04 (ARM) Kernel: Depends on container host Compiler: gcc (Ubuntu 9.4.0-1ubuntu1~20.04.2) 9.4.0 CentOS Stream 9 (ARM) Kernel: Depends on container host Compiler: gcc 11.5.0 20240719 (Red Hat 11.5.0-2) Ubuntu 24.04 (ARM) Kernel: Depends on container host Compiler: gcc (Ubuntu 13.3.0-6ubuntu2~24.04) 13.3.0 Ubuntu 22.04 (ARM) Kernel: Depends on container host Compiler: gcc (Ubuntu 11.4.0-1ubuntu1~22.04) 11.4.0 CentOS Stream 10 (ARM) Kernel: Depends on container host Compiler: gcc 14.2.1 20241104 (Red Hat 14.2.1-6) Debian 11 (Buster) (ARM) Kernel: Depends on container host Compiler: gcc (Debian 10.2.1-6) 10.2.1 20210110 Debian 12 (arm) Kernel: Depends on container host Compiler: gcc (Debian 12.2.0-14) 12.2.0 Ubuntu 20.04 ARM Clang Cross Compile Kernel: Depends on container host Compiler: clang 10.0.0-4ubuntu1 Ubuntu 20.04 aarch32 GCC Cross Compile Kernel: Depends on container host Compiler: gcc 9.4.0 To view detailed results, visit: https://lab.dpdk.org/results/dashboard/patchsets/32592/ UNH-IOL DPDK Community Lab To manage your email subscriptions, visit: https://lab.dpdk.org/results/dashboard/preferences/subscriptions/