From mboxrd@z Thu Jan 1 00:00:00 1970 Return-Path: Received: from mails.dpdk.org (mails.dpdk.org [217.70.189.124]) by inbox.dpdk.org (Postfix) with ESMTP id E25594624E for ; Mon, 17 Feb 2025 16:12:21 +0100 (CET) Received: from mails.dpdk.org (localhost [127.0.0.1]) by mails.dpdk.org (Postfix) with ESMTP id DB994400D6; Mon, 17 Feb 2025 16:12:21 +0100 (CET) Received: from mail-pl1-f227.google.com (mail-pl1-f227.google.com [209.85.214.227]) by mails.dpdk.org (Postfix) with ESMTP id C3F0A400D5 for ; Mon, 17 Feb 2025 16:12:20 +0100 (CET) Received: by mail-pl1-f227.google.com with SMTP id d9443c01a7336-2210d92292eso48963915ad.1 for ; Mon, 17 Feb 2025 07:12:20 -0800 (PST) DKIM-Signature: v=1; a=rsa-sha256; c=relaxed/relaxed; d=iol.unh.edu; s=unh-iol; t=1739805140; x=1740409940; darn=dpdk.org; h=references:in-reply-to:cc:to:from:subject:message-id:date:from:to :cc:subject:date:message-id:reply-to; bh=xUj8ORIHL3GJ1qS+s2DArK6xv3HtehMp05+frcgkDJY=; b=fmLpgVaO2MtWQbHt9BQ4mgGLiuR5silp/RNdIC0qANkctDpA/2w+MJlajNHRMQE/h4 WUVuRREpnp/a33McECYB0dKVIK4zRPJwNxWRXMGT2kKlyGh0n+ZsLq7BEw8aKfotD3PN HKphZtdlc67T5YZG2g6TziOBKk29YwsGrvS10= X-Google-DKIM-Signature: v=1; a=rsa-sha256; c=relaxed/relaxed; d=1e100.net; s=20230601; t=1739805140; x=1740409940; h=references:in-reply-to:cc:to:from:subject:message-id:date :x-gm-message-state:from:to:cc:subject:date:message-id:reply-to; bh=xUj8ORIHL3GJ1qS+s2DArK6xv3HtehMp05+frcgkDJY=; b=FTl3CmhJ/vXIyCAQKO+54b4//XzJhgcKnHLvuvYC9N9GGgbmq0v2Gt0rXWkXUJCLJd pYg0L1yHlu2BozACTvYwk81WXA0maiRIdATu4kQwiPOAr//hDGkAqyJDGmsbt8eso9B1 FCisiI5vgRyGzC+gOMySDoxVjAUHTMrdkLylkouJKKMsbbCvFb++IQJT2jXCtb/O2T6I qTES5ChpymxxZFOfwR6X4VEDoF9eEysG8zYOvxpqlgg3VJO2+OYBRHVRg/ZhqoGhe8xI 3bDdnETT0tnF83hRQ6IfQSs66dUI2tsfNr7bcnk3C4Soj7irEcyO/R76y8jtR0ME/4Cd f1Fg== X-Gm-Message-State: AOJu0YyMSmje3XkT26QD+MZrYbCeGSG5SvgeyGwv5iBbxWhl7GdFuqiy w6CHNleAPQrecRCZz8wlJTHgo8oOBJnSHnXzUwFDYHiK/OBJZMJ+9m0xkQlltOrxgLYsjo/HXpX m0yn+KiYRg2VDhlymNjMa6p0DZGQQ7KaPiplV+7/kvB0IPrphgFVTZMsb X-Gm-Gg: ASbGncvjz6xZMzpVoxTi5JOhP/As5KXUVfE3E3cRNYQ4HkjnpwycxGtR6LD1Jp1CAmT z58vAd2QucjtJk8AtKGCExdO6/Zg0dnEs3ZtRnw8uM5HbCcfVR1IrM/vF5KPgZAQmBd2oOtcKYm tGFhpMeIhN7DkcarEB9z5sFsLSZ6bPsE489JGBMITXZ65Hpjy/1nQCylDj9HfQqYYDQQFLuR1fe jGK7C5/2/SoI94lYwAZ/wrhLrNUFoi6ns9PnUKJ5ZNQmKICbQ8oQEQNZ8CPAobwgBQhB+LoAUUs KvEZy3JLpvSFYKdHpP633hMp6Cw2wMCqKeebKvBxHg== X-Google-Smtp-Source: AGHT+IGrNYT4niOboZfvsoqVofLgvZjFB/LOXAanNWirEb5hkryDHi0T9Dujgz9fnrMMWwSRJqfyyMZMW4+2 X-Received: by 2002:a17:903:2301:b0:220:f59b:6e6 with SMTP id d9443c01a7336-22103efc0eamr130507105ad.8.1739805139942; Mon, 17 Feb 2025 07:12:19 -0800 (PST) Received: from postal.iol.unh.edu (postal.iol.unh.edu. [2606:4100:3880:1234::84]) by smtp-relay.gmail.com with ESMTPS id 41be03b00d2f7-addf74b4063sm165712a12.13.2025.02.17.07.12.19 (version=TLS1_2 cipher=ECDHE-ECDSA-AES128-GCM-SHA256 bits=128/128); Mon, 17 Feb 2025 07:12:19 -0800 (PST) X-Relaying-Domain: iol.unh.edu Date: Mon, 17 Feb 2025 07:12:19 -0800 (PST) Message-ID: <67b351d3.050a0220.2543a.73dbSMTPIN_ADDED_MISSING@mx.google.com> Received: from [172.17.0.4] (unknown [172.18.0.57]) by postal.iol.unh.edu (Postfix) with ESMTP id 0B11D6052471; Mon, 17 Feb 2025 10:12:19 -0500 (EST) Subject: |SUCCESS| pw151553-151556 [PATCH] [v2,4/4] net/ixgbe: prevent crashe From: dpdklab@iol.unh.edu To: Test Report Cc: dpdk-test-reports@iol.unh.edu In-Reply-To: <11dadf1bf66aa2129a08b588b68ec0a8c992cfaa.1739800426.git.anatoly.burakov@intel.com> References: <11dadf1bf66aa2129a08b588b68ec0a8c992cfaa.1739800426.git.anatoly.burakov@intel.com> Content-Type: text/plain X-BeenThere: test-report@dpdk.org X-Mailman-Version: 2.1.29 Precedence: list List-Id: automatic DPDK test reports List-Unsubscribe: , List-Archive: List-Post: List-Help: List-Subscribe: , Errors-To: test-report-bounces@dpdk.org Test-Label: iol-sample-apps-testing Test-Status: SUCCESS http://dpdk.org/patch/151556 _Testing PASS_ Submitter: Anatoly Burakov Date: Monday, February 17 2025 13:54:08 DPDK git baseline: Repo:dpdk Branch: master CommitID:c2b6f3e7212dc32603304a6bb41b0e8f081761a5 151553-151556 --> testing pass Upstream job id: Template-DTS-Pipeline#212919 Test environment and result as below: +--------------------+----------------------+----------------------+ | Environment | dpdk_fips_validation | compressdev_zlib_pmd | +====================+======================+======================+ | Ubuntu 20.04 | PASS | SKIPPED | +--------------------+----------------------+----------------------+ | Ubuntu 22.04 (ARM) | SKIPPED | PASS | +--------------------+----------------------+----------------------+ | Ubuntu 22.04 | SKIPPED | PASS | +--------------------+----------------------+----------------------+ Ubuntu 20.04 Kernel: Depends on container host Compiler: gcc (Ubuntu 9.4.0-1ubuntu1~20.04.2) 9.4.0 Ubuntu 22.04 (ARM) Kernel: 5.15.0-97-generic Compiler: gcc gcc (Ubuntu 11.4.0-1ubuntu1~22.04) 11.4.0 Ubuntu 22.04 Kernel: 5.15.0-100-generic Compiler: gcc gcc (Ubuntu 11.4.0-1ubuntu1~22.04) 11.4.0 To view detailed results, visit: https://lab.dpdk.org/results/dashboard/patchsets/32593/ UNH-IOL DPDK Community Lab To manage your email subscriptions, visit: https://lab.dpdk.org/results/dashboard/preferences/subscriptions/