From mboxrd@z Thu Jan 1 00:00:00 1970 Return-Path: Received: from mails.dpdk.org (mails.dpdk.org [217.70.189.124]) by inbox.dpdk.org (Postfix) with ESMTP id 400454624E for ; Mon, 17 Feb 2025 16:14:53 +0100 (CET) Received: from mails.dpdk.org (localhost [127.0.0.1]) by mails.dpdk.org (Postfix) with ESMTP id 27B5E400D6; Mon, 17 Feb 2025 16:14:53 +0100 (CET) Received: from mail-io1-f100.google.com (mail-io1-f100.google.com [209.85.166.100]) by mails.dpdk.org (Postfix) with ESMTP id 4B897400D5 for ; Mon, 17 Feb 2025 16:14:52 +0100 (CET) Received: by mail-io1-f100.google.com with SMTP id ca18e2360f4ac-85598a3e64bso53318839f.1 for ; Mon, 17 Feb 2025 07:14:52 -0800 (PST) DKIM-Signature: v=1; a=rsa-sha256; c=relaxed/relaxed; d=iol.unh.edu; s=unh-iol; t=1739805291; x=1740410091; darn=dpdk.org; h=references:in-reply-to:cc:to:from:subject:message-id:date:from:to :cc:subject:date:message-id:reply-to; bh=NDfMIz9Cy0dBQTNueL9tFEAVLlZ2SGtVhIYk4MnVDjg=; b=CcRPMHIxnnq5UyBPoh5Ah0SRh9t+MuffvzF7uIgCN7QOEulIfkMdzw5d70yR99shyE IBX30yR7uaDBJJiGKpwuzmZPe/wl55V3+ACh+qkK+phkPQ1BX+rz4sr3MgGyc1co6QXD O6CmbvT+F9GUbDSCd+dQ6dfiWtZfpuj1AEk8A= X-Google-DKIM-Signature: v=1; a=rsa-sha256; c=relaxed/relaxed; d=1e100.net; s=20230601; t=1739805291; x=1740410091; h=references:in-reply-to:cc:to:from:subject:message-id:date :x-gm-message-state:from:to:cc:subject:date:message-id:reply-to; bh=NDfMIz9Cy0dBQTNueL9tFEAVLlZ2SGtVhIYk4MnVDjg=; b=PgteaSffDWJlr8KpOrCqVetpOqvIUQJBbEHaIfJ3tue6eAMJ0v0Nb10jhRzsXUPiKy lMTU7sEW7KgWOpLOIpfZ6L2YCSms7Fy7M6giE5tTeuND19y+x1mbHUt8eRNQ+3t48xAL TPL2qVSXnwmVCY6qPWQzHCV5SK2y86YtAHJS2F90ZNFSfm7tqKi8xIMcZXr3Z6Ato2yS rzZoLHenQtGm3ZEEaWf9v/pB+JEEi3AcMaBuLMq221txaIaElDBPgx21NGeeMbjlIn50 +js+1kcCBFOS4dJXLfZ7upAwcb43qi4iCA0WxTtAAG4P3gbRf+SZINDGhvzrjk+85+rp TsQg== X-Gm-Message-State: AOJu0YxfZuecAVtr+V7C7+/qc16+k4BwkOSHquBhsBA2CwUxUfYmWsYr wkv9/Qgsy3wsMEqxnYL5BJLGWM+0NocgcDg2u5T5kPm0V6PuvvKCzwo2+J9gnGw5oE9PqEKa/zr Z3y3A676dLNu8bH/csMRbZxmOYzyu55QgX0z0F+Evrysts1MD9HWSwQfN X-Gm-Gg: ASbGncuOhO6Mt7cgyT0+/jAccYfyfqrCdXoUwKz/srNuaAFoCLKR44auKc4OtY7h4IA AIhmRooYQ5GqzzPkriLgKh8/mtzBAcY1j/vQEk+0GreoPmfoGk80Nhx6kqnFv0rUSSWK7fh6dMm yMdZp+b3+TrIt+i98w118fzAFgsdfQaukFAKorCqD33zEuUOJbjve6gwJsmjOLLIXaHo0xIOE3j AEPRRZimlpt9jBT1k+qS6faPzoRiqfF9twbitthCFSpnuH3jDJ+wycjTjDAFFNoPWmc+geA4D0n x5KFKd8ZhJ87QkSsqQhhkHm37fFx/LgF6nK7Z1OXuw== X-Google-Smtp-Source: AGHT+IFDmX2DfBqnXCsSlpBTrYbP7RRuIpx+jEmc5v8YTSCPiVvWSpc7p+PfEasLmfq9wW9TNEot5lNE38kz X-Received: by 2002:a05:6e02:1c8c:b0:3d0:21aa:a756 with SMTP id e9e14a558f8ab-3d2807aba07mr85961545ab.5.1739805291552; Mon, 17 Feb 2025 07:14:51 -0800 (PST) Received: from postal.iol.unh.edu (postal.iol.unh.edu. [2606:4100:3880:1234::84]) by smtp-relay.gmail.com with ESMTPS id 8926c6da1cb9f-4ed2814953bsm611179173.14.2025.02.17.07.14.51 (version=TLS1_2 cipher=ECDHE-ECDSA-AES128-GCM-SHA256 bits=128/128); Mon, 17 Feb 2025 07:14:51 -0800 (PST) X-Relaying-Domain: iol.unh.edu Date: Mon, 17 Feb 2025 07:14:51 -0800 (PST) Message-ID: <67b3526b.050a0220.367c16.f3cfSMTPIN_ADDED_MISSING@mx.google.com> Received: from [172.21.0.5] (unknown [172.18.0.240]) by postal.iol.unh.edu (Postfix) with ESMTP id 0F1856052471; Mon, 17 Feb 2025 10:14:51 -0500 (EST) Subject: |SUCCESS| pw151553-151556 [PATCH] [v2,4/4] net/ixgbe: prevent crashe From: dpdklab@iol.unh.edu To: Test Report Cc: dpdk-test-reports@iol.unh.edu In-Reply-To: <11dadf1bf66aa2129a08b588b68ec0a8c992cfaa.1739800426.git.anatoly.burakov@intel.com> References: <11dadf1bf66aa2129a08b588b68ec0a8c992cfaa.1739800426.git.anatoly.burakov@intel.com> Content-Type: text/plain X-BeenThere: test-report@dpdk.org X-Mailman-Version: 2.1.29 Precedence: list List-Id: automatic DPDK test reports List-Unsubscribe: , List-Archive: List-Post: List-Help: List-Subscribe: , Errors-To: test-report-bounces@dpdk.org Test-Label: iol-unit-arm64-testing Test-Status: SUCCESS http://dpdk.org/patch/151556 _Testing PASS_ Submitter: Anatoly Burakov Date: Monday, February 17 2025 13:54:08 DPDK git baseline: Repo:dpdk Branch: master CommitID:c2b6f3e7212dc32603304a6bb41b0e8f081761a5 151553-151556 --> testing pass Upstream job id: Generic-Unit-Test-DPDK#315534 Test environment and result as below: +-----------------------------+----------------+--------------+---------------------------+------------------------------+ | Environment | dpdk_unit_test | lpm_autotest | cryptodev_sw_zuc_autotest | cryptodev_sw_snow3g_autotest | +=============================+================+==============+===========================+==============================+ | 32-bit Ubuntu 22.04.4 (ARM) | PASS | SKIPPED | SKIPPED | SKIPPED | +-----------------------------+----------------+--------------+---------------------------+------------------------------+ | Debian 11 (Buster) (ARM) | PASS | SKIPPED | SKIPPED | SKIPPED | +-----------------------------+----------------+--------------+---------------------------+------------------------------+ | CentOS Stream 9 (ARM) | PASS | SKIPPED | SKIPPED | SKIPPED | +-----------------------------+----------------+--------------+---------------------------+------------------------------+ | Debian 12 (arm) | PASS | SKIPPED | PASS | PASS | +-----------------------------+----------------+--------------+---------------------------+------------------------------+ | Fedora 41 (ARM) | PASS | SKIPPED | SKIPPED | SKIPPED | +-----------------------------+----------------+--------------+---------------------------+------------------------------+ | Fedora 40 (ARM) | PASS | SKIPPED | SKIPPED | SKIPPED | +-----------------------------+----------------+--------------+---------------------------+------------------------------+ | RHEL9 (ARM) | PASS | SKIPPED | SKIPPED | SKIPPED | +-----------------------------+----------------+--------------+---------------------------+------------------------------+ | Ubuntu 20.04 (ARM) | PASS | SKIPPED | SKIPPED | SKIPPED | +-----------------------------+----------------+--------------+---------------------------+------------------------------+ | Fedora 40 (ARM Clang) | PASS | SKIPPED | SKIPPED | SKIPPED | +-----------------------------+----------------+--------------+---------------------------+------------------------------+ | Fedora 41 (ARM Clang) | PASS | SKIPPED | SKIPPED | SKIPPED | +-----------------------------+----------------+--------------+---------------------------+------------------------------+ | Ubuntu 22.04 (ARM) | PASS | SKIPPED | SKIPPED | SKIPPED | +-----------------------------+----------------+--------------+---------------------------+------------------------------+ | Ubuntu 24.04 (ARM) | PASS | SKIPPED | SKIPPED | SKIPPED | +-----------------------------+----------------+--------------+---------------------------+------------------------------+ | CentOS Stream 10 (ARM) | PASS | SKIPPED | SKIPPED | SKIPPED | +-----------------------------+----------------+--------------+---------------------------+------------------------------+ | Ubuntu 20.04 ARM SVE | SKIPPED | PASS | SKIPPED | SKIPPED | +-----------------------------+----------------+--------------+---------------------------+------------------------------+ 32-bit Ubuntu 22.04.4 (ARM) Kernel: 5.15.83+ aarch64 Compiler: gcc (Ubuntu 11.4.0-1ubuntu1~22.04) 11.4.0 Debian 11 (Buster) (ARM) Kernel: Depends on container host Compiler: gcc (Debian 10.2.1-6) 10.2.1 20210110 CentOS Stream 9 (ARM) Kernel: Depends on container host Compiler: gcc 11.5.0 20240719 (Red Hat 11.5.0-2) Debian 12 (arm) Kernel: Depends on container host Compiler: gcc (Debian 12.2.0-14) 12.2.0 Fedora 41 (ARM) Kernel: Depends on container host Compiler: gcc 14.2.1 20240912 (Red Hat 14.2.1-3) Fedora 40 (ARM) Kernel: Depends on container host Compiler: gcc 14.2.1 20240912 (Red Hat 14.2.1-3) RHEL9 (ARM) Kernel: Depends on container host Compiler: gcc 11.5.0 20240719 (Red Hat 11.5.0-2) Ubuntu 20.04 (ARM) Kernel: Depends on container host Compiler: gcc (Ubuntu 9.4.0-1ubuntu1~20.04.2) 9.4.0 Fedora 40 (ARM Clang) Kernel: Depends on container host Compiler: clang 18.1.8 (Fedora 18.1.8-1.fc40) Fedora 41 (ARM Clang) Kernel: Depends on container host Compiler: clang 19.1.5 (Fedora 19.1.5-1.fc41) Ubuntu 22.04 (ARM) Kernel: Depends on container host Compiler: gcc (Ubuntu 11.4.0-1ubuntu1~22.04) 11.4.0 Ubuntu 24.04 (ARM) Kernel: Depends on container host Compiler: gcc (Ubuntu 13.3.0-6ubuntu2~24.04) 13.3.0 CentOS Stream 10 (ARM) Kernel: Depends on container host Compiler: gcc 14.2.1 20241104 (Red Hat 14.2.1-6) Ubuntu 20.04 ARM SVE Kernel: Depends on container host Compiler: gcc (Ubuntu 10.5.0-1ubuntu1~20.04) 10.5.0 To view detailed results, visit: https://lab.dpdk.org/results/dashboard/patchsets/32593/ UNH-IOL DPDK Community Lab To manage your email subscriptions, visit: https://lab.dpdk.org/results/dashboard/preferences/subscriptions/