From mboxrd@z Thu Jan 1 00:00:00 1970 Return-Path: Received: from mails.dpdk.org (mails.dpdk.org [217.70.189.124]) by inbox.dpdk.org (Postfix) with ESMTP id 814CE4624E for ; Mon, 17 Feb 2025 16:28:22 +0100 (CET) Received: from mails.dpdk.org (localhost [127.0.0.1]) by mails.dpdk.org (Postfix) with ESMTP id 57F6F400EF; Mon, 17 Feb 2025 16:28:22 +0100 (CET) Received: from mail-pl1-f227.google.com (mail-pl1-f227.google.com [209.85.214.227]) by mails.dpdk.org (Postfix) with ESMTP id C2C6B400D6 for ; Mon, 17 Feb 2025 16:28:20 +0100 (CET) Received: by mail-pl1-f227.google.com with SMTP id d9443c01a7336-220c92c857aso69721115ad.0 for ; Mon, 17 Feb 2025 07:28:20 -0800 (PST) DKIM-Signature: v=1; a=rsa-sha256; c=relaxed/relaxed; d=iol.unh.edu; s=unh-iol; t=1739806100; x=1740410900; darn=dpdk.org; h=references:in-reply-to:cc:to:from:subject:message-id:date:from:to :cc:subject:date:message-id:reply-to; bh=mMFPUPKXeLZjc0miRurlbx3I6LqbXQsh97TpsFhDbsY=; b=eQc0Wo2twwFaTRR+2yWMgCCRY3lVuJoYv2JsvvRg02D4U1wELYnnBZDsiXRUvg7cPG +d3ICPStH6PTWOzytY3vVBpCvPuyUrYOIGo/JiLwFR8gJApAhNlFUbibv1mVouIHf9gN nx2qEkCTK43RiB3uWCqD6ZFJnWa8UOzBLhNZY= X-Google-DKIM-Signature: v=1; a=rsa-sha256; c=relaxed/relaxed; d=1e100.net; s=20230601; t=1739806100; x=1740410900; h=references:in-reply-to:cc:to:from:subject:message-id:date :x-gm-message-state:from:to:cc:subject:date:message-id:reply-to; bh=mMFPUPKXeLZjc0miRurlbx3I6LqbXQsh97TpsFhDbsY=; b=Z2piWKnp0FkrLcJTwo38/0RyK2mIZw8QAq2WzIkMJRmhTMBhoIUzLIOWucfQmi7uhY TEoEayVuxMQ6NILM6NBlLHcxtZXdBsapnob+OGR0xemXFw6XFvwjcMQbM9KFpMMrgGgl ZeWNgbCDM6fzajpxzpDzDmW6HdmI9Acc2P9WGUT1qzqgagmqcYGTro5uKrBWWWuXmh90 D6cJ+42x+VJLB+iX7pKFLteymFj3nrypcNarv8iHlSpysTafX2ZgKZ55eVvjchpFMRLb /AwWVsqoQ1bFG396OjPhh+OsnqXIoAh5uqrBBNAkZWHwnefLf55L1ba1W40lX+M++u2H JDGw== X-Gm-Message-State: AOJu0YxPFS/hb7ra0TjFZIYMAA6vDJg2+owB5nMF7EPF7eVQb5OAxsGq VjL/HEb35u9uG6+YMot/E4kp+PqMq8uxBxLysBkbivH9N/okxglkrmxbi1IXueHPW1wvlfF3TEu 2q5QehGKB8HCnkC81IXoHwIDZ1dr3npMJhJje2XEq X-Gm-Gg: ASbGncuEfMdT+9VEWGdg8Jw0iiDKuagXhLVuJDFTB+EjLItajS55aLxmvsl6DC7vBok jziUO5gICsVUKq5JU/aXbdnxZCsAUrBT9JQBowbn/7FN4ndr8PPu58oJC0RplA5tWGrlZnz/KMY GpUdtDWe6B5lSI85LHlwR8DtTMwcsZvnSkDXoYneZNFkbaFouVZlEM+cOQqEvkVYd/rZI/qhwpD cxGEAIoD/TmzsvzEeKMoUFb23PRiF7/XLMENJKInH5T7QrApG/a41UNF6yR8oEExbGgvhYaMHY2 wNSi5z9tzbyox1AN2q7O/366O77wsw== X-Google-Smtp-Source: AGHT+IGGmXVLJAFh7D3s6Xcts450rZE9OGt3+nNM0VXHD9RC3TKN2hnfjDbrFQK5VL/rJ0xFkqDm83G7lA6H X-Received: by 2002:a17:903:22cd:b0:21f:6d63:6f4f with SMTP id d9443c01a7336-220d33a5098mr264790455ad.2.1739806099698; Mon, 17 Feb 2025 07:28:19 -0800 (PST) Received: from postal.iol.unh.edu (postal.iol.unh.edu. [132.177.123.84]) by smtp-relay.gmail.com with ESMTPS id d9443c01a7336-2211b71363dsm1816015ad.49.2025.02.17.07.28.19 (version=TLS1_2 cipher=ECDHE-ECDSA-AES128-GCM-SHA256 bits=128/128); Mon, 17 Feb 2025 07:28:19 -0800 (PST) X-Relaying-Domain: iol.unh.edu Date: Mon, 17 Feb 2025 07:28:19 -0800 (PST) Message-ID: <67b35593.170a0220.24a721.88b5SMTPIN_ADDED_MISSING@mx.google.com> Received: from [172.17.0.5] (unknown [172.18.0.217]) by postal.iol.unh.edu (Postfix) with ESMTP id 27F3A6052471; Mon, 17 Feb 2025 10:28:19 -0500 (EST) Subject: |SUCCESS| pw151553-151556 [PATCH] [v2,4/4] net/ixgbe: prevent crashe From: dpdklab@iol.unh.edu To: Test Report Cc: dpdk-test-reports@iol.unh.edu In-Reply-To: <11dadf1bf66aa2129a08b588b68ec0a8c992cfaa.1739800426.git.anatoly.burakov@intel.com> References: <11dadf1bf66aa2129a08b588b68ec0a8c992cfaa.1739800426.git.anatoly.burakov@intel.com> Content-Type: text/plain X-BeenThere: test-report@dpdk.org X-Mailman-Version: 2.1.29 Precedence: list List-Id: automatic DPDK test reports List-Unsubscribe: , List-Archive: List-Post: List-Help: List-Subscribe: , Errors-To: test-report-bounces@dpdk.org Test-Label: iol-unit-amd64-testing Test-Status: SUCCESS http://dpdk.org/patch/151556 _Testing PASS_ Submitter: Anatoly Burakov Date: Monday, February 17 2025 13:54:08 DPDK git baseline: Repo:dpdk Branch: master CommitID:c2b6f3e7212dc32603304a6bb41b0e8f081761a5 151553-151556 --> testing pass Upstream job id: Generic-Unit-Test-DPDK#315535 Test environment and result as below: +---------------------+----------------+ | Environment | dpdk_unit_test | +=====================+================+ | CentOS Stream 9 | PASS | +---------------------+----------------+ | Debian 12 | PASS | +---------------------+----------------+ | CentOS Stream 10 | PASS | +---------------------+----------------+ | Debian Bullseye | PASS | +---------------------+----------------+ | Fedora 40 (Clang) | PASS | +---------------------+----------------+ | RHEL9 | PASS | +---------------------+----------------+ | Fedora 41 (Clang) | PASS | +---------------------+----------------+ | Fedora 40 | PASS | +---------------------+----------------+ | Fedora 41 | PASS | +---------------------+----------------+ | Ubuntu 24.04 | PASS | +---------------------+----------------+ | Ubuntu 22.04 | PASS | +---------------------+----------------+ | Ubuntu 20.04 | PASS | +---------------------+----------------+ | RHEL8 | PASS | +---------------------+----------------+ | Windows Server 2022 | PASS | +---------------------+----------------+ CentOS Stream 9 Kernel: Depends on container host Compiler: gcc 11.5.0 20240719 (Red Hat 11.5.0-2) Debian 12 Kernel: Depends on container host Compiler: gcc (Debian 12.2.0-14) 12.2.0 CentOS Stream 10 Kernel: Depends on container host Compiler: gcc 14.2.1 20241104 (Red Hat 14.2.1-6) Debian Bullseye Kernel: Depends on container host Compiler: gcc (Debian 10.2.1-6) 10.2.1 20210110 Fedora 40 (Clang) Kernel: Depends on container host Compiler: clang 18.1.8 (Fedora 18.1.8-1.fc40) RHEL9 Kernel: Depends on container host Compiler: gcc 11.5.0 20240719 (Red Hat 11.5.0-2) Fedora 41 (Clang) Kernel: Depends on container host Compiler: clang 19.1.5 (Fedora 19.1.5-1.fc41) Fedora 40 Kernel: Depends on container host Compiler: gcc 14.2.1 20240912 (Red Hat 14.2.1-3) Fedora 41 Kernel: Depends on container host Compiler: gcc 14.2.1 20240912 (Red Hat 14.2.1-3) Ubuntu 24.04 Kernel: Depends on container host Compiler: gcc (Ubuntu 13.3.0-6ubuntu2~24.04) 13.3.0 Ubuntu 22.04 Kernel: Depends on container host Compiler: gcc (Ubuntu 11.4.0-1ubuntu1~22.04) 11.4.0 Ubuntu 20.04 Kernel: Depends on container host Compiler: gcc (Ubuntu 9.4.0-1ubuntu1~20.04.2) 9.4.0 RHEL8 Kernel: Depends on container host Compiler: gcc 8.5.0 20210514 (Red Hat 8.5.0-22) Windows Server 2022 Kernel: 10.0.20348.2031 Compiler: clang 15.0.7, gcc 14.1.0 (MinGW), and MSVC VS 19.39.33521 To view detailed results, visit: https://lab.dpdk.org/results/dashboard/patchsets/32593/ UNH-IOL DPDK Community Lab To manage your email subscriptions, visit: https://lab.dpdk.org/results/dashboard/preferences/subscriptions/