From mboxrd@z Thu Jan 1 00:00:00 1970 Return-Path: Received: from mails.dpdk.org (mails.dpdk.org [217.70.189.124]) by inbox.dpdk.org (Postfix) with ESMTP id 7FF5D4624E for ; Mon, 17 Feb 2025 16:32:37 +0100 (CET) Received: from mails.dpdk.org (localhost [127.0.0.1]) by mails.dpdk.org (Postfix) with ESMTP id 57959400EF; Mon, 17 Feb 2025 16:32:37 +0100 (CET) Received: from mail-qv1-f99.google.com (mail-qv1-f99.google.com [209.85.219.99]) by mails.dpdk.org (Postfix) with ESMTP id D1E4E400D6 for ; Mon, 17 Feb 2025 16:32:35 +0100 (CET) Received: by mail-qv1-f99.google.com with SMTP id 6a1803df08f44-6dcd4f1aaccso82842686d6.2 for ; Mon, 17 Feb 2025 07:32:35 -0800 (PST) DKIM-Signature: v=1; a=rsa-sha256; c=relaxed/relaxed; d=iol.unh.edu; s=unh-iol; t=1739806355; x=1740411155; darn=dpdk.org; h=references:in-reply-to:cc:to:from:subject:message-id:date:from:to :cc:subject:date:message-id:reply-to; bh=Dy9Z1UgGnaF+KTcOlxGtUzO8yq53++ZfvFAHIipGMvg=; b=bN3lmBMXurr/cEI+MUh4QHnkxiz9pNuGxsK6vIp6J559VfrnyKfZC37yfL0qA/hb59 9Q/MCMM1A6i36MJszMSDtf+80rtfkhkcNidt/106zRIWaBjhbEA7pZCm0nwHDbaIggMN 40qj4hbjYPT2Md7AK3O2Pp/hZq0im1EyfSS8A= X-Google-DKIM-Signature: v=1; a=rsa-sha256; c=relaxed/relaxed; d=1e100.net; s=20230601; t=1739806355; x=1740411155; h=references:in-reply-to:cc:to:from:subject:message-id:date :x-gm-message-state:from:to:cc:subject:date:message-id:reply-to; bh=Dy9Z1UgGnaF+KTcOlxGtUzO8yq53++ZfvFAHIipGMvg=; b=HIalrv7/9yYeWha7zJ8rW0w8sNyB1tHyCRDOkWDAGZXWyZ8nj7B8pKZ2lchJ6XIOJ2 tHiNxEaSkG4s0wnbRxBLIFnBBkrl9nKaQ7GqY65mQST2nzt6LVt4uGEoJcQvw8VRixJ6 0Ob/vFwCPuRa/aI1UWm1yP+NO2Wy5OsfLiaVKF5mu5tJFs0T8JLFCJPJ4KGuA+Y5c9n4 s0CKX8Yje5ktJO/9PQXysbLQClXSxwN2q7GSCGrCerIrFQS+VWDDi5751mc3sjBwh4N3 37c58/wQrnppTblFXSeDBMNNCUwisSWNKGxhlrLdnUGVVR0b5yzm4TLhxC7TXHltZR9s b6SQ== X-Gm-Message-State: AOJu0YwwOCwKvznuesWSyLzjdxU0sJncjpbtIcdsJoHkKA9eUxnjhDSV DlLHjE2/woR0TFBuEiORds6OHiyCW7ogTwGdDRri2HNrJCV3J1tn+TMHt+i90qJsiIFMeWsaVKV YZO+Yvfk6pZFOFEFZXWPsLTd+U2JcElSFXyo0PUahHSkZHwo/KrPXBPCN X-Gm-Gg: ASbGnctHkRj9PLxlUWZh+h/vJ2kNKfd4Vq1ss6Lxk7vAlwXoNrtJfeLoaJ4YGQmo2fb ztc62r9TsDWdT475OW/8/bT9p9y6RVH9g1RaMUqKP4gU1fFlU4i/5FBvXJDSirezRt4gpPWNnrT VSWANiw7Ds4guj0xwP8CisTeOagnvjEI7OHXbFTXFBhFdJQTQ5eih+ZjVpKfAKBXPInppQlrFNk MH7ysXo/frABjXdJx+8pLhsKVE4RYsxCiw4zrlXxXA15hi6gP+a7tDG6O/t1CUYpTNGxKBTjnBN WlKmF3d4qsZZ8QeEPiytANhyZ5LVeZOYpRv0tNaBaQ== X-Google-Smtp-Source: AGHT+IH3wknsXVyzwH4IiSUTsGhfRJB6LHWL36aHXfOvyWgVoKwqymBNHviURjzb/w6T7KMoG/NchfHs2CJx X-Received: by 2002:a05:6214:d67:b0:6e6:656f:3c34 with SMTP id 6a1803df08f44-6e66ccabbd5mr134428966d6.12.1739806355159; Mon, 17 Feb 2025 07:32:35 -0800 (PST) Received: from postal.iol.unh.edu (postal.iol.unh.edu. [2606:4100:3880:1234::84]) by smtp-relay.gmail.com with ESMTPS id 6a1803df08f44-6e65d742e16sm3973736d6.40.2025.02.17.07.32.35 (version=TLS1_2 cipher=ECDHE-ECDSA-AES128-GCM-SHA256 bits=128/128); Mon, 17 Feb 2025 07:32:35 -0800 (PST) X-Relaying-Domain: iol.unh.edu Date: Mon, 17 Feb 2025 07:32:35 -0800 (PST) Message-ID: <67b35693.0c0a0220.22e25e.3b2fSMTPIN_ADDED_MISSING@mx.google.com> Received: from [172.17.0.3] (unknown [172.18.0.217]) by postal.iol.unh.edu (Postfix) with ESMTP id D6BF86052471; Mon, 17 Feb 2025 10:32:34 -0500 (EST) Subject: |SUCCESS| pw151553-151556 [PATCH] [v2,4/4] net/ixgbe: prevent crashe From: dpdklab@iol.unh.edu To: Test Report Cc: dpdk-test-reports@iol.unh.edu In-Reply-To: <11dadf1bf66aa2129a08b588b68ec0a8c992cfaa.1739800426.git.anatoly.burakov@intel.com> References: <11dadf1bf66aa2129a08b588b68ec0a8c992cfaa.1739800426.git.anatoly.burakov@intel.com> Content-Type: text/plain X-BeenThere: test-report@dpdk.org X-Mailman-Version: 2.1.29 Precedence: list List-Id: automatic DPDK test reports List-Unsubscribe: , List-Archive: List-Post: List-Help: List-Subscribe: , Errors-To: test-report-bounces@dpdk.org Test-Label: iol-abi-testing Test-Status: SUCCESS http://dpdk.org/patch/151556 _Testing PASS_ Submitter: Anatoly Burakov Date: Monday, February 17 2025 13:54:08 DPDK git baseline: Repo:dpdk Branch: master CommitID:c2b6f3e7212dc32603304a6bb41b0e8f081761a5 151553-151556 --> testing pass Upstream job id: Generic-DPDK-Compile-ABI#116453 Test environment and result as below: +-------------------+----------+ | Environment | abi_test | +===================+==========+ | CentOS Stream 9 | PASS | +-------------------+----------+ | Debian Bullseye | PASS | +-------------------+----------+ | CentOS Stream 10 | PASS | +-------------------+----------+ | Debian 12 | PASS | +-------------------+----------+ | Fedora 40 (Clang) | PASS | +-------------------+----------+ | Fedora 40 | PASS | +-------------------+----------+ | Fedora 41 (Clang) | PASS | +-------------------+----------+ | openSUSE Leap 15 | PASS | +-------------------+----------+ | Ubuntu 24.04 | PASS | +-------------------+----------+ | Fedora 41 | PASS | +-------------------+----------+ | Ubuntu 22.04 | PASS | +-------------------+----------+ | RHEL8 | PASS | +-------------------+----------+ | RHEL9 | PASS | +-------------------+----------+ CentOS Stream 9 Kernel: Depends on container host Compiler: gcc 11.5.0 20240719 (Red Hat 11.5.0-2) Debian Bullseye Kernel: Depends on container host Compiler: gcc (Debian 10.2.1-6) 10.2.1 20210110 CentOS Stream 10 Kernel: Depends on container host Compiler: gcc 14.2.1 20241104 (Red Hat 14.2.1-6) Debian 12 Kernel: Depends on container host Compiler: gcc (Debian 12.2.0-14) 12.2.0 Fedora 40 (Clang) Kernel: Depends on container host Compiler: clang 18.1.8 (Fedora 18.1.8-1.fc40) Fedora 40 Kernel: Depends on container host Compiler: gcc 14.2.1 20240912 (Red Hat 14.2.1-3) Fedora 41 (Clang) Kernel: Depends on container host Compiler: clang 19.1.5 (Fedora 19.1.5-1.fc41) openSUSE Leap 15 Kernel: Depends on container host Compiler: gcc (SUSE Linux) 7.5.0 Ubuntu 24.04 Kernel: Depends on container host Compiler: gcc (Ubuntu 13.3.0-6ubuntu2~24.04) 13.3.0 Fedora 41 Kernel: Depends on container host Compiler: gcc 14.2.1 20240912 (Red Hat 14.2.1-3) Ubuntu 22.04 Kernel: Depends on container host Compiler: gcc (Ubuntu 11.4.0-1ubuntu1~22.04) 11.4.0 RHEL8 Kernel: Depends on container host Compiler: gcc 8.5.0 20210514 (Red Hat 8.5.0-22) RHEL9 Kernel: Depends on container host Compiler: gcc 11.5.0 20240719 (Red Hat 11.5.0-2) To view detailed results, visit: https://lab.dpdk.org/results/dashboard/patchsets/32593/ UNH-IOL DPDK Community Lab To manage your email subscriptions, visit: https://lab.dpdk.org/results/dashboard/preferences/subscriptions/