From mboxrd@z Thu Jan 1 00:00:00 1970 Return-Path: Received: from mails.dpdk.org (mails.dpdk.org [217.70.189.124]) by inbox.dpdk.org (Postfix) with ESMTP id 7602A4624E for ; Mon, 17 Feb 2025 16:44:44 +0100 (CET) Received: from mails.dpdk.org (localhost [127.0.0.1]) by mails.dpdk.org (Postfix) with ESMTP id 5E231400EF; Mon, 17 Feb 2025 16:44:44 +0100 (CET) Received: from mail-io1-f99.google.com (mail-io1-f99.google.com [209.85.166.99]) by mails.dpdk.org (Postfix) with ESMTP id 47CE2400D6 for ; Mon, 17 Feb 2025 16:44:42 +0100 (CET) Received: by mail-io1-f99.google.com with SMTP id ca18e2360f4ac-855a095094fso8247739f.1 for ; Mon, 17 Feb 2025 07:44:42 -0800 (PST) DKIM-Signature: v=1; a=rsa-sha256; c=relaxed/relaxed; d=iol.unh.edu; s=unh-iol; t=1739807081; x=1740411881; darn=dpdk.org; h=references:in-reply-to:cc:to:from:subject:message-id:date:from:to :cc:subject:date:message-id:reply-to; bh=MIUrosVf55iH45mn9KAMYiKURyHVzIItL31X5MKntaw=; b=jqUNTQbkJ10YnzYFmwqJ1mj8KlhjD+xX8TFxcNl3ObgIF3t1aHYbHN+FZp2/+ao/XL WDTQPO9aWfRaDHcW00FVgHGBuAFpCgwDQeW7KI5Kr9e8qkPEjoeoaf8nkBfQXLiofv88 BtF4sASdnOjlmqnlhYWN6H9D5+NiXdQVgHZ0A= X-Google-DKIM-Signature: v=1; a=rsa-sha256; c=relaxed/relaxed; d=1e100.net; s=20230601; t=1739807081; x=1740411881; h=references:in-reply-to:cc:to:from:subject:message-id:date :x-gm-message-state:from:to:cc:subject:date:message-id:reply-to; bh=MIUrosVf55iH45mn9KAMYiKURyHVzIItL31X5MKntaw=; b=pbphkyCmsXH+1m047AjXxX5lOZC21H6HBoWMq4k649UpeDST1NhXpX7TyP8IufTZeN OfHeO78zvZyCk3OOert5TVCl3R4mtiN+g0/F8x4ALnCWw9f0C7lDwhyWNKWOtqtIEEi8 rXcceLJ8lrLHfr+31AhPpiL/it447HelIzLZ0aNZTfqsIWagXN4/WjsYaKHi7MOqmcFN 6fnubdrY3KnmQZYM0GV+oFEdZ0no/xwA27uBlqQ+B587Nt9pWXUCUYV870djyU+Qw9eQ Ws0yHUm98BnfXPwJv7/wjsQ+wUZv023GICNlaSzq/a8JV2g6dIgNUrNOkK96dHw34hCc GtxA== X-Gm-Message-State: AOJu0YwpsuKM1VlSQH5NTxsYW9lyh/zCI/i1BEb05DT9rptsBMVFDk+G 5hdAaXihdBDSBdBF+zkGTU67xy5HfpthPOQF2gv3ypFT3cG0V1LySr+kldCNsPx1PuhWbqAZct+ k0pz5wbiiqEPmHdUjcK2kIQFYVvtoXQh8X3KPWdSP X-Gm-Gg: ASbGncuR11f9m8bNavoNotjPTuVg607G0E2VpWSRK0BlRgxopzNddFNtMJb3jLk1TA6 vUzgLQfm5yBLrSmpav70k3T0Ln9CBo+K6coSuC1mfOd3fDBs6Ebnwo4GFev/9i2HIjCj2Hd2XbB 059oP3M2yumYfO292jS3v0Z9qIVH5lUmn/F4SMMYZSH055oMunf/TqegH8HvHyL9MKv/6IRn8wB IK2EDPLkEyWlHlb1Qz6Tnq/bPayYRVFI53DJQseLQ6mkw0gSHItLN5e578sQ4VhXmzzp1tw+ltn /VjrKkqoEiIhteKGB3pOp9t+OKtg1g== X-Google-Smtp-Source: AGHT+IFXwcrRNKxNl65ixTgXcZsGy6LDVplDNjv0BtyRGTMfdV9kspsFTyPkh4r+SKi1t9SO7uBxDcHHoDog X-Received: by 2002:a05:6e02:1686:b0:3d1:78c8:5ec8 with SMTP id e9e14a558f8ab-3d280844b49mr62180195ab.13.1739807081552; Mon, 17 Feb 2025 07:44:41 -0800 (PST) Received: from postal.iol.unh.edu (postal.iol.unh.edu. [132.177.123.84]) by smtp-relay.gmail.com with ESMTPS id e9e14a558f8ab-3d1a520fc54sm4323345ab.4.2025.02.17.07.44.41 (version=TLS1_2 cipher=ECDHE-ECDSA-AES128-GCM-SHA256 bits=128/128); Mon, 17 Feb 2025 07:44:41 -0800 (PST) X-Relaying-Domain: iol.unh.edu Date: Mon, 17 Feb 2025 07:44:41 -0800 (PST) Message-ID: <67b35969.050a0220.1d61ef.4b47SMTPIN_ADDED_MISSING@mx.google.com> Received: from [172.17.0.3] (unknown [172.18.0.217]) by postal.iol.unh.edu (Postfix) with ESMTP id 059C86052471; Mon, 17 Feb 2025 10:44:41 -0500 (EST) Subject: |SUCCESS| pw151553-151556 [PATCH] [v2,4/4] net/ixgbe: prevent crashe From: dpdklab@iol.unh.edu To: Test Report Cc: dpdk-test-reports@iol.unh.edu In-Reply-To: <11dadf1bf66aa2129a08b588b68ec0a8c992cfaa.1739800426.git.anatoly.burakov@intel.com> References: <11dadf1bf66aa2129a08b588b68ec0a8c992cfaa.1739800426.git.anatoly.burakov@intel.com> Content-Type: text/plain X-BeenThere: test-report@dpdk.org X-Mailman-Version: 2.1.29 Precedence: list List-Id: automatic DPDK test reports List-Unsubscribe: , List-Archive: List-Post: List-Help: List-Subscribe: , Errors-To: test-report-bounces@dpdk.org Test-Label: iol-compile-amd64-testing Test-Status: SUCCESS http://dpdk.org/patch/151556 _Testing PASS_ Submitter: Anatoly Burakov Date: Monday, February 17 2025 13:54:08 DPDK git baseline: Repo:dpdk Branch: master CommitID:c2b6f3e7212dc32603304a6bb41b0e8f081761a5 151553-151556 --> testing pass Upstream job id: Generic-DPDK-Compile-Meson#362288 Test environment and result as below: +---------------------+--------------------+-------------------+------------------+-------------------------+-------------------+----------------------+ | Environment | dpdk_meson_compile | dpdk_compile_spdk | dpdk_compile_ovs | dpdk_llvm_clang_compile | dpdk_msvc_compile | dpdk_mingw64_compile | +=====================+====================+===================+==================+=========================+===================+======================+ | CentOS Stream 9 | PASS | PASS | SKIPPED | SKIPPED | SKIPPED | SKIPPED | +---------------------+--------------------+-------------------+------------------+-------------------------+-------------------+----------------------+ | CentOS Stream 10 | PASS | SKIPPED | SKIPPED | SKIPPED | SKIPPED | SKIPPED | +---------------------+--------------------+-------------------+------------------+-------------------------+-------------------+----------------------+ | Debian Bullseye | PASS | PASS | SKIPPED | SKIPPED | SKIPPED | SKIPPED | +---------------------+--------------------+-------------------+------------------+-------------------------+-------------------+----------------------+ | Debian 12 | PASS | PASS | SKIPPED | SKIPPED | SKIPPED | SKIPPED | +---------------------+--------------------+-------------------+------------------+-------------------------+-------------------+----------------------+ | Fedora 40 (Clang) | PASS | PASS | SKIPPED | SKIPPED | SKIPPED | SKIPPED | +---------------------+--------------------+-------------------+------------------+-------------------------+-------------------+----------------------+ | Fedora 40 | PASS | PASS | SKIPPED | SKIPPED | SKIPPED | SKIPPED | +---------------------+--------------------+-------------------+------------------+-------------------------+-------------------+----------------------+ | Fedora 41 (Clang) | PASS | PASS | PASS | SKIPPED | SKIPPED | SKIPPED | +---------------------+--------------------+-------------------+------------------+-------------------------+-------------------+----------------------+ | Fedora 41 | PASS | PASS | PASS | SKIPPED | SKIPPED | SKIPPED | +---------------------+--------------------+-------------------+------------------+-------------------------+-------------------+----------------------+ | openSUSE Leap 15 | PASS | SKIPPED | SKIPPED | SKIPPED | SKIPPED | SKIPPED | +---------------------+--------------------+-------------------+------------------+-------------------------+-------------------+----------------------+ | RHEL8 | PASS | SKIPPED | SKIPPED | SKIPPED | SKIPPED | SKIPPED | +---------------------+--------------------+-------------------+------------------+-------------------------+-------------------+----------------------+ | RHEL9 | PASS | SKIPPED | SKIPPED | SKIPPED | SKIPPED | SKIPPED | +---------------------+--------------------+-------------------+------------------+-------------------------+-------------------+----------------------+ | Ubuntu 20.04 | PASS | SKIPPED | SKIPPED | SKIPPED | SKIPPED | SKIPPED | +---------------------+--------------------+-------------------+------------------+-------------------------+-------------------+----------------------+ | Ubuntu 22.04 | PASS | PASS | SKIPPED | SKIPPED | SKIPPED | SKIPPED | +---------------------+--------------------+-------------------+------------------+-------------------------+-------------------+----------------------+ | Ubuntu 24.04 | PASS | PASS | PASS | SKIPPED | SKIPPED | SKIPPED | +---------------------+--------------------+-------------------+------------------+-------------------------+-------------------+----------------------+ | Alpine | PASS | SKIPPED | SKIPPED | SKIPPED | SKIPPED | SKIPPED | +---------------------+--------------------+-------------------+------------------+-------------------------+-------------------+----------------------+ | FreeBSD 13.4 | PASS | SKIPPED | SKIPPED | SKIPPED | SKIPPED | SKIPPED | +---------------------+--------------------+-------------------+------------------+-------------------------+-------------------+----------------------+ | FreeBSD 14.2 | PASS | SKIPPED | SKIPPED | SKIPPED | SKIPPED | SKIPPED | +---------------------+--------------------+-------------------+------------------+-------------------------+-------------------+----------------------+ | Windows Server 2022 | SKIPPED | SKIPPED | SKIPPED | PASS | PASS | PASS | +---------------------+--------------------+-------------------+------------------+-------------------------+-------------------+----------------------+ CentOS Stream 9 Kernel: Depends on container host Compiler: gcc 11.5.0 20240719 (Red Hat 11.5.0-2) CentOS Stream 10 Kernel: Depends on container host Compiler: gcc 14.2.1 20241104 (Red Hat 14.2.1-6) Debian Bullseye Kernel: Depends on container host Compiler: gcc (Debian 10.2.1-6) 10.2.1 20210110 Debian 12 Kernel: Depends on container host Compiler: gcc (Debian 12.2.0-14) 12.2.0 Fedora 40 (Clang) Kernel: Depends on container host Compiler: clang 18.1.8 (Fedora 18.1.8-1.fc40) Fedora 40 Kernel: Depends on container host Compiler: gcc 14.2.1 20240912 (Red Hat 14.2.1-3) Fedora 41 (Clang) Kernel: Depends on container host Compiler: clang 19.1.5 (Fedora 19.1.5-1.fc41) Fedora 41 Kernel: Depends on container host Compiler: gcc 14.2.1 20240912 (Red Hat 14.2.1-3) openSUSE Leap 15 Kernel: Depends on container host Compiler: gcc (SUSE Linux) 7.5.0 RHEL8 Kernel: Depends on container host Compiler: gcc 8.5.0 20210514 (Red Hat 8.5.0-22) RHEL9 Kernel: Depends on container host Compiler: gcc 11.5.0 20240719 (Red Hat 11.5.0-2) Ubuntu 20.04 Kernel: Depends on container host Compiler: gcc (Ubuntu 9.4.0-1ubuntu1~20.04.2) 9.4.0 Ubuntu 22.04 Kernel: Depends on container host Compiler: gcc (Ubuntu 11.4.0-1ubuntu1~22.04) 11.4.0 Ubuntu 24.04 Kernel: Depends on container host Compiler: gcc (Ubuntu 13.3.0-6ubuntu2~24.04) 13.3.0 Alpine Kernel: Depends on container host Compiler: gcc (Alpine 14.2.0) 14.2.0 FreeBSD 13.4 Kernel: 13.4-RELEASE-p1 Compiler: clang 18.1.6 FreeBSD 14.2 Kernel: 14.2-RELEASE Compiler: clang 18.1.6 Windows Server 2022 Kernel: 10.0.20348.2031 Compiler: clang 15.0.7, gcc 14.1.0 (MinGW), and MSVC VS 19.39.33521 To view detailed results, visit: https://lab.dpdk.org/results/dashboard/patchsets/32593/ UNH-IOL DPDK Community Lab To manage your email subscriptions, visit: https://lab.dpdk.org/results/dashboard/preferences/subscriptions/