From mboxrd@z Thu Jan 1 00:00:00 1970 Return-Path: Received: from mails.dpdk.org (mails.dpdk.org [217.70.189.124]) by inbox.dpdk.org (Postfix) with ESMTP id 9B0F34624E for ; Mon, 17 Feb 2025 19:54:23 +0100 (CET) Received: from mails.dpdk.org (localhost [127.0.0.1]) by mails.dpdk.org (Postfix) with ESMTP id 770D740151; Mon, 17 Feb 2025 19:54:23 +0100 (CET) Received: from mail-qt1-f225.google.com (mail-qt1-f225.google.com [209.85.160.225]) by mails.dpdk.org (Postfix) with ESMTP id 8E0CA400EF for ; Mon, 17 Feb 2025 19:54:22 +0100 (CET) Received: by mail-qt1-f225.google.com with SMTP id d75a77b69052e-46c8474d8daso36739621cf.3 for ; Mon, 17 Feb 2025 10:54:22 -0800 (PST) DKIM-Signature: v=1; a=rsa-sha256; c=relaxed/relaxed; d=iol.unh.edu; s=unh-iol; t=1739818462; x=1740423262; darn=dpdk.org; h=references:in-reply-to:cc:to:from:subject:message-id:date:from:to :cc:subject:date:message-id:reply-to; bh=9CUS1Ovy0gnHJSU7HSwn4lBu3mRvYKP0UoVWqAehSTY=; b=W/7td4T7j540GlLO1vVyePsUObJSrkV5gcTdksC1UlLINboy3zK5g3yUAqCt4kvHY4 yC9vVW4WNZF4Zw7o3f8vdAJWJTBe5QKFB2rpxu+iWFfP6HCmP2WQTlnJjXDalAmV2XRU j8HBgJwrmussrnXITXJRiUr1xhyG2z9/gKsHo= X-Google-DKIM-Signature: v=1; a=rsa-sha256; c=relaxed/relaxed; d=1e100.net; s=20230601; t=1739818462; x=1740423262; h=references:in-reply-to:cc:to:from:subject:message-id:date :x-gm-message-state:from:to:cc:subject:date:message-id:reply-to; bh=9CUS1Ovy0gnHJSU7HSwn4lBu3mRvYKP0UoVWqAehSTY=; b=U3nnH/eIS+dz0cFyl6aKRn5pl2FWB3DP2p6n76wf9J18zAFGNBORWhnCXO3kaAqi2o l8fSgoLHSGZRTL3ncK1wvK2XQAH4VBDfQYYXnRBD+JDI3KlH3Sb1n/7RFeLUePED/ojZ yoMsKpkTFKdcyJJyqihETVFUfl3Da0Z7chLcfLEqFV8RQfYTn458loh5ZYvA/hwI8IF9 nuq0Uupcex9m9Hq2/IpRrYyz1XyI0XA5GLN1G4cv3X1rVjiQJAI3bsxbL2eDftjYweFN QFtEFkb5NJY9m/vFAcJTEsHaNAthNWd6ttxZPxhTJrt8uT8JKdTXitFy3NihR8NKhMMi UIog== X-Gm-Message-State: AOJu0YxaLpbbh0Dose9htbnl54myxxhnvXlsuI6K4A7ZkAc4WCJE5L0w 1DdFIzeJQwHo8fmDvjqLEvNdRv3ZOAkjH+sUnlQgJeDHPWqjL+AvciLW2FDrYNalzLypkmr8CBd CX8wp4oEukOt7vyIZGr5kWQ8o/ike33feHKtNnMwn0GPaHdB8LJmNx6yP X-Gm-Gg: ASbGncsNzeJ7e+K07yD0fpL/ntJ3UwWrhHJmo8mGOa9VRFsloEltUCwG/mTxTFgAJvA xWreIUBunzbbMBzff+VNOwL0tAuy2cGsaZtmQnk+hDucCaI2VplXJ//jDTwRYfzctb5qFG/zzgq yRcrdAofo3H7W61DtBfRmqM2vMAgIMWOwR6ouhTKgb8ravxSrVb+EveQZu/YKGqA5e+iTkbMTkP nwjWvCsBWcHVL0J7z+GrR3BGkS4wws92YYlIi4fSApOGhF4+GpVf3iDsEqcjOYEpkyYjbje0tPK PQW2lO3qb0XY7HsqB3Hwgg+IBExmJgt5vE3OZBsQxQ== X-Google-Smtp-Source: AGHT+IGc/77hKBllDKP9zj9fL4UBsZJ3Rhyr21flhFN8nXYjLBw/k9S6LahQmPiSjgTt5RtQm/0rVR6OJaF0 X-Received: by 2002:a05:622a:1213:b0:471:a693:5913 with SMTP id d75a77b69052e-471dbe8fe36mr137152091cf.49.1739818461783; Mon, 17 Feb 2025 10:54:21 -0800 (PST) Received: from postal.iol.unh.edu (postal.iol.unh.edu. [2606:4100:3880:1234::84]) by smtp-relay.gmail.com with ESMTPS id d75a77b69052e-471c2a12b68sm4750081cf.6.2025.02.17.10.54.21 (version=TLS1_2 cipher=ECDHE-ECDSA-AES128-GCM-SHA256 bits=128/128); Mon, 17 Feb 2025 10:54:21 -0800 (PST) X-Relaying-Domain: iol.unh.edu Date: Mon, 17 Feb 2025 10:54:21 -0800 (PST) Message-ID: <67b385dd.050a0220.196183.871bSMTPIN_ADDED_MISSING@mx.google.com> Received: from [172.17.0.5] (unknown [172.18.0.217]) by postal.iol.unh.edu (Postfix) with ESMTP id 7A0456052477; Mon, 17 Feb 2025 13:54:21 -0500 (EST) Subject: |SUCCESS| pw151557 [PATCH] [v2] testpmd: support meter_mark init_col From: dpdklab@iol.unh.edu To: Test Report Cc: dpdk-test-reports@iol.unh.edu In-Reply-To: <20250217172111.67655-1-getelson@nvidia.com> References: <20250217172111.67655-1-getelson@nvidia.com> Content-Type: text/plain X-BeenThere: test-report@dpdk.org X-Mailman-Version: 2.1.29 Precedence: list List-Id: automatic DPDK test reports List-Unsubscribe: , List-Archive: List-Post: List-Help: List-Subscribe: , Errors-To: test-report-bounces@dpdk.org Test-Label: iol-unit-amd64-testing Test-Status: SUCCESS http://dpdk.org/patch/151557 _Testing PASS_ Submitter: Gregory Etelson Date: Monday, February 17 2025 17:21:10 DPDK git baseline: Repo:dpdk Branch: master CommitID:968f7b6d7b6a7e60e6e551db430c4eecaccbbfd2 151557 --> testing pass Upstream job id: Generic-VM-Unit-Test-DPDK#27254 Test environment and result as below: +---------------------+----------------+ | Environment | dpdk_unit_test | +=====================+================+ | Debian Bullseye | PASS | +---------------------+----------------+ | CentOS Stream 9 | PASS | +---------------------+----------------+ | CentOS Stream 10 | PASS | +---------------------+----------------+ | Debian 12 | PASS | +---------------------+----------------+ | Fedora 40 | PASS | +---------------------+----------------+ | Fedora 40 (Clang) | PASS | +---------------------+----------------+ | Fedora 41 (Clang) | PASS | +---------------------+----------------+ | Fedora 41 | PASS | +---------------------+----------------+ | RHEL8 | PASS | +---------------------+----------------+ | Ubuntu 22.04 | PASS | +---------------------+----------------+ | RHEL9 | PASS | +---------------------+----------------+ | Ubuntu 24.04 | PASS | +---------------------+----------------+ | Ubuntu 20.04 | PASS | +---------------------+----------------+ | Windows Server 2022 | PASS | +---------------------+----------------+ Debian Bullseye Kernel: Depends on container host Compiler: gcc (Debian 10.2.1-6) 10.2.1 20210110 CentOS Stream 9 Kernel: Depends on container host Compiler: gcc 11.5.0 20240719 (Red Hat 11.5.0-2) CentOS Stream 10 Kernel: Depends on container host Compiler: gcc 14.2.1 20241104 (Red Hat 14.2.1-6) Debian 12 Kernel: Depends on container host Compiler: gcc (Debian 12.2.0-14) 12.2.0 Fedora 40 Kernel: Depends on container host Compiler: gcc 14.2.1 20240912 (Red Hat 14.2.1-3) Fedora 40 (Clang) Kernel: Depends on container host Compiler: clang 18.1.8 (Fedora 18.1.8-1.fc40) Fedora 41 (Clang) Kernel: Depends on container host Compiler: clang 19.1.5 (Fedora 19.1.5-1.fc41) Fedora 41 Kernel: Depends on container host Compiler: gcc 14.2.1 20240912 (Red Hat 14.2.1-3) RHEL8 Kernel: Depends on container host Compiler: gcc 8.5.0 20210514 (Red Hat 8.5.0-22) Ubuntu 22.04 Kernel: Depends on container host Compiler: gcc (Ubuntu 11.4.0-1ubuntu1~22.04) 11.4.0 RHEL9 Kernel: Depends on container host Compiler: gcc 11.5.0 20240719 (Red Hat 11.5.0-2) Ubuntu 24.04 Kernel: Depends on container host Compiler: gcc (Ubuntu 13.3.0-6ubuntu2~24.04) 13.3.0 Ubuntu 20.04 Kernel: Depends on container host Compiler: gcc (Ubuntu 9.4.0-1ubuntu1~20.04.2) 9.4.0 Windows Server 2022 Kernel: 10.0.20348.2031 Compiler: clang 15.0.7, gcc 14.1.0 (MinGW), and MSVC VS 19.39.33521 To view detailed results, visit: https://lab.dpdk.org/results/dashboard/patchsets/32594/ UNH-IOL DPDK Community Lab To manage your email subscriptions, visit: https://lab.dpdk.org/results/dashboard/preferences/subscriptions/