From mboxrd@z Thu Jan 1 00:00:00 1970 Return-Path: Received: from mails.dpdk.org (mails.dpdk.org [217.70.189.124]) by inbox.dpdk.org (Postfix) with ESMTP id B88F44624E for ; Mon, 17 Feb 2025 19:55:54 +0100 (CET) Received: from mails.dpdk.org (localhost [127.0.0.1]) by mails.dpdk.org (Postfix) with ESMTP id B47504025F; Mon, 17 Feb 2025 19:55:54 +0100 (CET) Received: from mail-qv1-f98.google.com (mail-qv1-f98.google.com [209.85.219.98]) by mails.dpdk.org (Postfix) with ESMTP id 43E79400EF for ; Mon, 17 Feb 2025 19:55:53 +0100 (CET) Received: by mail-qv1-f98.google.com with SMTP id 6a1803df08f44-6dd049b5428so40043126d6.2 for ; Mon, 17 Feb 2025 10:55:53 -0800 (PST) DKIM-Signature: v=1; a=rsa-sha256; c=relaxed/relaxed; d=iol.unh.edu; s=unh-iol; t=1739818552; x=1740423352; darn=dpdk.org; h=references:in-reply-to:cc:to:from:subject:message-id:date:from:to :cc:subject:date:message-id:reply-to; bh=J9jRyYNXk3CjlQtA9YKPmC3taH+TijKNXhrJmvtF8D0=; b=COvK2WmkKGZpeV5+6vwBk7cX/dysUxHjnOCVfJzWRY2t2Dg1HC9fxdxzKBCAb97qic 3p+nE/Q+8Lc/Fw1Pt3aPL0dLRyr1A1rYDYBYYuuA/crqU95p4mv0oVPbb+GxjqCkn8Mi aQyFhTeKn14QYl6EYnE4rPJtqtDA9rX/6SYpg= X-Google-DKIM-Signature: v=1; a=rsa-sha256; c=relaxed/relaxed; d=1e100.net; s=20230601; t=1739818552; x=1740423352; h=references:in-reply-to:cc:to:from:subject:message-id:date :x-gm-message-state:from:to:cc:subject:date:message-id:reply-to; bh=J9jRyYNXk3CjlQtA9YKPmC3taH+TijKNXhrJmvtF8D0=; b=AlWO9oADVNi6FXokeMXjtqWQgD02tv0hnunrDOsKZy32dmjrne/iLjdokzHBR6M+Db FRat+tKi+EHkm+Mw2RCOLRm89dmTvYy5O50FJopXaenCdp8hHE0QpPogV9wvtwYTV6OF 9s+xFnpTB8XJr6c4u/34M7jQQeXrHCux6Iyv/Iwocy6TuBnuHKh0kJJvnxTX6fLIvqB9 2HXnV7Rz5q/b105mJlE9tWAD5vJlErLrD3VQmvvXGKn6RphDnmCmc/9HtlqhKgjbaeo3 azzH2DC/cfQOenbuM7UHedxfZP21DejLdkMSTA9hy6rQkilm063xF6NeZKTmUPUJkAOz 7rSA== X-Gm-Message-State: AOJu0YxO50ylZiav49+yRE9lnB02aQ/Zg0iXNPRVsLSf6vv+wq17cX10 vMvK6cyc+BLWO5ep9FF/wcPYMDCgdgD0tpIbjXLnElCd1kSLElYTzua1nywhci9IdZ/2q9YeF9m Rzzy7OMSqGAgPYKg9ndLjUTxkBHmYqZggAbncVmID21JdZpersh4r3CT+ X-Gm-Gg: ASbGncuzlC8qPPNWHtMIAN3plzAn/uTmPK1ExT6gDuZ8n6TIjP8WNE5AkBnAUr6OQok UhEH10FAnYO5oUxJxw6RLRRjm7/1gPERTb81YRvRaVgQhXLbqPY+CU2CG8d7qX4rvDiyfYpd67/ TwCp20C/SRxmnVRj1HAFILoLxcrpwUgmhlDyViB+EZKEd/WM+HVkNliX8axpvLUnU8mZODK8QUo JNKdtqoBymqbKYpHJTWtVPfZ1c5yIKhAFMhTgGlL5UyHc/mrq5w9IR0BESbVnbfZBCu+rEMHd20 4WC2I1mlCRDUMLyy4z6zTCqBuGDMZcqwvq65JrEvaQ== X-Google-Smtp-Source: AGHT+IEbOzrtLJ2VbMXWL+ctiBXn1ZPRhQJwDTHEK9lNjuI847cvuwdwOMAoTpVfZG+3jKGIGBF8/1cU6fZO X-Received: by 2002:a05:6214:d07:b0:6e6:62fb:3503 with SMTP id 6a1803df08f44-6e66ccbcb4cmr120543956d6.12.1739818552627; Mon, 17 Feb 2025 10:55:52 -0800 (PST) Received: from postal.iol.unh.edu (postal.iol.unh.edu. [2606:4100:3880:1234::84]) by smtp-relay.gmail.com with ESMTPS id 6a1803df08f44-6e65d7a38fcsm4025826d6.62.2025.02.17.10.55.52 (version=TLS1_2 cipher=ECDHE-ECDSA-AES128-GCM-SHA256 bits=128/128); Mon, 17 Feb 2025 10:55:52 -0800 (PST) X-Relaying-Domain: iol.unh.edu Date: Mon, 17 Feb 2025 10:55:52 -0800 (PST) Message-ID: <67b38638.050a0220.371ec1.4678SMTPIN_ADDED_MISSING@mx.google.com> Received: from [172.17.0.4] (unknown [172.18.0.217]) by postal.iol.unh.edu (Postfix) with ESMTP id 564E06052471; Mon, 17 Feb 2025 13:55:52 -0500 (EST) Subject: |SUCCESS| pw151557 [PATCH] [v2] testpmd: support meter_mark init_col From: dpdklab@iol.unh.edu To: Test Report Cc: dpdk-test-reports@iol.unh.edu In-Reply-To: <20250217172111.67655-1-getelson@nvidia.com> References: <20250217172111.67655-1-getelson@nvidia.com> Content-Type: text/plain X-BeenThere: test-report@dpdk.org X-Mailman-Version: 2.1.29 Precedence: list List-Id: automatic DPDK test reports List-Unsubscribe: , List-Archive: List-Post: List-Help: List-Subscribe: , Errors-To: test-report-bounces@dpdk.org Test-Label: iol-abi-testing Test-Status: SUCCESS http://dpdk.org/patch/151557 _Testing PASS_ Submitter: Gregory Etelson Date: Monday, February 17 2025 17:21:10 DPDK git baseline: Repo:dpdk Branch: master CommitID:968f7b6d7b6a7e60e6e551db430c4eecaccbbfd2 151557 --> testing pass Upstream job id: Generic-DPDK-Compile-ABI#116464 Test environment and result as below: +-------------------+----------+ | Environment | abi_test | +===================+==========+ | Debian 12 | PASS | +-------------------+----------+ | Fedora 40 | PASS | +-------------------+----------+ | Debian Bullseye | PASS | +-------------------+----------+ | CentOS Stream 9 | PASS | +-------------------+----------+ | Fedora 40 (Clang) | PASS | +-------------------+----------+ | CentOS Stream 10 | PASS | +-------------------+----------+ | Fedora 41 (Clang) | PASS | +-------------------+----------+ | Fedora 41 | PASS | +-------------------+----------+ | Ubuntu 22.04 | PASS | +-------------------+----------+ | Ubuntu 24.04 | PASS | +-------------------+----------+ | RHEL9 | PASS | +-------------------+----------+ | openSUSE Leap 15 | PASS | +-------------------+----------+ | RHEL8 | PASS | +-------------------+----------+ Debian 12 Kernel: Depends on container host Compiler: gcc (Debian 12.2.0-14) 12.2.0 Fedora 40 Kernel: Depends on container host Compiler: gcc 14.2.1 20240912 (Red Hat 14.2.1-3) Debian Bullseye Kernel: Depends on container host Compiler: gcc (Debian 10.2.1-6) 10.2.1 20210110 CentOS Stream 9 Kernel: Depends on container host Compiler: gcc 11.5.0 20240719 (Red Hat 11.5.0-2) Fedora 40 (Clang) Kernel: Depends on container host Compiler: clang 18.1.8 (Fedora 18.1.8-1.fc40) CentOS Stream 10 Kernel: Depends on container host Compiler: gcc 14.2.1 20241104 (Red Hat 14.2.1-6) Fedora 41 (Clang) Kernel: Depends on container host Compiler: clang 19.1.5 (Fedora 19.1.5-1.fc41) Fedora 41 Kernel: Depends on container host Compiler: gcc 14.2.1 20240912 (Red Hat 14.2.1-3) Ubuntu 22.04 Kernel: Depends on container host Compiler: gcc (Ubuntu 11.4.0-1ubuntu1~22.04) 11.4.0 Ubuntu 24.04 Kernel: Depends on container host Compiler: gcc (Ubuntu 13.3.0-6ubuntu2~24.04) 13.3.0 RHEL9 Kernel: Depends on container host Compiler: gcc 11.5.0 20240719 (Red Hat 11.5.0-2) openSUSE Leap 15 Kernel: Depends on container host Compiler: gcc (SUSE Linux) 7.5.0 RHEL8 Kernel: Depends on container host Compiler: gcc 8.5.0 20210514 (Red Hat 8.5.0-22) To view detailed results, visit: https://lab.dpdk.org/results/dashboard/patchsets/32594/ UNH-IOL DPDK Community Lab To manage your email subscriptions, visit: https://lab.dpdk.org/results/dashboard/preferences/subscriptions/