From mboxrd@z Thu Jan 1 00:00:00 1970 Return-Path: Received: from mails.dpdk.org (mails.dpdk.org [217.70.189.124]) by inbox.dpdk.org (Postfix) with ESMTP id DC51B46250 for ; Mon, 17 Feb 2025 21:23:10 +0100 (CET) Received: from mails.dpdk.org (localhost [127.0.0.1]) by mails.dpdk.org (Postfix) with ESMTP id D811440151; Mon, 17 Feb 2025 21:23:10 +0100 (CET) Received: from mail-qk1-f227.google.com (mail-qk1-f227.google.com [209.85.222.227]) by mails.dpdk.org (Postfix) with ESMTP id 5543F400EF for ; Mon, 17 Feb 2025 21:23:09 +0100 (CET) Received: by mail-qk1-f227.google.com with SMTP id af79cd13be357-7c0a1677aebso96541185a.0 for ; Mon, 17 Feb 2025 12:23:09 -0800 (PST) DKIM-Signature: v=1; a=rsa-sha256; c=relaxed/relaxed; d=iol.unh.edu; s=unh-iol; t=1739823788; x=1740428588; darn=dpdk.org; h=references:in-reply-to:cc:to:from:subject:message-id:date:from:to :cc:subject:date:message-id:reply-to; bh=9P7upk5HHsTuEK1tw6CdOMDHiG2nD9GyY9QEfZXhZpg=; b=ezqiHrpzf56HTSf8GsGCZGmLAF5oUlR5EWh9oVQVnSLVIrXmpbQZu3MWkPkUlobR07 N6pduTNpL30NtSCHgOz70Kqg3ehmjhXogQZSS3/zF3LwkrwCAzVlsECgX6swC/4OoxaZ PCmMAyajtC+xfrKnR6mCfW2WwiCNk102Hb0AU= X-Google-DKIM-Signature: v=1; a=rsa-sha256; c=relaxed/relaxed; d=1e100.net; s=20230601; t=1739823788; x=1740428588; h=references:in-reply-to:cc:to:from:subject:message-id:date :x-gm-message-state:from:to:cc:subject:date:message-id:reply-to; bh=9P7upk5HHsTuEK1tw6CdOMDHiG2nD9GyY9QEfZXhZpg=; b=Ca+hJG4fshKSIojzWnkRtyuy8aylhQYT/gcOj/cOwgHxErjEfO0W21xWOQrZMNeI/y WUY7RQ1yYloK4HhGg55gt9a6bmf28GSQwfBrg7TfKO7hG4qZ1jcCAKtREROFLSuj/s7H DzVOf+5jeAJopl0SYy0nb9V59u1/Q4rEzOYP8shSfs/LOfXbnoIxjpyDGmK3y9MRzQ+I 2/JTczm6nANz3d/i1E2nttHCzGUyzaImUSrERB8S5Sv78+vfZgacZkVM+QwhQsfTL6u5 OBneUA7tDJPx2zGbhWYWANxttRGlYscIt/A/q5c8PYgXqw8QQjKNkXmXVG2QkWkZR7eM W2mA== X-Gm-Message-State: AOJu0YxHXynzJFCCBs7wvQU7Tee5AUp7hGUuKx/qQEb3oMKhzpRvg4Ru 2NUi48bc1+u2VffkcknCzj053wuNe5f+CymNq2h5PgfpRFby8wcNOx8NHVtGYW+VAoo4gI++IIx jB9QgzhLLQhiGNifHGA4ldRfdeb3556SmtVh6Ceqa X-Gm-Gg: ASbGncv31r0IWrFJgBgLYbo8IeG2VAJDkLLbOaq1FssR931h1r62EQTcWYS1AXUzKaz 0AqAmnqJEl/Iz3RiX1Ec9hhRFcYfTliSJvXWUJJ55zdDWfrwQUNIQW6OR7JvSP1/EA1Sat72AY5 62xHmU+dUZnY/pfscppWLuVRpXkE3cftxHXqC+83EcYlQLHWQdb7DhyRO6dew75OUbt67qqDVU+ 2Hjq2Ad7OCybcOueM542Ip5rmtfPbjQktNaKBpqNX1mkpqfUOoUN1acAL6PA3ZPwIG9JqjfQof3 XbgDbgOODQClaGifqw8il6dXxNvL3g== X-Google-Smtp-Source: AGHT+IEGsdzdyu4Jlm6J7XrBjcxD5a1gfsnKTfAauPswJt6GHdehAgAAu/50YroUxDF26FM9UPePc2Yjla9E X-Received: by 2002:a05:620a:2607:b0:7c0:7207:600c with SMTP id af79cd13be357-7c08aa98effmr1574140585a.41.1739823788407; Mon, 17 Feb 2025 12:23:08 -0800 (PST) Received: from postal.iol.unh.edu (postal.iol.unh.edu. [132.177.123.84]) by smtp-relay.gmail.com with ESMTPS id 6a1803df08f44-6e65d783c9asm3741926d6.51.2025.02.17.12.23.08 (version=TLS1_2 cipher=ECDHE-ECDSA-AES128-GCM-SHA256 bits=128/128); Mon, 17 Feb 2025 12:23:08 -0800 (PST) X-Relaying-Domain: iol.unh.edu Date: Mon, 17 Feb 2025 12:23:08 -0800 (PST) Message-ID: <67b39aac.050a0220.55302.2a8cSMTPIN_ADDED_MISSING@mx.google.com> Received: from [172.17.0.4] (unknown [172.18.0.217]) by postal.iol.unh.edu (Postfix) with ESMTP id 26D2F6052471; Mon, 17 Feb 2025 15:23:08 -0500 (EST) Subject: |SUCCESS| pw151534-151550 [PATCH] [v8,17/17] devtools/cocci: add scr From: dpdklab@iol.unh.edu To: Test Report Cc: dpdk-test-reports@iol.unh.edu In-Reply-To: <20250216170110.7230-18-stephen@networkplumber.org> References: <20250216170110.7230-18-stephen@networkplumber.org> Content-Type: text/plain X-BeenThere: test-report@dpdk.org X-Mailman-Version: 2.1.29 Precedence: list List-Id: automatic DPDK test reports List-Unsubscribe: , List-Archive: List-Post: List-Help: List-Subscribe: , Errors-To: test-report-bounces@dpdk.org Test-Label: iol-compile-amd64-testing Test-Status: SUCCESS http://dpdk.org/patch/151550 _Testing PASS_ Submitter: Stephen Hemminger Date: Sunday, February 16 2025 16:53:16 DPDK git baseline: Repo:dpdk Branch: master CommitID:e5176f23ae8b31437c3e5eb875c81f95bf3a9942 151534-151550 --> testing pass Upstream job id: Generic-DPDK-Compile-Meson#362364 Test environment and result as below: +---------------------+--------------------+-------------------+------------------+-------------------------+-------------------+----------------------+ | Environment | dpdk_meson_compile | dpdk_compile_spdk | dpdk_compile_ovs | dpdk_llvm_clang_compile | dpdk_msvc_compile | dpdk_mingw64_compile | +=====================+====================+===================+==================+=========================+===================+======================+ | CentOS Stream 9 | PASS | PASS | SKIPPED | SKIPPED | SKIPPED | SKIPPED | +---------------------+--------------------+-------------------+------------------+-------------------------+-------------------+----------------------+ | Debian Bullseye | PASS | PASS | SKIPPED | SKIPPED | SKIPPED | SKIPPED | +---------------------+--------------------+-------------------+------------------+-------------------------+-------------------+----------------------+ | Fedora 40 (Clang) | PASS | PASS | SKIPPED | SKIPPED | SKIPPED | SKIPPED | +---------------------+--------------------+-------------------+------------------+-------------------------+-------------------+----------------------+ | Debian 12 | PASS | PASS | SKIPPED | SKIPPED | SKIPPED | SKIPPED | +---------------------+--------------------+-------------------+------------------+-------------------------+-------------------+----------------------+ | Fedora 40 | PASS | PASS | SKIPPED | SKIPPED | SKIPPED | SKIPPED | +---------------------+--------------------+-------------------+------------------+-------------------------+-------------------+----------------------+ | Fedora 41 (Clang) | PASS | PASS | PASS | SKIPPED | SKIPPED | SKIPPED | +---------------------+--------------------+-------------------+------------------+-------------------------+-------------------+----------------------+ | RHEL8 | PASS | SKIPPED | SKIPPED | SKIPPED | SKIPPED | SKIPPED | +---------------------+--------------------+-------------------+------------------+-------------------------+-------------------+----------------------+ | Fedora 41 | PASS | PASS | PASS | SKIPPED | SKIPPED | SKIPPED | +---------------------+--------------------+-------------------+------------------+-------------------------+-------------------+----------------------+ | Ubuntu 22.04 | PASS | PASS | SKIPPED | SKIPPED | SKIPPED | SKIPPED | +---------------------+--------------------+-------------------+------------------+-------------------------+-------------------+----------------------+ | RHEL9 | PASS | SKIPPED | SKIPPED | SKIPPED | SKIPPED | SKIPPED | +---------------------+--------------------+-------------------+------------------+-------------------------+-------------------+----------------------+ | Ubuntu 24.04 | PASS | PASS | PASS | SKIPPED | SKIPPED | SKIPPED | +---------------------+--------------------+-------------------+------------------+-------------------------+-------------------+----------------------+ | Ubuntu 20.04 | PASS | SKIPPED | SKIPPED | SKIPPED | SKIPPED | SKIPPED | +---------------------+--------------------+-------------------+------------------+-------------------------+-------------------+----------------------+ | Alpine | PASS | SKIPPED | SKIPPED | SKIPPED | SKIPPED | SKIPPED | +---------------------+--------------------+-------------------+------------------+-------------------------+-------------------+----------------------+ | FreeBSD 13.4 | PASS | SKIPPED | SKIPPED | SKIPPED | SKIPPED | SKIPPED | +---------------------+--------------------+-------------------+------------------+-------------------------+-------------------+----------------------+ | FreeBSD 14.2 | PASS | SKIPPED | SKIPPED | SKIPPED | SKIPPED | SKIPPED | +---------------------+--------------------+-------------------+------------------+-------------------------+-------------------+----------------------+ | CentOS Stream 10 | PASS | SKIPPED | SKIPPED | SKIPPED | SKIPPED | SKIPPED | +---------------------+--------------------+-------------------+------------------+-------------------------+-------------------+----------------------+ | Windows Server 2022 | SKIPPED | SKIPPED | SKIPPED | PASS | PASS | PASS | +---------------------+--------------------+-------------------+------------------+-------------------------+-------------------+----------------------+ CentOS Stream 9 Kernel: Depends on container host Compiler: gcc 11.5.0 20240719 (Red Hat 11.5.0-2) Debian Bullseye Kernel: Depends on container host Compiler: gcc (Debian 10.2.1-6) 10.2.1 20210110 Fedora 40 (Clang) Kernel: Depends on container host Compiler: clang 18.1.8 (Fedora 18.1.8-1.fc40) Debian 12 Kernel: Depends on container host Compiler: gcc (Debian 12.2.0-14) 12.2.0 Fedora 40 Kernel: Depends on container host Compiler: gcc 14.2.1 20240912 (Red Hat 14.2.1-3) Fedora 41 (Clang) Kernel: Depends on container host Compiler: clang 19.1.5 (Fedora 19.1.5-1.fc41) RHEL8 Kernel: Depends on container host Compiler: gcc 8.5.0 20210514 (Red Hat 8.5.0-22) Fedora 41 Kernel: Depends on container host Compiler: gcc 14.2.1 20240912 (Red Hat 14.2.1-3) Ubuntu 22.04 Kernel: Depends on container host Compiler: gcc (Ubuntu 11.4.0-1ubuntu1~22.04) 11.4.0 RHEL9 Kernel: Depends on container host Compiler: gcc 11.5.0 20240719 (Red Hat 11.5.0-2) Ubuntu 24.04 Kernel: Depends on container host Compiler: gcc (Ubuntu 13.3.0-6ubuntu2~24.04) 13.3.0 Ubuntu 20.04 Kernel: Depends on container host Compiler: gcc (Ubuntu 9.4.0-1ubuntu1~20.04.2) 9.4.0 Alpine Kernel: Depends on container host Compiler: gcc (Alpine 14.2.0) 14.2.0 FreeBSD 13.4 Kernel: 13.4-RELEASE-p1 Compiler: clang 18.1.6 FreeBSD 14.2 Kernel: 14.2-RELEASE Compiler: clang 18.1.6 CentOS Stream 10 Kernel: Depends on container host Compiler: gcc 14.2.1 20241104 (Red Hat 14.2.1-6) Windows Server 2022 Kernel: 10.0.20348.2031 Compiler: clang 15.0.7, gcc 14.1.0 (MinGW), and MSVC VS 19.39.33521 To view detailed results, visit: https://lab.dpdk.org/results/dashboard/patchsets/32590/ UNH-IOL DPDK Community Lab To manage your email subscriptions, visit: https://lab.dpdk.org/results/dashboard/preferences/subscriptions/