From mboxrd@z Thu Jan 1 00:00:00 1970 Return-Path: Received: from mails.dpdk.org (mails.dpdk.org [217.70.189.124]) by inbox.dpdk.org (Postfix) with ESMTP id F216746250 for ; Mon, 17 Feb 2025 21:24:37 +0100 (CET) Received: from mails.dpdk.org (localhost [127.0.0.1]) by mails.dpdk.org (Postfix) with ESMTP id EDD1940279; Mon, 17 Feb 2025 21:24:37 +0100 (CET) Received: from mail-io1-f100.google.com (mail-io1-f100.google.com [209.85.166.100]) by mails.dpdk.org (Postfix) with ESMTP id 5113D400EF for ; Mon, 17 Feb 2025 21:24:36 +0100 (CET) Received: by mail-io1-f100.google.com with SMTP id ca18e2360f4ac-8556e24b5a1so350442439f.3 for ; Mon, 17 Feb 2025 12:24:36 -0800 (PST) DKIM-Signature: v=1; a=rsa-sha256; c=relaxed/relaxed; d=iol.unh.edu; s=unh-iol; t=1739823875; x=1740428675; darn=dpdk.org; h=references:in-reply-to:cc:to:from:subject:message-id:date:from:to :cc:subject:date:message-id:reply-to; bh=DXYTw0bSNvC4/xVkI1BNXdWoiERupjJX1ReQd/uATJk=; b=fW9PN+rN5LZ2aOthV5zXkzSa6ebAM2GomN8nK5Tvu5RcV1k1SaaRss5ppWMh2siknd cPibEd/cqLPH9d++qfs11CsbP7jq5lf4+lV/ZlM+wJw37stH/VYjJzYfdPYZqtE6jl+B BfoYLPuTzBfsha2wtwaHumFE8L5aXXgxsC4WM= X-Google-DKIM-Signature: v=1; a=rsa-sha256; c=relaxed/relaxed; d=1e100.net; s=20230601; t=1739823875; x=1740428675; h=references:in-reply-to:cc:to:from:subject:message-id:date :x-gm-message-state:from:to:cc:subject:date:message-id:reply-to; bh=DXYTw0bSNvC4/xVkI1BNXdWoiERupjJX1ReQd/uATJk=; b=G0u7CPyZQz9ssAHtZmo833ksGTr/r4JPrjsgCNIE2DCbnWZQkhbS811AEQk7cgX5Sf bTvFt1U2Pp/0LgIcd4dg6S6PwjYfNql5MM1xA4jnotKlNg49YP1G6vPr5JkWagiJlwHn TOgcC18VJ5d9bGDcXYDFPRImOh4P6z93PkuBtywisME3XmK9jsQyHWdDWyx49E0fiqF6 9Gyak0t4mbKFTekImYrmJd/Ig+haRkAxtEnT5gW+qpZ5jo2Ckg1pD2f52HUMa6Ua0IW3 JOB5YsTslNjBNEmQSX0dBFIj+49Qz6PV0VH3luSWhdKVEq1IRYF0zqT6A37D7bIoaO0p HaWA== X-Gm-Message-State: AOJu0YzqFhlkHJF0O9ArCBBi2uO7sWTWXEfEtToE6UFSnzeWNswvROSe saNunPx2/7l3CdTwlEjGSMK4NmmoVD7sEVRSzFS8AXuWna65inX31o+DzldcyFEPCLzYO56BLkD 9zyvyf5Rj4AIr9HyoK25d19KrwpD7TCrlB9kXWUIFs4Htcypf5fgBzr5L X-Gm-Gg: ASbGncsVBsoU9BaYPKpal8GeORwv6vPsEdgkZD4bu2op9zgyd5sKjINBXW3+sbT6JwG Xst/frWjors5Rx/pvbbZ2xbFhkRZ3GgIQpCRcrWtQ1aP92x3OPczSplK1H9u9r+WNZQacdxDE91 rJOlnsKvYWOzSXNHMEVOj7EHlyJD0PhVpgsPcIYHpbJMZ4XSi4Ha161L4w+grSJO90TMQBV23WB Qf/EyIKSguHuKBM330HvMPCJiEgnL4tDYm7MbAN2D4OR7km7uPcmKQESZn55xWAs2AmhMw8AbLo a1EJskL3u5+xFzkvgujj9JmjOJuvN0zZN5a7sttOLg== X-Google-Smtp-Source: AGHT+IH1F9JATVmAHtu+H53IJHxwKtcdax7U4/XrJgDlk3eN2HeJmXfeeu82Ln1Mlb6G+jlaJ/8/rzd0Cox2 X-Received: by 2002:a05:6e02:174f:b0:3d0:239a:c46f with SMTP id e9e14a558f8ab-3d28088dc07mr103456145ab.12.1739823875690; Mon, 17 Feb 2025 12:24:35 -0800 (PST) Received: from postal.iol.unh.edu (postal.iol.unh.edu. [2606:4100:3880:1234::84]) by smtp-relay.gmail.com with ESMTPS id 8926c6da1cb9f-4ed282a721bsm636978173.56.2025.02.17.12.24.35 (version=TLS1_2 cipher=ECDHE-ECDSA-AES128-GCM-SHA256 bits=128/128); Mon, 17 Feb 2025 12:24:35 -0800 (PST) X-Relaying-Domain: iol.unh.edu Date: Mon, 17 Feb 2025 12:24:35 -0800 (PST) Message-ID: <67b39b03.050a0220.1b0167.0e3eSMTPIN_ADDED_MISSING@mx.google.com> Received: from [172.17.0.3] (unknown [172.18.0.217]) by postal.iol.unh.edu (Postfix) with ESMTP id 3683D6052471; Mon, 17 Feb 2025 15:24:35 -0500 (EST) Subject: |SUCCESS| pw151558-151568 [PATCH] [RFC,11/11] regexdev: remove unnec From: dpdklab@iol.unh.edu To: Test Report Cc: dpdk-test-reports@iol.unh.edu In-Reply-To: <20250217185743.169778-12-stephen@networkplumber.org> References: <20250217185743.169778-12-stephen@networkplumber.org> Content-Type: text/plain X-BeenThere: test-report@dpdk.org X-Mailman-Version: 2.1.29 Precedence: list List-Id: automatic DPDK test reports List-Unsubscribe: , List-Archive: List-Post: List-Help: List-Subscribe: , Errors-To: test-report-bounces@dpdk.org Test-Label: iol-abi-testing Test-Status: SUCCESS http://dpdk.org/patch/151568 _Testing PASS_ Submitter: Stephen Hemminger Date: Monday, February 17 2025 18:54:10 DPDK git baseline: Repo:dpdk Branch: master CommitID:e5176f23ae8b31437c3e5eb875c81f95bf3a9942 151558-151568 --> testing pass Upstream job id: Generic-DPDK-Compile-ABI#116472 Test environment and result as below: +-------------------+----------+ | Environment | abi_test | +===================+==========+ | CentOS Stream 9 | PASS | +-------------------+----------+ | Debian Bullseye | PASS | +-------------------+----------+ | Fedora 40 | PASS | +-------------------+----------+ | Fedora 41 (Clang) | PASS | +-------------------+----------+ | Fedora 40 (Clang) | PASS | +-------------------+----------+ | Debian 12 | PASS | +-------------------+----------+ | Fedora 41 | PASS | +-------------------+----------+ | RHEL8 | PASS | +-------------------+----------+ | Ubuntu 22.04 | PASS | +-------------------+----------+ | openSUSE Leap 15 | PASS | +-------------------+----------+ | RHEL9 | PASS | +-------------------+----------+ | Ubuntu 24.04 | PASS | +-------------------+----------+ | CentOS Stream 10 | PASS | +-------------------+----------+ CentOS Stream 9 Kernel: Depends on container host Compiler: gcc 11.5.0 20240719 (Red Hat 11.5.0-2) Debian Bullseye Kernel: Depends on container host Compiler: gcc (Debian 10.2.1-6) 10.2.1 20210110 Fedora 40 Kernel: Depends on container host Compiler: gcc 14.2.1 20240912 (Red Hat 14.2.1-3) Fedora 41 (Clang) Kernel: Depends on container host Compiler: clang 19.1.5 (Fedora 19.1.5-1.fc41) Fedora 40 (Clang) Kernel: Depends on container host Compiler: clang 18.1.8 (Fedora 18.1.8-1.fc40) Debian 12 Kernel: Depends on container host Compiler: gcc (Debian 12.2.0-14) 12.2.0 Fedora 41 Kernel: Depends on container host Compiler: gcc 14.2.1 20240912 (Red Hat 14.2.1-3) RHEL8 Kernel: Depends on container host Compiler: gcc 8.5.0 20210514 (Red Hat 8.5.0-22) Ubuntu 22.04 Kernel: Depends on container host Compiler: gcc (Ubuntu 11.4.0-1ubuntu1~22.04) 11.4.0 openSUSE Leap 15 Kernel: Depends on container host Compiler: gcc (SUSE Linux) 7.5.0 RHEL9 Kernel: Depends on container host Compiler: gcc 11.5.0 20240719 (Red Hat 11.5.0-2) Ubuntu 24.04 Kernel: Depends on container host Compiler: gcc (Ubuntu 13.3.0-6ubuntu2~24.04) 13.3.0 CentOS Stream 10 Kernel: Depends on container host Compiler: gcc 14.2.1 20241104 (Red Hat 14.2.1-6) To view detailed results, visit: https://lab.dpdk.org/results/dashboard/patchsets/32595/ UNH-IOL DPDK Community Lab To manage your email subscriptions, visit: https://lab.dpdk.org/results/dashboard/preferences/subscriptions/