From mboxrd@z Thu Jan  1 00:00:00 1970
Return-Path: <test-report-bounces@dpdk.org>
Received: from mails.dpdk.org (mails.dpdk.org [217.70.189.124])
	by inbox.dpdk.org (Postfix) with ESMTP id DF7EE46250
	for <public@inbox.dpdk.org>; Mon, 17 Feb 2025 21:43:09 +0100 (CET)
Received: from mails.dpdk.org (localhost [127.0.0.1])
	by mails.dpdk.org (Postfix) with ESMTP id B364040151;
	Mon, 17 Feb 2025 21:43:09 +0100 (CET)
Received: from mail-pl1-f227.google.com (mail-pl1-f227.google.com
 [209.85.214.227])
 by mails.dpdk.org (Postfix) with ESMTP id BC05B400EF
 for <test-report@dpdk.org>; Mon, 17 Feb 2025 21:43:07 +0100 (CET)
Received: by mail-pl1-f227.google.com with SMTP id
 d9443c01a7336-220f048c038so56635505ad.2
 for <test-report@dpdk.org>; Mon, 17 Feb 2025 12:43:07 -0800 (PST)
DKIM-Signature: v=1; a=rsa-sha256; c=relaxed/relaxed;
 d=iol.unh.edu; s=unh-iol; t=1739824987; x=1740429787; darn=dpdk.org;
 h=references:in-reply-to:cc:to:from:subject:message-id:date:from:to
 :cc:subject:date:message-id:reply-to;
 bh=cAvaFbJOM9lcEHARxCr1hH/ssDAWJ4iMmVjgEIzyYkE=;
 b=Vp+hknktf/cOeBDHKrRPv931hw4CAIap8dJ6/Du2V7N/1GaSkCIVOIVb96Rcn72KQm
 QES9nGg2uppEqx1lEb8+OeSzIp8yi8odrhVT98h1XleCSzjhDtv5pJt6M1Tc1Xg8uaIY
 qhuCOHo477DprZWzPJTD53UuYUVw8/5rJ6d2o=
X-Google-DKIM-Signature: v=1; a=rsa-sha256; c=relaxed/relaxed;
 d=1e100.net; s=20230601; t=1739824987; x=1740429787;
 h=references:in-reply-to:cc:to:from:subject:message-id:date
 :x-gm-message-state:from:to:cc:subject:date:message-id:reply-to;
 bh=cAvaFbJOM9lcEHARxCr1hH/ssDAWJ4iMmVjgEIzyYkE=;
 b=CIXQPx1yN6wUgv9yEsGBT/VNGB8Jth+XtVFvcIPtGM0HKiCtjEUFb8qsnE3EFttgI2
 Xua5m0nQJu6TOQSicJyvXqyu+2yShORuQ/RT59ciiG6wd6zZgTLdAOmSn//1FBlniznW
 wNmlj15Xa0WjzbVrKg+4jfqheFNorpNCaeCIdrqhL66be7vccFqguOrccngfDuXEVsSY
 fYGe4d/WH3Z4RMKkM91h/TyGG6JVI5r2YHXuejaYL9/mWvgDDlNwgphegKDDAv5VsayR
 Tauw9NF7XWIbGNYTMJvdJfQ1zsScEyAiaMx8JZ5yqac2vzdBmzlXaruPB+vppjSAdBy2
 FQHw==
X-Gm-Message-State: AOJu0YzZ1EBytrj17HQ93PXN7qBWpP1Yu12Gxjr3+ye88oJ+DWRBAhgL
 mGJ1yM9VLsasuhd9Y27Zc/5zl2jAQeN/UqYtzx8EeNut2x3HpTGDusNXoa6OBZvO8RAvpC1xMZ/
 hTOh9X2FM5VUUEmN4o6euGa9i7ZwvLE1AANMLuLgM6QQI3Ovv1IbZIo9Z
X-Gm-Gg: ASbGncvdCCm6Ioi0f1Rn8LZHVRqCu/4TEZAAFrnk1e9H8yFmSt9L3JCCiFfkO5BNRkm
 NgzzXmsIoYSOZr+bsfoQHyZfqR82FtKjMbLMRbCFIJ42qLudIBlOxrm8LfJCpMAKz8VjsJohrKa
 PZC6VcqHMNvttrCWEunRfvmAvMDB7ehafeeB7HqhQdh+pY2z8bBJtB9VkNh4dHwTqtO/T2f3gEP
 mkLLDGFCiXj+1JBPXmIlJr4GbyteIbs4tQJIHDEFFE4IFGAN2NhhWyjVLSbYu5vjfmuFrR4FaMP
 y2cssE81olcjjI+VSz9djH2bJnLRk9NNFSe97f5AJw==
X-Google-Smtp-Source: AGHT+IFKSLyYvSSqs3dhoaXvMlK42ZWBpZCAnC0vaN4B4xiqTm6BWtn+wKnq+ncrRJEM0X6UdeW9oew9Ai9m
X-Received: by 2002:a17:902:f64a:b0:220:cb6c:2e30 with SMTP id
 d9443c01a7336-221040bf792mr154435285ad.49.1739824986778; 
 Mon, 17 Feb 2025 12:43:06 -0800 (PST)
Received: from postal.iol.unh.edu (postal.iol.unh.edu.
 [2606:4100:3880:1234::84]) by smtp-relay.gmail.com with ESMTPS id
 d9443c01a7336-220d5439ab1sm4740135ad.121.2025.02.17.12.43.06
 (version=TLS1_2 cipher=ECDHE-ECDSA-AES128-GCM-SHA256 bits=128/128);
 Mon, 17 Feb 2025 12:43:06 -0800 (PST)
X-Relaying-Domain: iol.unh.edu
Date: Mon, 17 Feb 2025 12:43:06 -0800 (PST)
Message-ID: <67b39f5a.170a0220.15d58a.82c3SMTPIN_ADDED_MISSING@mx.google.com>
Received: from [172.17.0.3] (unknown [172.18.0.217])
 by postal.iol.unh.edu (Postfix) with ESMTP id EC49A6052471;
 Mon, 17 Feb 2025 15:43:05 -0500 (EST)
Subject: |SUCCESS| pw151558-151568 [PATCH] [RFC,11/11] regexdev: remove unnec
From: dpdklab@iol.unh.edu
To: Test Report <test-report@dpdk.org>
Cc: dpdk-test-reports@iol.unh.edu
In-Reply-To: <20250217185743.169778-12-stephen@networkplumber.org>
References: <20250217185743.169778-12-stephen@networkplumber.org>
Content-Type: text/plain
X-BeenThere: test-report@dpdk.org
X-Mailman-Version: 2.1.29
Precedence: list
List-Id: automatic DPDK test reports <test-report.dpdk.org>
List-Unsubscribe: <https://mails.dpdk.org/options/test-report>,
 <mailto:test-report-request@dpdk.org?subject=unsubscribe>
List-Archive: <http://mails.dpdk.org/archives/test-report/>
List-Post: <mailto:test-report@dpdk.org>
List-Help: <mailto:test-report-request@dpdk.org?subject=help>
List-Subscribe: <https://mails.dpdk.org/listinfo/test-report>,
 <mailto:test-report-request@dpdk.org?subject=subscribe>
Errors-To: test-report-bounces@dpdk.org

Test-Label: iol-compile-amd64-testing
Test-Status: SUCCESS
http://dpdk.org/patch/151568

_Testing PASS_

Submitter: Stephen Hemminger <stephen@networkplumber.org>
Date: Monday, February 17 2025 18:54:10 
DPDK git baseline: Repo:dpdk
  Branch: master
  CommitID:e5176f23ae8b31437c3e5eb875c81f95bf3a9942

151558-151568 --> testing pass

Upstream job id: Generic-DPDK-Compile-Meson#362348

Test environment and result as below:

+---------------------+--------------------+-------------------+------------------+-------------------+-------------------------+----------------------+
|     Environment     | dpdk_meson_compile | dpdk_compile_spdk | dpdk_compile_ovs | dpdk_msvc_compile | dpdk_llvm_clang_compile | dpdk_mingw64_compile |
+=====================+====================+===================+==================+===================+=========================+======================+
| CentOS Stream 10    | PASS               | SKIPPED           | SKIPPED          | SKIPPED           | SKIPPED                 | SKIPPED              |
+---------------------+--------------------+-------------------+------------------+-------------------+-------------------------+----------------------+
| CentOS Stream 9     | PASS               | PASS              | SKIPPED          | SKIPPED           | SKIPPED                 | SKIPPED              |
+---------------------+--------------------+-------------------+------------------+-------------------+-------------------------+----------------------+
| Debian 12           | PASS               | PASS              | SKIPPED          | SKIPPED           | SKIPPED                 | SKIPPED              |
+---------------------+--------------------+-------------------+------------------+-------------------+-------------------------+----------------------+
| Debian Bullseye     | PASS               | PASS              | SKIPPED          | SKIPPED           | SKIPPED                 | SKIPPED              |
+---------------------+--------------------+-------------------+------------------+-------------------+-------------------------+----------------------+
| Fedora 40 (Clang)   | PASS               | PASS              | SKIPPED          | SKIPPED           | SKIPPED                 | SKIPPED              |
+---------------------+--------------------+-------------------+------------------+-------------------+-------------------------+----------------------+
| Fedora 41 (Clang)   | PASS               | PASS              | PASS             | SKIPPED           | SKIPPED                 | SKIPPED              |
+---------------------+--------------------+-------------------+------------------+-------------------+-------------------------+----------------------+
| Fedora 40           | PASS               | PASS              | SKIPPED          | SKIPPED           | SKIPPED                 | SKIPPED              |
+---------------------+--------------------+-------------------+------------------+-------------------+-------------------------+----------------------+
| openSUSE Leap 15    | PASS               | SKIPPED           | SKIPPED          | SKIPPED           | SKIPPED                 | SKIPPED              |
+---------------------+--------------------+-------------------+------------------+-------------------+-------------------------+----------------------+
| Fedora 41           | PASS               | PASS              | PASS             | SKIPPED           | SKIPPED                 | SKIPPED              |
+---------------------+--------------------+-------------------+------------------+-------------------+-------------------------+----------------------+
| RHEL8               | PASS               | SKIPPED           | SKIPPED          | SKIPPED           | SKIPPED                 | SKIPPED              |
+---------------------+--------------------+-------------------+------------------+-------------------+-------------------------+----------------------+
| RHEL9               | PASS               | SKIPPED           | SKIPPED          | SKIPPED           | SKIPPED                 | SKIPPED              |
+---------------------+--------------------+-------------------+------------------+-------------------+-------------------------+----------------------+
| Ubuntu 20.04        | PASS               | SKIPPED           | SKIPPED          | SKIPPED           | SKIPPED                 | SKIPPED              |
+---------------------+--------------------+-------------------+------------------+-------------------+-------------------------+----------------------+
| Ubuntu 22.04        | PASS               | PASS              | SKIPPED          | SKIPPED           | SKIPPED                 | SKIPPED              |
+---------------------+--------------------+-------------------+------------------+-------------------+-------------------------+----------------------+
| Ubuntu 24.04        | PASS               | PASS              | PASS             | SKIPPED           | SKIPPED                 | SKIPPED              |
+---------------------+--------------------+-------------------+------------------+-------------------+-------------------------+----------------------+
| Alpine              | PASS               | SKIPPED           | SKIPPED          | SKIPPED           | SKIPPED                 | SKIPPED              |
+---------------------+--------------------+-------------------+------------------+-------------------+-------------------------+----------------------+
| FreeBSD 13.4        | PASS               | SKIPPED           | SKIPPED          | SKIPPED           | SKIPPED                 | SKIPPED              |
+---------------------+--------------------+-------------------+------------------+-------------------+-------------------------+----------------------+
| FreeBSD 14.2        | PASS               | SKIPPED           | SKIPPED          | SKIPPED           | SKIPPED                 | SKIPPED              |
+---------------------+--------------------+-------------------+------------------+-------------------+-------------------------+----------------------+
| Windows Server 2022 | SKIPPED            | SKIPPED           | SKIPPED          | PASS              | PASS                    | PASS                 |
+---------------------+--------------------+-------------------+------------------+-------------------+-------------------------+----------------------+


CentOS Stream 10
	Kernel: Depends on container host
	Compiler: gcc 14.2.1 20241104 (Red Hat 14.2.1-6)

CentOS Stream 9
	Kernel: Depends on container host
	Compiler: gcc 11.5.0 20240719 (Red Hat 11.5.0-2)

Debian 12
	Kernel: Depends on container host
	Compiler: gcc (Debian 12.2.0-14) 12.2.0

Debian Bullseye
	Kernel: Depends on container host
	Compiler: gcc (Debian 10.2.1-6) 10.2.1 20210110

Fedora 40 (Clang)
	Kernel: Depends on container host
	Compiler: clang 18.1.8 (Fedora 18.1.8-1.fc40)

Fedora 41 (Clang)
	Kernel: Depends on container host
	Compiler: clang 19.1.5 (Fedora 19.1.5-1.fc41)

Fedora 40
	Kernel: Depends on container host
	Compiler: gcc 14.2.1 20240912 (Red Hat 14.2.1-3)

openSUSE Leap 15
	Kernel: Depends on container host
	Compiler: gcc (SUSE Linux) 7.5.0

Fedora 41
	Kernel: Depends on container host
	Compiler: gcc 14.2.1 20240912 (Red Hat 14.2.1-3)

RHEL8
	Kernel: Depends on container host
	Compiler: gcc 8.5.0 20210514 (Red Hat 8.5.0-22)

RHEL9
	Kernel: Depends on container host
	Compiler: gcc 11.5.0 20240719 (Red Hat 11.5.0-2)

Ubuntu 20.04
	Kernel: Depends on container host
	Compiler: gcc (Ubuntu 9.4.0-1ubuntu1~20.04.2) 9.4.0

Ubuntu 22.04
	Kernel: Depends on container host
	Compiler: gcc (Ubuntu 11.4.0-1ubuntu1~22.04) 11.4.0

Ubuntu 24.04
	Kernel: Depends on container host
	Compiler: gcc (Ubuntu 13.3.0-6ubuntu2~24.04) 13.3.0

Alpine
	Kernel: Depends on container host
	Compiler: gcc (Alpine 14.2.0) 14.2.0

FreeBSD 13.4
	Kernel: 13.4-RELEASE-p1
	Compiler: clang 18.1.6

FreeBSD 14.2
	Kernel: 14.2-RELEASE
	Compiler: clang 18.1.6

Windows Server 2022
	Kernel: 10.0.20348.2031
	Compiler: clang 15.0.7, gcc 14.1.0 (MinGW), and MSVC VS 19.39.33521

To view detailed results, visit:
https://lab.dpdk.org/results/dashboard/patchsets/32595/

UNH-IOL DPDK Community Lab

To manage your email subscriptions, visit: 
https://lab.dpdk.org/results/dashboard/preferences/subscriptions/