From mboxrd@z Thu Jan 1 00:00:00 1970 Return-Path: Received: from mails.dpdk.org (mails.dpdk.org [217.70.189.124]) by inbox.dpdk.org (Postfix) with ESMTP id E15AD46251 for ; Mon, 17 Feb 2025 22:39:42 +0100 (CET) Received: from mails.dpdk.org (localhost [127.0.0.1]) by mails.dpdk.org (Postfix) with ESMTP id C50A340151; Mon, 17 Feb 2025 22:39:42 +0100 (CET) Received: from mail-io1-f98.google.com (mail-io1-f98.google.com [209.85.166.98]) by mails.dpdk.org (Postfix) with ESMTP id 710E2400EF for ; Mon, 17 Feb 2025 22:39:41 +0100 (CET) Received: by mail-io1-f98.google.com with SMTP id ca18e2360f4ac-85571df0265so265015439f.2 for ; Mon, 17 Feb 2025 13:39:41 -0800 (PST) DKIM-Signature: v=1; a=rsa-sha256; c=relaxed/relaxed; d=iol.unh.edu; s=unh-iol; t=1739828380; x=1740433180; darn=dpdk.org; h=references:in-reply-to:cc:to:from:subject:message-id:date:from:to :cc:subject:date:message-id:reply-to; bh=+uBikTyGnl4sjeL/EkbGRqBtIvy7NS55WhQ2iEJ5hBM=; b=UPe90/Yi0PT0BuYeJpzt9oLWzeGbB1AynvdfnulHpbY2zVYFRCPRQBnLiRV2doY5UJ WWVOfnyzBzxMaQLFfACMWFqnUN5NqxJsUfYrMQqFdx9HbydL8mjhl/GTsU/nd8xxkC/Q RuHeKlTkS/dx8U6vU4GDxCV1933mdi2/AeK94= X-Google-DKIM-Signature: v=1; a=rsa-sha256; c=relaxed/relaxed; d=1e100.net; s=20230601; t=1739828380; x=1740433180; h=references:in-reply-to:cc:to:from:subject:message-id:date :x-gm-message-state:from:to:cc:subject:date:message-id:reply-to; bh=+uBikTyGnl4sjeL/EkbGRqBtIvy7NS55WhQ2iEJ5hBM=; b=u09FqqC+5QdwMQeB8U4RDj917dfB3HCqKEfXr0IveGzDqxnO3gqJVp+nKTM23NCUJc e/+znmIjWms+Iy84lLfciiAo6KTRa1sEznnnhVpHsnLlo1KAMOGNd94cpEP5TC7QEDBB 7RHtn09/c2/SWimvwIjY6reqQ4+W2yX/wuQ6x8fF5d02vizV6GIjyG+wr2XVvVmsQfzb jamaR9lFI5I6aqZIn0po5m6yi1fm06fqkNJscl+YbaKdAW4QjknOdHyzgst0mSppdCM1 PXeh5c4qwrbdGhAdao6w4AfjqC0525HeTykm0cqnCF4nzs1RDv8m3yXIUzImQMlMjb0W Vm6Q== X-Gm-Message-State: AOJu0YxwXvPN0RrxQP/B9hXHyYmX1XjD5DqrhEv1Ht53q/xYkhU/Rnp/ TOKa7ipA7Zr9sQqcaudf7yRsV6gzFvSyS2775HN87uwcJmZOREOKxz9K4QJ9N24Ah9aUCvfVhzE 8aOtG1vJuA6jCg33yRdFwqMYnyX9tMU9KBfkZpnOjINrmTFIazIZ4LLGL X-Gm-Gg: ASbGnct8fepiZXmjZZcFk78s2FZ6XUSJyAewVfHAnwpuPXvqaZXe7M3Yg56n2hA0/xW Z+7sJDqtBGJc1HNyYohEoy95ea+8s6Znr3++YSm2RCyex5sTk7p3eIHt4DBFqnwIeuBwVWA9HxI ZVVTOCAY3WiuOxjUciPRIpBMP1vNFiLZOMN2aSI35UOWb8nxYd8S1SS6zL4Oo7Kyn4qWIXkO/T+ czydQc4g3zFz86CZG39Cw88bLi+pebyT3vlsQ6gIPCdqZO0PaBwcVFV8EvQofIkSJsjK8LqelME SCPna72wQNwsAt4OSET9tqimi33xl9DvOUpixK+Vxw== X-Google-Smtp-Source: AGHT+IGb34bbcqx2N7YSOFoLldnrqx5LOJAi5o/bR1ix7e4pfxmnIpdVdpkeHJk7oO54Vj+wIT+cmUubEKU5 X-Received: by 2002:a05:6e02:4519:b0:3d2:a5a0:8b06 with SMTP id e9e14a558f8ab-3d2a5a08d00mr26327785ab.2.1739828380696; Mon, 17 Feb 2025 13:39:40 -0800 (PST) Received: from postal.iol.unh.edu (postal.iol.unh.edu. [2606:4100:3880:1234::84]) by smtp-relay.gmail.com with ESMTPS id e9e14a558f8ab-3d2853163c2sm3696725ab.25.2025.02.17.13.39.40 (version=TLS1_2 cipher=ECDHE-ECDSA-AES128-GCM-SHA256 bits=128/128); Mon, 17 Feb 2025 13:39:40 -0800 (PST) X-Relaying-Domain: iol.unh.edu Date: Mon, 17 Feb 2025 13:39:40 -0800 (PST) Message-ID: <67b3ac9c.050a0220.9aa80.1aa4SMTPIN_ADDED_MISSING@mx.google.com> Received: from [172.17.0.4] (unknown [172.18.0.217]) by postal.iol.unh.edu (Postfix) with ESMTP id 4AF646052471; Mon, 17 Feb 2025 16:39:40 -0500 (EST) Subject: |SUCCESS| pw151558-151568 [PATCH] [RFC,11/11] regexdev: remove unnec From: dpdklab@iol.unh.edu To: Test Report Cc: dpdk-test-reports@iol.unh.edu In-Reply-To: <20250217185743.169778-12-stephen@networkplumber.org> References: <20250217185743.169778-12-stephen@networkplumber.org> Content-Type: text/plain X-BeenThere: test-report@dpdk.org X-Mailman-Version: 2.1.29 Precedence: list List-Id: automatic DPDK test reports List-Unsubscribe: , List-Archive: List-Post: List-Help: List-Subscribe: , Errors-To: test-report-bounces@dpdk.org Test-Label: iol-sample-apps-testing Test-Status: SUCCESS http://dpdk.org/patch/151568 _Testing PASS_ Submitter: Stephen Hemminger Date: Monday, February 17 2025 18:54:10 DPDK git baseline: Repo:dpdk Branch: master CommitID:e5176f23ae8b31437c3e5eb875c81f95bf3a9942 151558-151568 --> testing pass Upstream job id: Template-DTS-Pipeline#212959 Test environment and result as below: +--------------------+----------------------+----------------------+ | Environment | dpdk_fips_validation | compressdev_zlib_pmd | +====================+======================+======================+ | Ubuntu 20.04 | PASS | SKIPPED | +--------------------+----------------------+----------------------+ | Ubuntu 22.04 | SKIPPED | PASS | +--------------------+----------------------+----------------------+ | Ubuntu 22.04 (ARM) | SKIPPED | PASS | +--------------------+----------------------+----------------------+ Ubuntu 20.04 Kernel: Depends on container host Compiler: gcc (Ubuntu 9.4.0-1ubuntu1~20.04.2) 9.4.0 Ubuntu 22.04 Kernel: 5.15.0-100-generic Compiler: gcc gcc (Ubuntu 11.4.0-1ubuntu1~22.04) 11.4.0 Ubuntu 22.04 (ARM) Kernel: 5.15.0-97-generic Compiler: gcc gcc (Ubuntu 11.4.0-1ubuntu1~22.04) 11.4.0 To view detailed results, visit: https://lab.dpdk.org/results/dashboard/patchsets/32595/ UNH-IOL DPDK Community Lab To manage your email subscriptions, visit: https://lab.dpdk.org/results/dashboard/preferences/subscriptions/