From mboxrd@z Thu Jan 1 00:00:00 1970 Return-Path: Received: from mails.dpdk.org (mails.dpdk.org [217.70.189.124]) by inbox.dpdk.org (Postfix) with ESMTP id B1F4146251 for ; Mon, 17 Feb 2025 23:57:47 +0100 (CET) Received: from mails.dpdk.org (localhost [127.0.0.1]) by mails.dpdk.org (Postfix) with ESMTP id 8BA754014F; Mon, 17 Feb 2025 23:57:47 +0100 (CET) Received: from mail-il1-f225.google.com (mail-il1-f225.google.com [209.85.166.225]) by mails.dpdk.org (Postfix) with ESMTP id C5837400EF for ; Mon, 17 Feb 2025 23:57:45 +0100 (CET) Received: by mail-il1-f225.google.com with SMTP id e9e14a558f8ab-3cfc79a8a95so12125375ab.2 for ; Mon, 17 Feb 2025 14:57:45 -0800 (PST) DKIM-Signature: v=1; a=rsa-sha256; c=relaxed/relaxed; d=iol.unh.edu; s=unh-iol; t=1739833065; x=1740437865; darn=dpdk.org; h=references:in-reply-to:cc:to:from:subject:message-id:date:from:to :cc:subject:date:message-id:reply-to; bh=2PKPE5ASe7SQR0lUf+cJYcDpsSGA0XgUIc2IFFtfaOY=; b=DD6DVkny6CF9EX71pD3+CLOVXCA/zqf5imDwAlBtrHX/nWCGVPkLH2+IbEt0bDj7lx EA+nNh/ZQNZLdHBRusIW7bEKxy5XbIN4bxy1JirsKfP1jSjuLv04kU4wuOsYhhlFxfa2 OK5TD1SL6AxkVSdojJIdPdNcIgS/KFMCeA65k= X-Google-DKIM-Signature: v=1; a=rsa-sha256; c=relaxed/relaxed; d=1e100.net; s=20230601; t=1739833065; x=1740437865; h=references:in-reply-to:cc:to:from:subject:message-id:date :x-gm-message-state:from:to:cc:subject:date:message-id:reply-to; bh=2PKPE5ASe7SQR0lUf+cJYcDpsSGA0XgUIc2IFFtfaOY=; b=e3/ujicG1ZKUq5IfBpJYYlUsMar19O6O4UK+e6ax4mCeZ01n4aW9+0Kp1JYIHjym4A TiaSTLFVEjzq+WtoZ/cAla+M/0bEnyTsVODfRQrtXufdBODJuP9xwrqE1en8U0y/LqNH E8Lp9GOKBdbA2I5sj35vXB5rxEjGsSa4zlMoitn0VbKTakU62PEb2wN1ZiiknZMNOH6N hBC1Pf+EWWxQmlk9YwMHzlmgevn8Ybz/f8A5HvCVpfXRxuZtKv1EHiWp6ls8fR8hOzqq CdVZnSrZHbUySxiv4RZkgxtu5/f7hca0p3cLVmcPyz5RBsM8X3w2APyKhz0gkm1qFBJ/ owcw== X-Gm-Message-State: AOJu0YxfS9JUyluOufSjUcoVyZnGKS/9+PPCsFoMGn1bmIe5SQHkM7eK 7ADYySZ03OTgsd9fStpz5XyoytUGM0QbbH50yvAVrzeAkwfMSt+8JlSBvzJq2eozX+T7LCTKaae 2X14N+hwy06lpFE34UKNPAo1yG8p1TU2SxoCeRKf9Vu73/60N7r50uJn2 X-Gm-Gg: ASbGncsvCyZCr1WYVkQZlefQsy2KmoFlT5rNkC6N/jwq/jY+717HQKwKLCfcLgLG3js /bI9qfOLLY6tPRs85FMuA02UvCn1TqBRJUmZbCWj2YDE9hqfq78XSLh9N37s88zyjXr9Z5/Ev2D z6dt+AlhEKn6Os8GUvFNtMutT428rHpfIlKNbDmANhs9GLhKCJAn1kE1jwFRmZLtxFUrP5L+wDB IQMvtRUTx7QuaDLWiljFvQrSidIBLKu3vAPQp2sPoehpb4/7Cw3bX3upZUPAqaCRnAAvKkeYpi3 j7rwloAUJSzXkCW8VFCi7nZrqi11fOpooNaKccG8VQ== X-Google-Smtp-Source: AGHT+IHyxhR9V5qk8tg2NjyFf2q3yqEkGEJSWTSZIDZeCTcjLXGub8Q+qaKrUcgvreDyM221jE1km9DJAOOq X-Received: by 2002:a92:cd82:0:b0:3cf:b3ab:584d with SMTP id e9e14a558f8ab-3d2809209f9mr89336335ab.13.1739833065102; Mon, 17 Feb 2025 14:57:45 -0800 (PST) Received: from postal.iol.unh.edu (postal.iol.unh.edu. [2606:4100:3880:1234::84]) by smtp-relay.gmail.com with ESMTPS id e9e14a558f8ab-3d18f9d7e67sm6710885ab.38.2025.02.17.14.57.45 (version=TLS1_2 cipher=ECDHE-ECDSA-AES128-GCM-SHA256 bits=128/128); Mon, 17 Feb 2025 14:57:45 -0800 (PST) X-Relaying-Domain: iol.unh.edu Date: Mon, 17 Feb 2025 14:57:45 -0800 (PST) Message-ID: <67b3bee9.050a0220.21f93f.304aSMTPIN_ADDED_MISSING@mx.google.com> Received: from [172.17.0.3] (unknown [172.18.0.217]) by postal.iol.unh.edu (Postfix) with ESMTP id 8101E6052471; Mon, 17 Feb 2025 17:57:44 -0500 (EST) Subject: |SUCCESS| pw151558-151568 [PATCH] [RFC,11/11] regexdev: remove unnec From: dpdklab@iol.unh.edu To: Test Report Cc: dpdk-test-reports@iol.unh.edu In-Reply-To: <20250217185743.169778-12-stephen@networkplumber.org> References: <20250217185743.169778-12-stephen@networkplumber.org> Content-Type: text/plain X-BeenThere: test-report@dpdk.org X-Mailman-Version: 2.1.29 Precedence: list List-Id: automatic DPDK test reports List-Unsubscribe: , List-Archive: List-Post: List-Help: List-Subscribe: , Errors-To: test-report-bounces@dpdk.org Test-Label: iol-compile-arm64-testing Test-Status: SUCCESS http://dpdk.org/patch/151568 _Testing PASS_ Submitter: Stephen Hemminger Date: Monday, February 17 2025 18:54:10 DPDK git baseline: Repo:dpdk Branch: master CommitID:e5176f23ae8b31437c3e5eb875c81f95bf3a9942 151558-151568 --> testing pass Upstream job id: Generic-DPDK-Compile-Meson#362356 Test environment and result as below: +----------------------------------------+--------------------+ | Environment | dpdk_meson_compile | +========================================+====================+ | RHEL9 (ARM) | PASS | +----------------------------------------+--------------------+ | Ubuntu 20.04 ARM GCC Cross Compile | PASS | +----------------------------------------+--------------------+ | Ubuntu 20.04 ARM SVE | PASS | +----------------------------------------+--------------------+ | Debian 12 with MUSDK | PASS | +----------------------------------------+--------------------+ | Fedora 40 (ARM) | PASS | +----------------------------------------+--------------------+ | Fedora 40 (ARM Clang) | PASS | +----------------------------------------+--------------------+ | Ubuntu 20.04 (ARM) | PASS | +----------------------------------------+--------------------+ | Fedora 41 (ARM Clang) | PASS | +----------------------------------------+--------------------+ | Ubuntu 22.04 (ARM) | PASS | +----------------------------------------+--------------------+ | Ubuntu 24.04 (ARM) | PASS | +----------------------------------------+--------------------+ | CentOS Stream 9 (ARM) | PASS | +----------------------------------------+--------------------+ | CentOS Stream 10 (ARM) | PASS | +----------------------------------------+--------------------+ | Debian 11 (Buster) (ARM) | PASS | +----------------------------------------+--------------------+ | Ubuntu 20.04 ARM Clang Cross Compile | PASS | +----------------------------------------+--------------------+ | Debian 12 (arm) | PASS | +----------------------------------------+--------------------+ | Ubuntu 20.04 aarch32 GCC Cross Compile | PASS | +----------------------------------------+--------------------+ | Fedora 41 (ARM) | PASS | +----------------------------------------+--------------------+ RHEL9 (ARM) Kernel: Depends on container host Compiler: gcc 11.5.0 20240719 (Red Hat 11.5.0-2) Ubuntu 20.04 ARM GCC Cross Compile Kernel: Depends on container host Compiler: aarch64-linux-gnu-gcc (Ubuntu 9.4.0-1ubuntu1~20.04.2) 9.4.0 Ubuntu 20.04 ARM SVE Kernel: Depends on container host Compiler: gcc (Ubuntu 10.5.0-1ubuntu1~20.04) 10.5.0 Debian 12 with MUSDK Kernel: Depends on container host Compiler: gcc (Debian 12.2.0-14) 12.2.0 Fedora 40 (ARM) Kernel: Depends on container host Compiler: gcc 14.2.1 20240912 (Red Hat 14.2.1-3) Fedora 40 (ARM Clang) Kernel: Depends on container host Compiler: clang 18.1.8 (Fedora 18.1.8-1.fc40) Ubuntu 20.04 (ARM) Kernel: Depends on container host Compiler: gcc (Ubuntu 9.4.0-1ubuntu1~20.04.2) 9.4.0 Fedora 41 (ARM Clang) Kernel: Depends on container host Compiler: clang 19.1.5 (Fedora 19.1.5-1.fc41) Ubuntu 22.04 (ARM) Kernel: Depends on container host Compiler: gcc (Ubuntu 11.4.0-1ubuntu1~22.04) 11.4.0 Ubuntu 24.04 (ARM) Kernel: Depends on container host Compiler: gcc (Ubuntu 13.3.0-6ubuntu2~24.04) 13.3.0 CentOS Stream 9 (ARM) Kernel: Depends on container host Compiler: gcc 11.5.0 20240719 (Red Hat 11.5.0-2) CentOS Stream 10 (ARM) Kernel: Depends on container host Compiler: gcc 14.2.1 20241104 (Red Hat 14.2.1-6) Debian 11 (Buster) (ARM) Kernel: Depends on container host Compiler: gcc (Debian 10.2.1-6) 10.2.1 20210110 Ubuntu 20.04 ARM Clang Cross Compile Kernel: Depends on container host Compiler: clang 10.0.0-4ubuntu1 Debian 12 (arm) Kernel: Depends on container host Compiler: gcc (Debian 12.2.0-14) 12.2.0 Ubuntu 20.04 aarch32 GCC Cross Compile Kernel: Depends on container host Compiler: gcc 9.4.0 Fedora 41 (ARM) Kernel: Depends on container host Compiler: gcc 14.2.1 20240912 (Red Hat 14.2.1-3) To view detailed results, visit: https://lab.dpdk.org/results/dashboard/patchsets/32595/ UNH-IOL DPDK Community Lab To manage your email subscriptions, visit: https://lab.dpdk.org/results/dashboard/preferences/subscriptions/