From mboxrd@z Thu Jan 1 00:00:00 1970 Return-Path: Received: from mails.dpdk.org (mails.dpdk.org [217.70.189.124]) by inbox.dpdk.org (Postfix) with ESMTP id CC1C346255 for ; Tue, 18 Feb 2025 08:25:56 +0100 (CET) Received: from mails.dpdk.org (localhost [127.0.0.1]) by mails.dpdk.org (Postfix) with ESMTP id A45764014F; Tue, 18 Feb 2025 08:25:56 +0100 (CET) Received: from mail-pj1-f98.google.com (mail-pj1-f98.google.com [209.85.216.98]) by mails.dpdk.org (Postfix) with ESMTP id AD359400EF for ; Tue, 18 Feb 2025 08:25:55 +0100 (CET) Received: by mail-pj1-f98.google.com with SMTP id 98e67ed59e1d1-2fbf77b2b64so9571487a91.2 for ; Mon, 17 Feb 2025 23:25:55 -0800 (PST) DKIM-Signature: v=1; a=rsa-sha256; c=relaxed/relaxed; d=iol.unh.edu; s=unh-iol; t=1739863555; x=1740468355; darn=dpdk.org; h=cc:to:from:subject:message-id:date:from:to:cc:subject:date :message-id:reply-to; bh=qSPVUu/Q390CStykYmH4/24BP/bsLs6NHHyPOy2fxvY=; b=MeADaCubOhhA6/LU4OfF0PenVnUKh9x4YY8S/8IyMK2CJnVblriMOmOT/gpnnkFisa pAMP3wBUGXyrkKpjKPIMZwlpBd+296Po1zkKRcpNxPewuaWSWv51FRf1CDeAvgPxAkie 2XtsSvU4Ot5UTdITp0v0A7eYUH4LPxde1iPmo= X-Google-DKIM-Signature: v=1; a=rsa-sha256; c=relaxed/relaxed; d=1e100.net; s=20230601; t=1739863555; x=1740468355; h=cc:to:from:subject:message-id:date:x-gm-message-state:from:to:cc :subject:date:message-id:reply-to; bh=qSPVUu/Q390CStykYmH4/24BP/bsLs6NHHyPOy2fxvY=; b=Us2gtVw1fN+ID2EI2WHL6sjyzsYwE2MPhb9gYGuJVzU82oVByPp5xXprA85dgOqaaL 8gZFbaxVXVUThb1x+s6Gitvo6CZtwgwdPSSPttaIRE0j8i8d7h1FR4uLgcPuhN6+G3i6 O2TVaMSzLk5zae0rmiH07QCw+3WRyYzbUW5EmLsd/Tm/D0/LtNCDUE26ynnORiKzpRtz c+eflE4K6RCNbluRrcl+hdtWVbrvW788UM3iL0Fagk3qCTZGWQNapOZ7PYrYQ2E0Umki XPtrQqEhJnfty8zjBhroioNuDeWf960tP4e5mvFA2L/6v4IMhc8Yt/DI3eDop5et9p9p Mo3w== X-Gm-Message-State: AOJu0Yx/X2sdIoA1RylxNmFmk+CVl5D/FT5uJDmtVJHddOLZL3AWaj6l f0WUzvt9iQgtwYD3oP3L29hIeNgMtD62eWQqNKjsDFZNP3DLEn2NWmebN+j05nA8eLV1IQF1syz yppQ2t0a+k/xPXZl/ibTzy6Vk8pZj98zS X-Gm-Gg: ASbGnct79AMuHfEySUZqJPrL8dwQLUM4QIeL0WyUBwX+NAyjeuA6ql5LM1HHICDVhPZ boubLe6a42aEkBbk+gf9pnqJ5qFxOID6gu45L/+ltEXEWh5j70hwGCbczbclVO6vlkecbH07L7x kzsX/TNBkUOtfWakSRcT3N9HFzrpL6gwr7XM+WNAynfOoGT54lyCBB2ZOeGExZLbtsswfsoFaJ5 CFRzoh2KGnU1pCByihIC1/nbtPVbQCMDgVQuhzZ+naXwFCGhrgGMlUbCjTAJuFeueRiMLCxikfX j1g3PhubgTvKdsYRugprhVtgH2v7xw== X-Google-Smtp-Source: AGHT+IGyj0clF/xstQD3oBxTLFg57bnUSmPDl9MV+6YVbgfzkGTg2ItKJKecD/1+5Z/1emqn4pPOEEir2Is3 X-Received: by 2002:a17:90b:3ec5:b0:2f6:be57:49d2 with SMTP id 98e67ed59e1d1-2fc40f22cefmr22780430a91.17.1739863554787; Mon, 17 Feb 2025 23:25:54 -0800 (PST) Received: from postal.iol.unh.edu (postal.iol.unh.edu. [132.177.123.84]) by smtp-relay.gmail.com with ESMTPS id 98e67ed59e1d1-2fc621a5b24sm282995a91.10.2025.02.17.23.25.54 (version=TLS1_2 cipher=ECDHE-ECDSA-AES128-GCM-SHA256 bits=128/128); Mon, 17 Feb 2025 23:25:54 -0800 (PST) X-Relaying-Domain: iol.unh.edu Date: Mon, 17 Feb 2025 23:25:54 -0800 (PST) Message-ID: <67b43602.170a0220.37b51.ccbeSMTPIN_ADDED_MISSING@mx.google.com> Received: from [172.21.0.5] (unknown [172.18.0.240]) by postal.iol.unh.edu (Postfix) with ESMTP id 357726052471; Tue, 18 Feb 2025 02:25:54 -0500 (EST) Subject: |SUCCESS| [GIT MASTER] c66daa12e76d7b4912cfb7109a761856a7a873ab From: dpdklab@iol.unh.edu To: Test Report Cc: dpdk-test-reports@iol.unh.edu, Xueming Li , Christian Ehrhardt , Kevin Traynor , Luca Boccassi Content-Type: text/plain X-BeenThere: test-report@dpdk.org X-Mailman-Version: 2.1.29 Precedence: list List-Id: automatic DPDK test reports List-Unsubscribe: , List-Archive: List-Post: List-Help: List-Subscribe: , Errors-To: test-report-bounces@dpdk.org _Testing PASS_ Branch: tags/v23.11 c66daa12e76d7b4912cfb7109a761856a7a873ab --> testing pass Upstream job id: Generic-DPDK-Compile-ABI#116525 Test environment and result as below: +-------------------+----------+ | Environment | abi_test | +===================+==========+ | CentOS Stream 9 | PASS | +-------------------+----------+ | Debian Bullseye | PASS | +-------------------+----------+ | CentOS Stream 10 | PASS | +-------------------+----------+ | Debian 12 | PASS | +-------------------+----------+ | Ubuntu 22.04 | PASS | +-------------------+----------+ | Fedora 40 | PASS | +-------------------+----------+ | Fedora 41 (Clang) | PASS | +-------------------+----------+ | openSUSE Leap 15 | PASS | +-------------------+----------+ | Fedora 40 (Clang) | PASS | +-------------------+----------+ | Fedora 41 | PASS | +-------------------+----------+ | RHEL9 | PASS | +-------------------+----------+ | RHEL8 | PASS | +-------------------+----------+ | Ubuntu 24.04 | PASS | +-------------------+----------+ CentOS Stream 9 Kernel: Depends on container host Compiler: gcc 11.5.0 20240719 (Red Hat 11.5.0-2) Debian Bullseye Kernel: Depends on container host Compiler: gcc (Debian 10.2.1-6) 10.2.1 20210110 CentOS Stream 10 Kernel: Depends on container host Compiler: gcc 14.2.1 20241104 (Red Hat 14.2.1-6) Debian 12 Kernel: Depends on container host Compiler: gcc (Debian 12.2.0-14) 12.2.0 Ubuntu 22.04 Kernel: Depends on container host Compiler: gcc (Ubuntu 11.4.0-1ubuntu1~22.04) 11.4.0 Fedora 40 Kernel: Depends on container host Compiler: gcc 14.2.1 20240912 (Red Hat 14.2.1-3) Fedora 41 (Clang) Kernel: Depends on container host Compiler: clang 19.1.5 (Fedora 19.1.5-1.fc41) openSUSE Leap 15 Kernel: Depends on container host Compiler: gcc (SUSE Linux) 7.5.0 Fedora 40 (Clang) Kernel: Depends on container host Compiler: clang 18.1.8 (Fedora 18.1.8-1.fc40) Fedora 41 Kernel: Depends on container host Compiler: gcc 14.2.1 20240912 (Red Hat 14.2.1-3) RHEL9 Kernel: Depends on container host Compiler: gcc 11.5.0 20240719 (Red Hat 11.5.0-2) RHEL8 Kernel: Depends on container host Compiler: gcc 8.5.0 20210514 (Red Hat 8.5.0-22) Ubuntu 24.04 Kernel: Depends on container host Compiler: gcc (Ubuntu 13.3.0-6ubuntu2~24.04) 13.3.0 To view detailed results, visit: https://lab.dpdk.org/results/dashboard/tarballs/32604/ UNH-IOL DPDK Community Lab To manage your email subscriptions, visit: https://lab.dpdk.org/results/dashboard/preferences/subscriptions/