From mboxrd@z Thu Jan 1 00:00:00 1970 Return-Path: Received: from mails.dpdk.org (mails.dpdk.org [217.70.189.124]) by inbox.dpdk.org (Postfix) with ESMTP id A820446255 for ; Tue, 18 Feb 2025 08:43:30 +0100 (CET) Received: from mails.dpdk.org (localhost [127.0.0.1]) by mails.dpdk.org (Postfix) with ESMTP id 86C934014F; Tue, 18 Feb 2025 08:43:30 +0100 (CET) Received: from mail-pl1-f226.google.com (mail-pl1-f226.google.com [209.85.214.226]) by mails.dpdk.org (Postfix) with ESMTP id 1D509400EF for ; Tue, 18 Feb 2025 08:43:29 +0100 (CET) Received: by mail-pl1-f226.google.com with SMTP id d9443c01a7336-2211acda7f6so43153015ad.3 for ; Mon, 17 Feb 2025 23:43:29 -0800 (PST) DKIM-Signature: v=1; a=rsa-sha256; c=relaxed/relaxed; d=iol.unh.edu; s=unh-iol; t=1739864608; x=1740469408; darn=dpdk.org; h=cc:to:from:subject:message-id:date:from:to:cc:subject:date :message-id:reply-to; bh=qJMniutG8eY4LmZ5OoL2wQiM+bZxt1m8pqy63gmSUDQ=; b=UxTJ7q9TJwuGyfPUk6y9NoIiY681gAWI7Gn5a+1hFBBlsVUsGFDcaYEzGOPiDLaNEM Gu9Q3Z0ITcHUailbv9ADiW7q1Q8ZmS6Kq4h/vadSXhbSs/E+BX34Treqt8mFFxUfH+v7 YRY0Cnhl1wL9kRfe7karWhvRkDBK7Y8bwa3Fw= X-Google-DKIM-Signature: v=1; a=rsa-sha256; c=relaxed/relaxed; d=1e100.net; s=20230601; t=1739864608; x=1740469408; h=cc:to:from:subject:message-id:date:x-gm-message-state:from:to:cc :subject:date:message-id:reply-to; bh=qJMniutG8eY4LmZ5OoL2wQiM+bZxt1m8pqy63gmSUDQ=; b=CEYj13yNCQVmj09MpsDefY7yX4KTuS4UeB7bQun9AmYp0E7KB+ifFUjywCB/7wdosi rveNd5eoCGaBG9Pn7X1Ma3Er7gUF+i00bFJ90JGWN3mXBQKYf+rAalIW6cXpyFsA0RCS 4Wpz8wzBQSuTViusuXq8kQ1DtnUZ0AsIKUELzsSnYk8NouZc0M4rLdr0HofgItSZWhm8 y0eduDQwdm6wshJLI8eZiC5aLdYlY1e/9Z949MW40LprvGwDCSLnWCnYmLiSCf8Au0Mg fnK425hf9L/KD3bQRae+qq9+Vw6r6eDtzfCMNb8qsaM+OtRp8+bV5DGCeCvMRYtIDTx9 8hYg== X-Gm-Message-State: AOJu0Yz+WAXHwP8Uen5WzQRHKjk2DMb0nkDWQOC8DbYK+u9TjAD6qQ5y 7cNZyA2nqbb65i/qQ/Mb1HjEl0BGoqy5pUIW5dWZJQKuLgfyyZUjtVpbg3BWrMxynKfpitgnAZd yC68QHhjPE5sOh50ynCuXtFkumT4Uaxtt X-Gm-Gg: ASbGncvBuxYTiK9Qnfn76k6gQ52Vf/Exqn3uGah8hLfE0hLC02s7K8oMAwX+56ggIs2 t3UfoDWSt0M4c1Yo67iYWL5m2Fir/NJOMmfFozhAD6gyoZMZNEXFx1UWFwMONevxv2pGWArDjt8 EmUUWMvfSM05GTrDMPywmaUZYaGbRAO7U48sgU+UOv3NAlp7YAFIYS+yXiqR4dCPNQnRz9YIhv+ Fs8RRIi60XCD2BvLPaJy0+7oAkE47R5/YspkSGku+olxmzcz7dDD5VwaSxH/AWCgVHZGb2ZTYrP 06/m+ifWCNgv5UXQ1hn1dH4rFw/OTQ== X-Google-Smtp-Source: AGHT+IELMp7JIGD8TzIoyI5p4BU38xf2+OJb3V0Q67rKrvzH3Z7F7tLydhraj4mqnj1LbxurLwfh5fS2n4kB X-Received: by 2002:a05:6a21:6b05:b0:1ee:5f3f:cde0 with SMTP id adf61e73a8af0-1ee8cbf7bcamr25694840637.34.1739864608146; Mon, 17 Feb 2025 23:43:28 -0800 (PST) Received: from postal.iol.unh.edu (postal.iol.unh.edu. [132.177.123.84]) by smtp-relay.gmail.com with ESMTPS id d2e1a72fcca58-7326da25fe1sm457538b3a.20.2025.02.17.23.43.28 (version=TLS1_2 cipher=ECDHE-ECDSA-AES128-GCM-SHA256 bits=128/128); Mon, 17 Feb 2025 23:43:28 -0800 (PST) X-Relaying-Domain: iol.unh.edu Date: Mon, 17 Feb 2025 23:43:28 -0800 (PST) Message-ID: <67b43a20.050a0220.2324b0.5872SMTPIN_ADDED_MISSING@mx.google.com> Received: from [172.21.0.6] (unknown [172.18.0.240]) by postal.iol.unh.edu (Postfix) with ESMTP id 4431A6052471; Tue, 18 Feb 2025 02:43:27 -0500 (EST) Subject: |SUCCESS| [GIT MASTER] f2eea2f37a82bb73fb01d56350708f7d70e21379 From: dpdklab@iol.unh.edu To: Test Report Cc: dpdk-test-reports@iol.unh.edu, Xueming Li , Christian Ehrhardt , Kevin Traynor , Luca Boccassi Content-Type: text/plain X-BeenThere: test-report@dpdk.org X-Mailman-Version: 2.1.29 Precedence: list List-Id: automatic DPDK test reports List-Unsubscribe: , List-Archive: List-Post: List-Help: List-Subscribe: , Errors-To: test-report-bounces@dpdk.org _Testing PASS_ Branch: tags/v24.11 f2eea2f37a82bb73fb01d56350708f7d70e21379 --> testing pass Upstream job id: Generic-Unit-Test-DPDK#315657 Test environment and result as below: +-----------------------------+----------------+---------------------------+--------------+------------------------------+ | Environment | dpdk_unit_test | cryptodev_sw_zuc_autotest | lpm_autotest | cryptodev_sw_snow3g_autotest | +=============================+================+===========================+==============+==============================+ | Debian 12 (arm) | PASS | PASS | SKIPPED | PASS | +-----------------------------+----------------+---------------------------+--------------+------------------------------+ | CentOS Stream 10 (ARM) | PASS | SKIPPED | SKIPPED | SKIPPED | +-----------------------------+----------------+---------------------------+--------------+------------------------------+ | CentOS Stream 9 (ARM) | PASS | SKIPPED | SKIPPED | SKIPPED | +-----------------------------+----------------+---------------------------+--------------+------------------------------+ | Debian 11 (Buster) (ARM) | PASS | SKIPPED | SKIPPED | SKIPPED | +-----------------------------+----------------+---------------------------+--------------+------------------------------+ | Fedora 40 (ARM) | PASS | SKIPPED | SKIPPED | SKIPPED | +-----------------------------+----------------+---------------------------+--------------+------------------------------+ | Fedora 41 (ARM) | PASS | SKIPPED | SKIPPED | SKIPPED | +-----------------------------+----------------+---------------------------+--------------+------------------------------+ | Fedora 40 (ARM Clang) | PASS | SKIPPED | SKIPPED | SKIPPED | +-----------------------------+----------------+---------------------------+--------------+------------------------------+ | RHEL9 (ARM) | PASS | SKIPPED | SKIPPED | SKIPPED | +-----------------------------+----------------+---------------------------+--------------+------------------------------+ | Ubuntu 22.04 (ARM) | PASS | SKIPPED | SKIPPED | SKIPPED | +-----------------------------+----------------+---------------------------+--------------+------------------------------+ | Ubuntu 24.04 (ARM) | PASS | SKIPPED | SKIPPED | SKIPPED | +-----------------------------+----------------+---------------------------+--------------+------------------------------+ | Fedora 41 (ARM Clang) | PASS | SKIPPED | SKIPPED | SKIPPED | +-----------------------------+----------------+---------------------------+--------------+------------------------------+ | Ubuntu 20.04 (ARM) | PASS | SKIPPED | SKIPPED | SKIPPED | +-----------------------------+----------------+---------------------------+--------------+------------------------------+ | 32-bit Ubuntu 22.04.4 (ARM) | PASS | SKIPPED | SKIPPED | SKIPPED | +-----------------------------+----------------+---------------------------+--------------+------------------------------+ | Ubuntu 20.04 ARM SVE | SKIPPED | SKIPPED | PASS | SKIPPED | +-----------------------------+----------------+---------------------------+--------------+------------------------------+ Debian 12 (arm) Kernel: Depends on container host Compiler: gcc (Debian 12.2.0-14) 12.2.0 CentOS Stream 10 (ARM) Kernel: Depends on container host Compiler: gcc 14.2.1 20241104 (Red Hat 14.2.1-6) CentOS Stream 9 (ARM) Kernel: Depends on container host Compiler: gcc 11.5.0 20240719 (Red Hat 11.5.0-2) Debian 11 (Buster) (ARM) Kernel: Depends on container host Compiler: gcc (Debian 10.2.1-6) 10.2.1 20210110 Fedora 40 (ARM) Kernel: Depends on container host Compiler: gcc 14.2.1 20240912 (Red Hat 14.2.1-3) Fedora 41 (ARM) Kernel: Depends on container host Compiler: gcc 14.2.1 20240912 (Red Hat 14.2.1-3) Fedora 40 (ARM Clang) Kernel: Depends on container host Compiler: clang 18.1.8 (Fedora 18.1.8-1.fc40) RHEL9 (ARM) Kernel: Depends on container host Compiler: gcc 11.5.0 20240719 (Red Hat 11.5.0-2) Ubuntu 22.04 (ARM) Kernel: Depends on container host Compiler: gcc (Ubuntu 11.4.0-1ubuntu1~22.04) 11.4.0 Ubuntu 24.04 (ARM) Kernel: Depends on container host Compiler: gcc (Ubuntu 13.3.0-6ubuntu2~24.04) 13.3.0 Fedora 41 (ARM Clang) Kernel: Depends on container host Compiler: clang 19.1.5 (Fedora 19.1.5-1.fc41) Ubuntu 20.04 (ARM) Kernel: Depends on container host Compiler: gcc (Ubuntu 9.4.0-1ubuntu1~20.04.2) 9.4.0 32-bit Ubuntu 22.04.4 (ARM) Kernel: 5.15.83+ aarch64 Compiler: gcc (Ubuntu 11.4.0-1ubuntu1~22.04) 11.4.0 Ubuntu 20.04 ARM SVE Kernel: Depends on container host Compiler: gcc (Ubuntu 10.5.0-1ubuntu1~20.04) 10.5.0 To view detailed results, visit: https://lab.dpdk.org/results/dashboard/tarballs/32602/ UNH-IOL DPDK Community Lab To manage your email subscriptions, visit: https://lab.dpdk.org/results/dashboard/preferences/subscriptions/