From mboxrd@z Thu Jan 1 00:00:00 1970 Return-Path: Received: from mails.dpdk.org (mails.dpdk.org [217.70.189.124]) by inbox.dpdk.org (Postfix) with ESMTP id 28BC546255 for ; Tue, 18 Feb 2025 09:18:45 +0100 (CET) Received: from mails.dpdk.org (localhost [127.0.0.1]) by mails.dpdk.org (Postfix) with ESMTP id 06C484014F; Tue, 18 Feb 2025 09:18:45 +0100 (CET) Received: from mail-pj1-f98.google.com (mail-pj1-f98.google.com [209.85.216.98]) by mails.dpdk.org (Postfix) with ESMTP id A8507400EF for ; Tue, 18 Feb 2025 09:18:43 +0100 (CET) Received: by mail-pj1-f98.google.com with SMTP id 98e67ed59e1d1-2f9d3d0f55dso7358204a91.1 for ; Tue, 18 Feb 2025 00:18:43 -0800 (PST) DKIM-Signature: v=1; a=rsa-sha256; c=relaxed/relaxed; d=iol.unh.edu; s=unh-iol; t=1739866722; x=1740471522; darn=dpdk.org; h=cc:to:from:subject:message-id:date:from:to:cc:subject:date :message-id:reply-to; bh=Nxn/xd9LEL+kVauyLRf2fJbTGvQtJRNXWchD/T09YqY=; b=c/75sCWRWL3XDNYHV1sA7eQMzYRykQ2TCyJhI++9ZX8PVYARiaHrx5YOXVMeAPDX+/ Ni9QnfECtxbZCoSR3bZbYKGnyCJCUmw7YW/2Lql8zp95C0vsOcxREeVr3YLfFceZRcOL RswLkPuKc2NgL90/B+XN+r7Go34d1hQk09uls= X-Google-DKIM-Signature: v=1; a=rsa-sha256; c=relaxed/relaxed; d=1e100.net; s=20230601; t=1739866722; x=1740471522; h=cc:to:from:subject:message-id:date:x-gm-message-state:from:to:cc :subject:date:message-id:reply-to; bh=Nxn/xd9LEL+kVauyLRf2fJbTGvQtJRNXWchD/T09YqY=; b=Fjbrr+eN5HWvgvZH1yWUX/D8+K52n/Vcb0OfIquktZW/mVU5ieuhNg6ETKvTHbkASt C6FEo+YXURExsewNsV00HXGiWWEC9xnqGj5jqaI0NL1rvwnIIkdlL2lci8W0oYQkzbZN mnLYKFvRvJTuUpkrBiLvkIWzod88gba1tcuXm/e0Vv3fPG0WY9Qr3BE9yeCw+8zee50m Msdyh1JEvbUbSCcmq7VjctCMB0TdjQCfW4mOsRVhz+B5ZpEBZWZVZ8Ux1ixG9hrtyHWy cL6GoQZLbO7S7081K2sHWOAeHfWgeyhJqZbflIB5Ki6ICHgbW/ZEg4Z5NeMa4r4EG1jO aZ2A== X-Gm-Message-State: AOJu0Yx8uKftqxHrfBB/3HQ9dGQ53cNkI8LO2LqLYDkyHOb8m51t17BN vFRdmBy5FEEnEL6qPa2yYhDVs/RUeoL34NNemlmLlBb0k11+oUKOLzDoPrkCnzPwSmrfwJFGdOG ytnAXjwnDzG1dR/uLBxDrnCV4yFZe91J7RUw0f/jVZZJOOWdF X-Gm-Gg: ASbGncsit7Z2AQN1AYyladbyQFDnL1uOMKJfI2bpFqOI5GNwdA59S8QM9n/crYlTY4w g+DeWn9votV4+9htS0MFDrrA78iXnTcuWq+nBlzO+mls/mZ9izXlmZA9OQPBquCo9iZ5wcI8xiw kljDsdN0Ns65Xgrl478AdrMR9u4lKcWiA3TNqKknRF1CpYZv6QHrRLEo5RJm5jIEdB9HfU9yXMl y/r/5UNAMrDxT3o2GhVXAH+GjfvuLMQKvfc6E6ABPtkbp2f8VfYUmVmkCdmZcOB76jbnB146Z+j eT8yEeP8VI71n9BiMBs0EIGV8XVOYIjg/IjjM0hsEw== X-Google-Smtp-Source: AGHT+IE/BWmyhBhTDgZR7Xun7LhOUX9VcdJw3BejfM6Rlga9hOAtZA6QjoyXdn4f5gvZ1siXCp4FK/1IN1e6 X-Received: by 2002:a17:90a:df11:b0:2ee:d63f:d8f with SMTP id 98e67ed59e1d1-2fc40f105e6mr20335505a91.13.1739866722638; Tue, 18 Feb 2025 00:18:42 -0800 (PST) Received: from postal.iol.unh.edu (postal.iol.unh.edu. [2606:4100:3880:1234::84]) by smtp-relay.gmail.com with ESMTPS id 98e67ed59e1d1-2fc13aafec9sm641214a91.5.2025.02.18.00.18.42 (version=TLS1_2 cipher=ECDHE-ECDSA-AES128-GCM-SHA256 bits=128/128); Tue, 18 Feb 2025 00:18:42 -0800 (PST) X-Relaying-Domain: iol.unh.edu Date: Tue, 18 Feb 2025 00:18:42 -0800 (PST) Message-ID: <67b44262.170a0220.3b5e65.eed0SMTPIN_ADDED_MISSING@mx.google.com> Received: from [172.21.0.6] (unknown [172.18.0.240]) by postal.iol.unh.edu (Postfix) with ESMTP id B86096052471; Tue, 18 Feb 2025 03:18:41 -0500 (EST) Subject: |SUCCESS| [GIT MASTER] 7ce7d3341d7e21c2a81f2fea8e451681d7306d77 From: dpdklab@iol.unh.edu To: Test Report Cc: dpdk-test-reports@iol.unh.edu, Xueming Li , Christian Ehrhardt , Kevin Traynor , Luca Boccassi Content-Type: text/plain X-BeenThere: test-report@dpdk.org X-Mailman-Version: 2.1.29 Precedence: list List-Id: automatic DPDK test reports List-Unsubscribe: , List-Archive: List-Post: List-Help: List-Subscribe: , Errors-To: test-report-bounces@dpdk.org _Testing PASS_ Branch: tags/v22.11 7ce7d3341d7e21c2a81f2fea8e451681d7306d77 --> testing pass Upstream job id: Generic-Unit-Test-DPDK#315671 Test environment and result as below: +-----------------------------+--------------+----------------+---------------------------+------------------------------+ | Environment | lpm_autotest | dpdk_unit_test | cryptodev_sw_zuc_autotest | cryptodev_sw_snow3g_autotest | +=============================+==============+================+===========================+==============================+ | Ubuntu 20.04 ARM SVE | PASS | SKIPPED | SKIPPED | SKIPPED | +-----------------------------+--------------+----------------+---------------------------+------------------------------+ | 32-bit Ubuntu 22.04.4 (ARM) | SKIPPED | PASS | SKIPPED | SKIPPED | +-----------------------------+--------------+----------------+---------------------------+------------------------------+ | Debian 12 (arm) | SKIPPED | SKIPPED | PASS | PASS | +-----------------------------+--------------+----------------+---------------------------+------------------------------+ Ubuntu 20.04 ARM SVE Kernel: Depends on container host Compiler: gcc (Ubuntu 10.5.0-1ubuntu1~20.04) 10.5.0 32-bit Ubuntu 22.04.4 (ARM) Kernel: 5.15.83+ aarch64 Compiler: gcc (Ubuntu 11.4.0-1ubuntu1~22.04) 11.4.0 Debian 12 (arm) Kernel: Depends on container host Compiler: gcc (Debian 12.2.0-14) 12.2.0 To view detailed results, visit: https://lab.dpdk.org/results/dashboard/tarballs/32603/ UNH-IOL DPDK Community Lab To manage your email subscriptions, visit: https://lab.dpdk.org/results/dashboard/preferences/subscriptions/