From mboxrd@z Thu Jan 1 00:00:00 1970 Return-Path: Received: from mails.dpdk.org (mails.dpdk.org [217.70.189.124]) by inbox.dpdk.org (Postfix) with ESMTP id D6A2146257 for ; Tue, 18 Feb 2025 10:26:58 +0100 (CET) Received: from mails.dpdk.org (localhost [127.0.0.1]) by mails.dpdk.org (Postfix) with ESMTP id D3536402BB; Tue, 18 Feb 2025 10:26:58 +0100 (CET) Received: from mail-qt1-f226.google.com (mail-qt1-f226.google.com [209.85.160.226]) by mails.dpdk.org (Postfix) with ESMTP id 916C3402A0 for ; Tue, 18 Feb 2025 10:26:57 +0100 (CET) Received: by mail-qt1-f226.google.com with SMTP id d75a77b69052e-46fa7678ef3so56442521cf.1 for ; Tue, 18 Feb 2025 01:26:57 -0800 (PST) DKIM-Signature: v=1; a=rsa-sha256; c=relaxed/relaxed; d=iol.unh.edu; s=unh-iol; t=1739870817; x=1740475617; darn=dpdk.org; h=cc:to:from:subject:message-id:date:from:to:cc:subject:date :message-id:reply-to; bh=Eo7hsxm0w3eTP4b+Kj+5fKnvSLdjffEQUlV/CJDNPWg=; b=O0UwfN4l1oGKBDr1Gc2XFGGafBOrHm/jnk0rPzsOK/ibJRymRNb8PZ311jlKUgICaZ eTTuGnKcYudTyql3em58Pnnb7USFrFrfScuXXNdyLyIWHG6HrtTTNtTPdPYhC63UD85N fNYiCIWILkP3Lqhr7rNVyv/W99cJRcLLO4lEY= X-Google-DKIM-Signature: v=1; a=rsa-sha256; c=relaxed/relaxed; d=1e100.net; s=20230601; t=1739870817; x=1740475617; h=cc:to:from:subject:message-id:date:x-gm-message-state:from:to:cc :subject:date:message-id:reply-to; bh=Eo7hsxm0w3eTP4b+Kj+5fKnvSLdjffEQUlV/CJDNPWg=; b=nMSBNX5SuilGkU1ecDNPKODETY5A3dB7dOcRjMOLbIrw99dqnV+74U3Df0CrAO8q4F oxoRsSbYkpCkv1zNOItmxK1w2hZFN/GUydl7roLuSYlZEu8OQ1B18EGd8ZtHHf3tGZui uHDXfoC6n0bG+CyV04kIs+u4sS6DdMi/yRTfSWqHQ5k18QF+xY5lwfQagb3gcojDsqKX xP4JTxbNd0VF8/ZA3grZCx6x7BoJgxKzp7DkVUTQmJf4nCCC607oSJuL38LLVGj6s799 q+TljyRYRlQUDMVPm6ybg6ZZM8sOc8VHrBsDbWie/GckSRam6KJrQC72idp/7ee6bgbk vG3Q== X-Gm-Message-State: AOJu0YyEGdM+OMUkA0Na/L6BD117lJpvw11CgSi9BVa5n0pRXkNp+cfB Eivn+/4sY+BOyPu3D3toKNDZ/bXBLOr/qOU9QV1PXmD5Qzo6qFjglSVgdOTmOqIL7iQE7vI1c3N dUDp7Tf0v0OajsBoNwyLmIDOiibUOCIJo X-Gm-Gg: ASbGnctkJEl4tzBS5mB6Wq71WsDnEFPbvhU6cnSc64mUKC+8o8E/WPc49bACrn7zUaO Wqj9UIQoIjlDgy4HcHfF0s+a0WTMPi9lwreWkRVYzWXuHrlhigg+2KIPM+d3wwcyiYlGX6nbw0i S/jvpJptTxt9w9zXupZZX94FYQM6NC5hpetjqjhAb5QgKy/XzJQ649d4PWO+LGJGptQ2iEPvlbH +kkU08KhhauQqNmlO4llZ4byb++AP8ukHvC/VbajFuXqtnMo1P1W67nK8x6nyinBOJVX6MMeOco 0UiAVA9lW8MOEPHQ2NdKk4n+JH4MlQ== X-Google-Smtp-Source: AGHT+IGOtywiY0wBILHaJd4aTtLk0zl//P922GEw3fylc0l1+W0DhN9eEACBPCcknnHUlU7BdZG3hUvFhJ/J X-Received: by 2002:a05:622a:3c8:b0:472:461:619a with SMTP id d75a77b69052e-4720461646amr11160201cf.11.1739870816976; Tue, 18 Feb 2025 01:26:56 -0800 (PST) Received: from postal.iol.unh.edu (postal.iol.unh.edu. [132.177.123.84]) by smtp-relay.gmail.com with ESMTPS id d75a77b69052e-471ebf0a806sm2343891cf.18.2025.02.18.01.26.56 (version=TLS1_2 cipher=ECDHE-ECDSA-AES128-GCM-SHA256 bits=128/128); Tue, 18 Feb 2025 01:26:56 -0800 (PST) X-Relaying-Domain: iol.unh.edu Date: Tue, 18 Feb 2025 01:26:56 -0800 (PST) Message-ID: <67b45260.050a0220.1c3ea7.a900SMTPIN_ADDED_MISSING@mx.google.com> Received: from [172.17.0.3] (unknown [172.18.0.217]) by postal.iol.unh.edu (Postfix) with ESMTP id A86E16052471; Tue, 18 Feb 2025 04:26:56 -0500 (EST) Subject: |WARNING| [GIT MASTER] f2eea2f37a82bb73fb01d56350708f7d70e21379 From: dpdklab@iol.unh.edu To: Test Report Cc: dpdk-test-reports@iol.unh.edu, Xueming Li , Christian Ehrhardt , Kevin Traynor , Luca Boccassi Content-Type: text/plain X-BeenThere: test-report@dpdk.org X-Mailman-Version: 2.1.29 Precedence: list List-Id: automatic DPDK test reports List-Unsubscribe: , List-Archive: List-Post: List-Help: List-Subscribe: , Errors-To: test-report-bounces@dpdk.org _Testing issues_ Branch: tags/v24.11 f2eea2f37a82bb73fb01d56350708f7d70e21379 --> testing issues Upstream job id: ACVP-FIPS-testing#8939 Test environment and result as below: +--------------------+----------------------+----------------------+ | Environment | compressdev_zlib_pmd | dpdk_fips_validation | +====================+======================+======================+ | Ubuntu 22.04 (ARM) | PASS | SKIPPED | +--------------------+----------------------+----------------------+ | Ubuntu 22.04 | PASS | SKIPPED | +--------------------+----------------------+----------------------+ | Ubuntu 20.04 | SKIPPED | WARN | +--------------------+----------------------+----------------------+ ==== 20 line log output for Ubuntu 20.04 (dpdk_fips_validation): ==== INFO:root:Fetching verdict... INFO:root:Downloading verdict for vector set 2912121 INFO:root:Vector set verdict not ready, waiting 30 seconds... INFO:root:Vector set verdict not ready, waiting 30 seconds... INFO:root:Done INFO:root:Using response file... INFO:root:Uploading response file... INFO:root:Fetching verdict... INFO:root:Downloading verdict for vector set 2912122 INFO:root:Vector set verdict not ready, waiting 30 seconds... INFO:root:Vector set verdict not ready, waiting 30 seconds... INFO:root:Vector set verdict not ready, waiting 30 seconds... INFO:root:Done INFO:root:Using response file... INFO:root:Uploading response file... INFO:root:Fetching verdict... INFO:root:Downloading verdict for vector set 2912123 INFO:root:Vector set verdict not ready, waiting 30 seconds... INFO:root:Vector set verdict not ready, waiting 30 seconds... INFO:root:Done ==== End log output ==== Ubuntu 22.04 (ARM) Kernel: 5.15.0-97-generic Compiler: gcc gcc (Ubuntu 11.4.0-1ubuntu1~22.04) 11.4.0 Ubuntu 22.04 Kernel: 5.15.0-100-generic Compiler: gcc gcc (Ubuntu 11.4.0-1ubuntu1~22.04) 11.4.0 Ubuntu 20.04 Kernel: Depends on container host Compiler: gcc (Ubuntu 9.4.0-1ubuntu1~20.04.2) 9.4.0 To view detailed results, visit: https://lab.dpdk.org/results/dashboard/tarballs/32602/ UNH-IOL DPDK Community Lab To manage your email subscriptions, visit: https://lab.dpdk.org/results/dashboard/preferences/subscriptions/