From mboxrd@z Thu Jan 1 00:00:00 1970 Return-Path: Received: from mails.dpdk.org (mails.dpdk.org [217.70.189.124]) by inbox.dpdk.org (Postfix) with ESMTP id 576E746257 for ; Tue, 18 Feb 2025 10:50:45 +0100 (CET) Received: from mails.dpdk.org (localhost [127.0.0.1]) by mails.dpdk.org (Postfix) with ESMTP id 530D7402A0; Tue, 18 Feb 2025 10:50:45 +0100 (CET) Received: from mail-vk1-f227.google.com (mail-vk1-f227.google.com [209.85.221.227]) by mails.dpdk.org (Postfix) with ESMTP id A2CB24025F for ; Tue, 18 Feb 2025 10:50:44 +0100 (CET) Received: by mail-vk1-f227.google.com with SMTP id 71dfb90a1353d-520ac2b9b7bso528415e0c.3 for ; Tue, 18 Feb 2025 01:50:44 -0800 (PST) DKIM-Signature: v=1; a=rsa-sha256; c=relaxed/relaxed; d=iol.unh.edu; s=unh-iol; t=1739872244; x=1740477044; darn=dpdk.org; h=cc:to:from:subject:message-id:date:from:to:cc:subject:date :message-id:reply-to; bh=0m6hCHQhoOoKwtYs2YjcCk28Y2uIQKzUObyQjrQ1aqo=; b=a/e233hpdHoNtVLv7UVEkcJ8L0xQHPSwY/3JMokWU5NJK/TXb5zOPe3u+aFVNscvJp nwqfKK/e3ZSYd57ITOvsCKoHsNgBVKTtyjkqKxxkg65cuq33DS/n4n7SySV8qNWHLhKk C0sQ2hIYHKNb+KxvQOXuK+J88sh2bEAxbfb1A= X-Google-DKIM-Signature: v=1; a=rsa-sha256; c=relaxed/relaxed; d=1e100.net; s=20230601; t=1739872244; x=1740477044; h=cc:to:from:subject:message-id:date:x-gm-message-state:from:to:cc :subject:date:message-id:reply-to; bh=0m6hCHQhoOoKwtYs2YjcCk28Y2uIQKzUObyQjrQ1aqo=; b=ii9ZDrLhDzjm+iLXAq7rjmM8MN7ocQrQbZ1taZhKzanRAFHTawZ7mXL7stl3v66iBY O+84o3rmxExefDBDxxK4znAPo0P2qVuI8xFHV8ASqeC2xmqEruQ3hDiVtMxMQN+PrcKG 2h+TTga4p+MXbC4JCLJxfGPnSOcEMBI25xFJnvbIvd+zvTFFGFmWXJjnqZWQfaXTqtFg sjZroovny4NuizR79PB8u+XLosYujN78dWAV76PzHntC3xNiTl+rkQOASkkCIZ6ePePb 8EkW18ZPIjgGYP3/4QDAePbR3QAXgkO78WmmOo0QReClwXUPHfoF/CV13G4ou2k/radI gSgw== X-Gm-Message-State: AOJu0YyOLA967syVIG78N4uVUk73NlZtWOJmdsin/Y1nHa1vSRHVSlUp J+jtngByvMNEkTczCbqdth0HnKdi+QJ3gY5aaHzYd+SUmZDVbBDSO5chJQef5u2RS8BOVplaHdI XInIzWVzNlQz8DoUmwatEWbtPl7Gv/JNd X-Gm-Gg: ASbGncu/pq/0tMy6s3Zo1+uLJyrlRpYsL1HSdFIaYZJHEQvKGPUUtV3uRoBiIYo4kg8 1P+LxHM19resDwTzkI79tZKCXOEj76GQzmIa/rdYs0ecJeO5/tKSBUrgvepb1CymvKYFesAqExl YzW1mvka9NVWLDOMvBQgrL+imOaQ2s/ah/UOteg49QLHjLDLw2d0EUeQL7JcEaRwzA3dqSonrN3 +zwzyuA2HwaInS9k4VWQ923SsUSCxDDgZhYb+Om93/iVXPaWRSK+L/IGvLW8gUZyDz/Z2wD2iUN NRcs0FPJ4MgVSI5iKVhohROxZHgW6g== X-Google-Smtp-Source: AGHT+IGk7ZEO4sYQGkkc/gwlLqifMvqDd6t7qKN1L+4VBjR58bw6bh02B1/r5cwlcwEVBxhWy/WrTARQ6E09 X-Received: by 2002:a05:6122:4b8c:b0:520:42d3:91b7 with SMTP id 71dfb90a1353d-5209da091b0mr5379052e0c.1.1739872243971; Tue, 18 Feb 2025 01:50:43 -0800 (PST) Received: from postal.iol.unh.edu (postal.iol.unh.edu. [132.177.123.84]) by smtp-relay.gmail.com with ESMTPS id 71dfb90a1353d-520b53a4d1fsm283544e0c.2.2025.02.18.01.50.43 (version=TLS1_2 cipher=ECDHE-ECDSA-AES128-GCM-SHA256 bits=128/128); Tue, 18 Feb 2025 01:50:43 -0800 (PST) X-Relaying-Domain: iol.unh.edu Date: Tue, 18 Feb 2025 01:50:43 -0800 (PST) Message-ID: <67b457f3.050a0220.32e612.cdaeSMTPIN_ADDED_MISSING@mx.google.com> Received: from [172.21.0.5] (unknown [172.18.0.240]) by postal.iol.unh.edu (Postfix) with ESMTP id 8A4316052471; Tue, 18 Feb 2025 04:50:43 -0500 (EST) Subject: |SUCCESS| [GIT MASTER] f2eea2f37a82bb73fb01d56350708f7d70e21379 From: dpdklab@iol.unh.edu To: Test Report Cc: dpdk-test-reports@iol.unh.edu, Xueming Li , Christian Ehrhardt , Kevin Traynor , Luca Boccassi Content-Type: text/plain X-BeenThere: test-report@dpdk.org X-Mailman-Version: 2.1.29 Precedence: list List-Id: automatic DPDK test reports List-Unsubscribe: , List-Archive: List-Post: List-Help: List-Subscribe: , Errors-To: test-report-bounces@dpdk.org _Testing PASS_ Branch: tags/v24.11 f2eea2f37a82bb73fb01d56350708f7d70e21379 --> testing pass Upstream job id: Generic-DPDK-Compile-Meson#362418 Test environment and result as below: +------------------------------------+--------------------+ | Environment | dpdk_meson_compile | +====================================+====================+ | RHEL9 (ARM) | PASS | +------------------------------------+--------------------+ | Ubuntu 20.04 ARM GCC Cross Compile | PASS | +------------------------------------+--------------------+ | Ubuntu 20.04 ARM SVE | PASS | +------------------------------------+--------------------+ | Fedora 40 (ARM Clang) | PASS | +------------------------------------+--------------------+ | Fedora 40 (ARM) | PASS | +------------------------------------+--------------------+ | Fedora 41 (ARM) | PASS | +------------------------------------+--------------------+ | Debian 12 with MUSDK | PASS | +------------------------------------+--------------------+ | Ubuntu 22.04 (ARM) | PASS | +------------------------------------+--------------------+ | Ubuntu 20.04 (ARM) | PASS | +------------------------------------+--------------------+ | Ubuntu 24.04 (ARM) | PASS | +------------------------------------+--------------------+ | Fedora 41 (ARM Clang) | PASS | +------------------------------------+--------------------+ | CentOS Stream 9 (ARM) | PASS | +------------------------------------+--------------------+ | CentOS Stream 10 (ARM) | PASS | +------------------------------------+--------------------+ | Debian 11 (Buster) (ARM) | PASS | +------------------------------------+--------------------+ | Debian 12 (arm) | PASS | +------------------------------------+--------------------+ RHEL9 (ARM) Kernel: Depends on container host Compiler: gcc 11.5.0 20240719 (Red Hat 11.5.0-2) Ubuntu 20.04 ARM GCC Cross Compile Kernel: Depends on container host Compiler: aarch64-linux-gnu-gcc (Ubuntu 9.4.0-1ubuntu1~20.04.2) 9.4.0 Ubuntu 20.04 ARM SVE Kernel: Depends on container host Compiler: gcc (Ubuntu 10.5.0-1ubuntu1~20.04) 10.5.0 Fedora 40 (ARM Clang) Kernel: Depends on container host Compiler: clang 18.1.8 (Fedora 18.1.8-1.fc40) Fedora 40 (ARM) Kernel: Depends on container host Compiler: gcc 14.2.1 20240912 (Red Hat 14.2.1-3) Fedora 41 (ARM) Kernel: Depends on container host Compiler: gcc 14.2.1 20240912 (Red Hat 14.2.1-3) Debian 12 with MUSDK Kernel: Depends on container host Compiler: gcc (Debian 12.2.0-14) 12.2.0 Ubuntu 22.04 (ARM) Kernel: Depends on container host Compiler: gcc (Ubuntu 11.4.0-1ubuntu1~22.04) 11.4.0 Ubuntu 20.04 (ARM) Kernel: Depends on container host Compiler: gcc (Ubuntu 9.4.0-1ubuntu1~20.04.2) 9.4.0 Ubuntu 24.04 (ARM) Kernel: Depends on container host Compiler: gcc (Ubuntu 13.3.0-6ubuntu2~24.04) 13.3.0 Fedora 41 (ARM Clang) Kernel: Depends on container host Compiler: clang 19.1.5 (Fedora 19.1.5-1.fc41) CentOS Stream 9 (ARM) Kernel: Depends on container host Compiler: gcc 11.5.0 20240719 (Red Hat 11.5.0-2) CentOS Stream 10 (ARM) Kernel: Depends on container host Compiler: gcc 14.2.1 20241104 (Red Hat 14.2.1-6) Debian 11 (Buster) (ARM) Kernel: Depends on container host Compiler: gcc (Debian 10.2.1-6) 10.2.1 20210110 Debian 12 (arm) Kernel: Depends on container host Compiler: gcc (Debian 12.2.0-14) 12.2.0 To view detailed results, visit: https://lab.dpdk.org/results/dashboard/tarballs/32602/ UNH-IOL DPDK Community Lab To manage your email subscriptions, visit: https://lab.dpdk.org/results/dashboard/preferences/subscriptions/