From mboxrd@z Thu Jan 1 00:00:00 1970 Return-Path: Received: from mails.dpdk.org (mails.dpdk.org [217.70.189.124]) by inbox.dpdk.org (Postfix) with ESMTP id C68ED46257 for ; Tue, 18 Feb 2025 10:54:56 +0100 (CET) Received: from mails.dpdk.org (localhost [127.0.0.1]) by mails.dpdk.org (Postfix) with ESMTP id AF37C402A0; Tue, 18 Feb 2025 10:54:56 +0100 (CET) Received: from mail-pl1-f225.google.com (mail-pl1-f225.google.com [209.85.214.225]) by mails.dpdk.org (Postfix) with ESMTP id 8EC9E4025F for ; Tue, 18 Feb 2025 10:54:55 +0100 (CET) Received: by mail-pl1-f225.google.com with SMTP id d9443c01a7336-220c2a87378so72185575ad.1 for ; Tue, 18 Feb 2025 01:54:55 -0800 (PST) DKIM-Signature: v=1; a=rsa-sha256; c=relaxed/relaxed; d=iol.unh.edu; s=unh-iol; t=1739872494; x=1740477294; darn=dpdk.org; h=cc:to:from:subject:message-id:date:from:to:cc:subject:date :message-id:reply-to; bh=8S3kOgw+sw3470qjpqRlM0boRNTSnzRjTIOAdaTrWxI=; b=ENjSU9EWtse9L4lPwU8UJDwR7A1L0le/iAci6Ij/WTJJAHIefWCTujjLZjNkdZyw1b vfKBrpmU4d1tpFHg7S519PJYoRK+hcQl+tNZLm7m8M36hafXDINOcZt5igNEwI3pd9y9 A2ke756OuWs8v4+M+r+P1snZyVYofF4EgP4ns= X-Google-DKIM-Signature: v=1; a=rsa-sha256; c=relaxed/relaxed; d=1e100.net; s=20230601; t=1739872494; x=1740477294; h=cc:to:from:subject:message-id:date:x-gm-message-state:from:to:cc :subject:date:message-id:reply-to; bh=8S3kOgw+sw3470qjpqRlM0boRNTSnzRjTIOAdaTrWxI=; b=A/U6/ojwAY+uroi2Rvv31Xd+7EcCYtqsJ4rgwzjrORJf+SBdvPq/Umy763GomJoFpw eRoVFY7yG139NBlY+Or/JnWesjeDoWd6vaKkqd75w696naGnA+AtoOl/QRwomRZkArzd E32Mr9+ul/tjOOOfwz9y0sBUJ1fk5XegCazgLDoBg2mu97nQVkoHO25xp1ehcJrbG4TX KaENzqAgmVTtUna5S3nA2sKLhVhXb6cH8h9GaPJTMZHtDpnZBUusVnlM08DhOqK/0aM7 6CWOy52MXAFchv9TSlVTfNsRjgG9k3yybjmX9GPQxFQE+X8M1xxlelsL4LvVmvqBhY/K arsg== X-Gm-Message-State: AOJu0YwLsFgc12btyThLgnMVTnewJWgSeyIbydzyy6DHmDSwMLJUfZTX hqy4fcoCSLbCUmT7SxGND57Pvoi47vGqXSUxxAaqBEbkMT6HUgor29ozCmGqWH9Py+Z0D4/wBNr OAwStErTWiQrsGbh0SuiTnCaPdDpY/2OhHAbyBZIPA1uXGKEU6xF3GRn+ X-Gm-Gg: ASbGncvZceyrBYgwvNmqbKT03WwmQ5al4UojwNwAhg5c3/LRu3nuwSDVnumAq9mywTT OjMKGZj+7HPWTU8mDOtfgR6NTOtb31uFREN7QGn7ykINVooFoksAptXPmHrc/si5EMc0i14MXzZ yphP+iS7u2ny7hrok7uuQPwufkQvVamLIBPKXdPsAYcSapxZ3hEtpB1P15+7llvEB/IseSfQmaf Vr6kCf+Yiljac/dyAhEW3VbE7i+Misu272uphjyXSBWzF/U5m3cJMOZtOGq1ljjIwzEeX2DWphL FCEb7pDmPWjGuTaxnpKelofX5vIliEvtUYSnYiqeaA== X-Google-Smtp-Source: AGHT+IFXCMXPHKqLkZvKoo4gSqqpStkWnStkfKeWRELD3/6gC7nKC0v8HWZeC7jISq18gTevCT2G8qIpgUik X-Received: by 2002:a17:902:e74a:b0:220:cd9f:a180 with SMTP id d9443c01a7336-221040eb9fdmr197025345ad.53.1739872494626; Tue, 18 Feb 2025 01:54:54 -0800 (PST) Received: from postal.iol.unh.edu (postal.iol.unh.edu. [2606:4100:3880:1234::84]) by smtp-relay.gmail.com with ESMTPS id d9443c01a7336-220d5201e33sm5216525ad.10.2025.02.18.01.54.54 (version=TLS1_2 cipher=ECDHE-ECDSA-AES128-GCM-SHA256 bits=128/128); Tue, 18 Feb 2025 01:54:54 -0800 (PST) X-Relaying-Domain: iol.unh.edu Date: Tue, 18 Feb 2025 01:54:54 -0800 (PST) Message-ID: <67b458ee.170a0220.3d78c8.8cd8SMTPIN_ADDED_MISSING@mx.google.com> Received: from [172.21.0.5] (unknown [172.18.0.240]) by postal.iol.unh.edu (Postfix) with ESMTP id B1EDC6052471; Tue, 18 Feb 2025 04:54:53 -0500 (EST) Subject: |SUCCESS| [GIT MASTER] 968f7b6d7b6a7e60e6e551db430c4eecaccbbfd2 From: dpdklab@iol.unh.edu To: Test Report Cc: dpdk-test-reports@iol.unh.edu, Stephen Hemminger Content-Type: text/plain X-BeenThere: test-report@dpdk.org X-Mailman-Version: 2.1.29 Precedence: list List-Id: automatic DPDK test reports List-Unsubscribe: , List-Archive: List-Post: List-Help: List-Subscribe: , Errors-To: test-report-bounces@dpdk.org _Testing PASS_ Branch: dpdk-next-net 968f7b6d7b6a7e60e6e551db430c4eecaccbbfd2 --> testing pass Upstream job id: Generic-Unit-Test-DPDK#315722 Test environment and result as below: +---------------------+----------------+ | Environment | dpdk_unit_test | +=====================+================+ | CentOS Stream 9 | PASS | +---------------------+----------------+ | CentOS Stream 10 | PASS | +---------------------+----------------+ | Debian Bullseye | PASS | +---------------------+----------------+ | Fedora 40 | PASS | +---------------------+----------------+ | Debian 12 | PASS | +---------------------+----------------+ | Fedora 40 (Clang) | PASS | +---------------------+----------------+ | Fedora 41 | PASS | +---------------------+----------------+ | RHEL9 | PASS | +---------------------+----------------+ | Fedora 41 (Clang) | PASS | +---------------------+----------------+ | RHEL8 | PASS | +---------------------+----------------+ | Ubuntu 22.04 | PASS | +---------------------+----------------+ | Ubuntu 20.04 | PASS | +---------------------+----------------+ | Ubuntu 24.04 | PASS | +---------------------+----------------+ | Windows Server 2022 | PASS | +---------------------+----------------+ CentOS Stream 9 Kernel: Depends on container host Compiler: gcc 11.5.0 20240719 (Red Hat 11.5.0-2) CentOS Stream 10 Kernel: Depends on container host Compiler: gcc 14.2.1 20241104 (Red Hat 14.2.1-6) Debian Bullseye Kernel: Depends on container host Compiler: gcc (Debian 10.2.1-6) 10.2.1 20210110 Fedora 40 Kernel: Depends on container host Compiler: gcc 14.2.1 20240912 (Red Hat 14.2.1-3) Debian 12 Kernel: Depends on container host Compiler: gcc (Debian 12.2.0-14) 12.2.0 Fedora 40 (Clang) Kernel: Depends on container host Compiler: clang 18.1.8 (Fedora 18.1.8-1.fc40) Fedora 41 Kernel: Depends on container host Compiler: gcc 14.2.1 20240912 (Red Hat 14.2.1-3) RHEL9 Kernel: Depends on container host Compiler: gcc 11.5.0 20240719 (Red Hat 11.5.0-2) Fedora 41 (Clang) Kernel: Depends on container host Compiler: clang 19.1.5 (Fedora 19.1.5-1.fc41) RHEL8 Kernel: Depends on container host Compiler: gcc 8.5.0 20210514 (Red Hat 8.5.0-22) Ubuntu 22.04 Kernel: Depends on container host Compiler: gcc (Ubuntu 11.4.0-1ubuntu1~22.04) 11.4.0 Ubuntu 20.04 Kernel: Depends on container host Compiler: gcc (Ubuntu 9.4.0-1ubuntu1~20.04.2) 9.4.0 Ubuntu 24.04 Kernel: Depends on container host Compiler: gcc (Ubuntu 13.3.0-6ubuntu2~24.04) 13.3.0 Windows Server 2022 Kernel: 10.0.20348.2031 Compiler: clang 15.0.7, gcc 14.1.0 (MinGW), and MSVC VS 19.39.33521 To view detailed results, visit: https://lab.dpdk.org/results/dashboard/tarballs/32605/ UNH-IOL DPDK Community Lab To manage your email subscriptions, visit: https://lab.dpdk.org/results/dashboard/preferences/subscriptions/