From mboxrd@z Thu Jan 1 00:00:00 1970 Return-Path: Received: from mails.dpdk.org (mails.dpdk.org [217.70.189.124]) by inbox.dpdk.org (Postfix) with ESMTP id 612A946257 for ; Tue, 18 Feb 2025 11:24:17 +0100 (CET) Received: from mails.dpdk.org (localhost [127.0.0.1]) by mails.dpdk.org (Postfix) with ESMTP id 38718402A0; Tue, 18 Feb 2025 11:24:17 +0100 (CET) Received: from mail-oo1-f100.google.com (mail-oo1-f100.google.com [209.85.161.100]) by mails.dpdk.org (Postfix) with ESMTP id B73084025F for ; Tue, 18 Feb 2025 11:24:16 +0100 (CET) Received: by mail-oo1-f100.google.com with SMTP id 006d021491bc7-5fc0c7b391fso1654045eaf.3 for ; Tue, 18 Feb 2025 02:24:16 -0800 (PST) DKIM-Signature: v=1; a=rsa-sha256; c=relaxed/relaxed; d=iol.unh.edu; s=unh-iol; t=1739874255; x=1740479055; darn=dpdk.org; h=cc:to:from:subject:message-id:date:from:to:cc:subject:date :message-id:reply-to; bh=VFKWZAI4azkTNnxrZP/h2WqRo/g89OYFC276jv3IOh8=; b=fWUC1VbCY5eCg3Wc5ubUnjIShk5WQ9XchgTIlN/ZbNjBXxNKP43oM/+6bGkdP8mj5v ZCZzY0XXFBoM80dkPTPFNynrGGS+Jog4X0jPTTomlZjccQfUobRgqOMCIJnAOC8tvl8y nmz5o1SOlQYNqE2rSCgJhyCgh6xz3s0VDInBw= X-Google-DKIM-Signature: v=1; a=rsa-sha256; c=relaxed/relaxed; d=1e100.net; s=20230601; t=1739874255; x=1740479055; h=cc:to:from:subject:message-id:date:x-gm-message-state:from:to:cc :subject:date:message-id:reply-to; bh=VFKWZAI4azkTNnxrZP/h2WqRo/g89OYFC276jv3IOh8=; b=WJAufaZSmSjSyPP07xFjgVVeqYUvQTJcfmbIivWJ1+gDSc/eAELu1rdJTXj/6F0LFl uD4l5b/I63nM+X8zl+1S0wo0Cy5dEmTjX/YxsWQQXOq/q258zxJEAAOQ4lbkQ39I8tfF TUX9z+KN8iIyCv8b2vobRE61euYX2pg2ERc1MhXPAXvsT5j67PsEZy8eHyXBX0CGtvrF /C5hTtqKw9l84nT9AJhHs3tCwb196FwGrC8sXdpN1U/1FB0xEku5xU4N9EcsBcYAAN/b ETybhtX3WLwF+Ju4y3OHmaJbsPxN+ISwNMPKRYBDUdKkJ/1YuRSvnu0fj+y6pMRoabS7 Jwiw== X-Gm-Message-State: AOJu0Yzr3qhzf+qERv+Y+/BqMx9VtqUg57x6Nhc4CbjxNksTAakwCSL/ rVlAOmRqg85ilDwmqX9hhvdJhW8q1ernI4x8U8qmAPx+o/hL4F98RU1emQDU+wfOn/aaJ3Wq4jY Wkc5q36DP83Hx+vRltqhyhSEnY5s3/ofenEbNtsCanRgVLT/0Mn+5xKHq X-Gm-Gg: ASbGncub5pURRGxS4/NlLi2dMUtOY5jjLz9YwdaoBGx5XGJVxZDK08p9o3NvB41G7Q1 yR4NsoPue35GAPkP3dK2T+vfo/WokYKop1CgI7vf6cdudceS/mVNVB+Ssyvkx9funFwN+1RNVa/ Z3oN9Q2MiHBv6Nx1uHS6z3m1Xa3D911hOW+t/TGiD9YqAYYoJevTaAFf4ev1Rrw100yAnEv+Lls Ii/aDLxVJxhhJveHGYNP0aoAAsNgYZAmd7AwoT7CpcHDgqIx2mBYKpRMelGRwGOOizF5rHt0vsW FT28TVG69WXLv5AVQEm0w5criqNPx1bnQYAhe9gl2w== X-Google-Smtp-Source: AGHT+IH/S1Q20gcyro/KW67GzuTGBT5lNf+Tu5ac+VPHwrdN601sr4tz3Zh1/X3ksxk2f3GYgXZTpw0hp1tl X-Received: by 2002:a05:6870:46a6:b0:29e:2bbd:51cb with SMTP id 586e51a60fabf-2bc99d5917emr7315857fac.24.1739874255648; Tue, 18 Feb 2025 02:24:15 -0800 (PST) Received: from postal.iol.unh.edu (postal.iol.unh.edu. [2606:4100:3880:1234::84]) by smtp-relay.gmail.com with ESMTPS id 586e51a60fabf-2b963a0ded2sm638852fac.38.2025.02.18.02.24.15 (version=TLS1_2 cipher=ECDHE-ECDSA-AES128-GCM-SHA256 bits=128/128); Tue, 18 Feb 2025 02:24:15 -0800 (PST) X-Relaying-Domain: iol.unh.edu Date: Tue, 18 Feb 2025 02:24:15 -0800 (PST) Message-ID: <67b45fcf.050a0220.26e14d.edccSMTPIN_ADDED_MISSING@mx.google.com> Received: from [172.17.0.3] (unknown [172.18.0.217]) by postal.iol.unh.edu (Postfix) with ESMTP id 1CE646052471; Tue, 18 Feb 2025 05:24:15 -0500 (EST) Subject: |SUCCESS| [GIT MASTER] 968f7b6d7b6a7e60e6e551db430c4eecaccbbfd2 From: dpdklab@iol.unh.edu To: Test Report Cc: dpdk-test-reports@iol.unh.edu, Stephen Hemminger Content-Type: text/plain X-BeenThere: test-report@dpdk.org X-Mailman-Version: 2.1.29 Precedence: list List-Id: automatic DPDK test reports List-Unsubscribe: , List-Archive: List-Post: List-Help: List-Subscribe: , Errors-To: test-report-bounces@dpdk.org _Testing PASS_ Branch: dpdk-next-net 968f7b6d7b6a7e60e6e551db430c4eecaccbbfd2 --> testing pass Upstream job id: Generic-DPDK-Compile-Meson#362509 Test environment and result as below: +---------------------+--------------------+-------------------+-------------------------+------------------+----------------------+ | Environment | dpdk_meson_compile | dpdk_compile_spdk | dpdk_llvm_clang_compile | dpdk_compile_ovs | dpdk_mingw64_compile | +=====================+====================+===================+=========================+==================+======================+ | FreeBSD 13.4 | PASS | SKIPPED | SKIPPED | SKIPPED | SKIPPED | +---------------------+--------------------+-------------------+-------------------------+------------------+----------------------+ | CentOS Stream 9 | PASS | PASS | SKIPPED | SKIPPED | SKIPPED | +---------------------+--------------------+-------------------+-------------------------+------------------+----------------------+ | CentOS Stream 10 | PASS | SKIPPED | SKIPPED | SKIPPED | SKIPPED | +---------------------+--------------------+-------------------+-------------------------+------------------+----------------------+ | Debian Bullseye | PASS | PASS | SKIPPED | SKIPPED | SKIPPED | +---------------------+--------------------+-------------------+-------------------------+------------------+----------------------+ | Debian 12 | PASS | PASS | SKIPPED | SKIPPED | SKIPPED | +---------------------+--------------------+-------------------+-------------------------+------------------+----------------------+ | Fedora 40 (Clang) | PASS | PASS | SKIPPED | SKIPPED | SKIPPED | +---------------------+--------------------+-------------------+-------------------------+------------------+----------------------+ | Fedora 40 | PASS | PASS | SKIPPED | SKIPPED | SKIPPED | +---------------------+--------------------+-------------------+-------------------------+------------------+----------------------+ | Fedora 41 (Clang) | PASS | PASS | SKIPPED | PASS | SKIPPED | +---------------------+--------------------+-------------------+-------------------------+------------------+----------------------+ | Fedora 41 | PASS | PASS | SKIPPED | PASS | SKIPPED | +---------------------+--------------------+-------------------+-------------------------+------------------+----------------------+ | openSUSE Leap 15 | PASS | SKIPPED | SKIPPED | SKIPPED | SKIPPED | +---------------------+--------------------+-------------------+-------------------------+------------------+----------------------+ | RHEL8 | PASS | SKIPPED | SKIPPED | SKIPPED | SKIPPED | +---------------------+--------------------+-------------------+-------------------------+------------------+----------------------+ | RHEL9 | PASS | SKIPPED | SKIPPED | SKIPPED | SKIPPED | +---------------------+--------------------+-------------------+-------------------------+------------------+----------------------+ | Ubuntu 20.04 | PASS | SKIPPED | SKIPPED | SKIPPED | SKIPPED | +---------------------+--------------------+-------------------+-------------------------+------------------+----------------------+ | Ubuntu 22.04 | PASS | PASS | SKIPPED | SKIPPED | SKIPPED | +---------------------+--------------------+-------------------+-------------------------+------------------+----------------------+ | Ubuntu 24.04 | PASS | PASS | SKIPPED | PASS | SKIPPED | +---------------------+--------------------+-------------------+-------------------------+------------------+----------------------+ | Alpine | PASS | SKIPPED | SKIPPED | SKIPPED | SKIPPED | +---------------------+--------------------+-------------------+-------------------------+------------------+----------------------+ | Windows Server 2022 | SKIPPED | SKIPPED | PASS | SKIPPED | PASS | +---------------------+--------------------+-------------------+-------------------------+------------------+----------------------+ FreeBSD 13.4 Kernel: 13.4-RELEASE-p1 Compiler: clang 18.1.6 CentOS Stream 9 Kernel: Depends on container host Compiler: gcc 11.5.0 20240719 (Red Hat 11.5.0-2) CentOS Stream 10 Kernel: Depends on container host Compiler: gcc 14.2.1 20241104 (Red Hat 14.2.1-6) Debian Bullseye Kernel: Depends on container host Compiler: gcc (Debian 10.2.1-6) 10.2.1 20210110 Debian 12 Kernel: Depends on container host Compiler: gcc (Debian 12.2.0-14) 12.2.0 Fedora 40 (Clang) Kernel: Depends on container host Compiler: clang 18.1.8 (Fedora 18.1.8-1.fc40) Fedora 40 Kernel: Depends on container host Compiler: gcc 14.2.1 20240912 (Red Hat 14.2.1-3) Fedora 41 (Clang) Kernel: Depends on container host Compiler: clang 19.1.5 (Fedora 19.1.5-1.fc41) Fedora 41 Kernel: Depends on container host Compiler: gcc 14.2.1 20240912 (Red Hat 14.2.1-3) openSUSE Leap 15 Kernel: Depends on container host Compiler: gcc (SUSE Linux) 7.5.0 RHEL8 Kernel: Depends on container host Compiler: gcc 8.5.0 20210514 (Red Hat 8.5.0-22) RHEL9 Kernel: Depends on container host Compiler: gcc 11.5.0 20240719 (Red Hat 11.5.0-2) Ubuntu 20.04 Kernel: Depends on container host Compiler: gcc (Ubuntu 9.4.0-1ubuntu1~20.04.2) 9.4.0 Ubuntu 22.04 Kernel: Depends on container host Compiler: gcc (Ubuntu 11.4.0-1ubuntu1~22.04) 11.4.0 Ubuntu 24.04 Kernel: Depends on container host Compiler: gcc (Ubuntu 13.3.0-6ubuntu2~24.04) 13.3.0 Alpine Kernel: Depends on container host Compiler: gcc (Alpine 14.2.0) 14.2.0 Windows Server 2022 Kernel: 10.0.20348.2031 Compiler: clang 15.0.7, gcc 14.1.0 (MinGW), and MSVC VS 19.39.33521 To view detailed results, visit: https://lab.dpdk.org/results/dashboard/tarballs/32605/ UNH-IOL DPDK Community Lab To manage your email subscriptions, visit: https://lab.dpdk.org/results/dashboard/preferences/subscriptions/