From mboxrd@z Thu Jan 1 00:00:00 1970 Return-Path: Received: from mails.dpdk.org (mails.dpdk.org [217.70.189.124]) by inbox.dpdk.org (Postfix) with ESMTP id F0AD646257 for ; Tue, 18 Feb 2025 11:30:25 +0100 (CET) Received: from mails.dpdk.org (localhost [127.0.0.1]) by mails.dpdk.org (Postfix) with ESMTP id CF065402A0; Tue, 18 Feb 2025 11:30:25 +0100 (CET) Received: from mail-qv1-f97.google.com (mail-qv1-f97.google.com [209.85.219.97]) by mails.dpdk.org (Postfix) with ESMTP id 260904025F for ; Tue, 18 Feb 2025 11:30:25 +0100 (CET) Received: by mail-qv1-f97.google.com with SMTP id 6a1803df08f44-6dd1962a75bso36801696d6.3 for ; Tue, 18 Feb 2025 02:30:25 -0800 (PST) DKIM-Signature: v=1; a=rsa-sha256; c=relaxed/relaxed; d=iol.unh.edu; s=unh-iol; t=1739874624; x=1740479424; darn=dpdk.org; h=cc:to:from:subject:message-id:date:from:to:cc:subject:date :message-id:reply-to; bh=Zqb7qXp5k/uakhyGOupczooRc6+zfWynGi6rLbeul6U=; b=agys9WKc+CZ47t7FHW1plcXKPveU6GUGRqfOlsyPBcVH0KPrae8/AzhgygM1BnyA8i ws1ukjPEKJyxKtiyVRF83ML38MfjlDeL/gGNjJyDkPEj44o3zbcQsbKZZMzuOlT4gcX0 +w+3faZ2n3OQ2CM5vrp/wPMi0blTdymuAO1N4= X-Google-DKIM-Signature: v=1; a=rsa-sha256; c=relaxed/relaxed; d=1e100.net; s=20230601; t=1739874624; x=1740479424; h=cc:to:from:subject:message-id:date:x-gm-message-state:from:to:cc :subject:date:message-id:reply-to; bh=Zqb7qXp5k/uakhyGOupczooRc6+zfWynGi6rLbeul6U=; b=AKw0Xf36+MbTZV8wx5YI7XtaWHBrCZUTSl+vVmWFNYgZPE2mNEA+szOG79EXhbTPyj nA/6mvnzu5Jif+ECPnxLiy2iA+8YQc5BNJrmXshbX4N3BfFd5R0LbtZeZlBzzqY1cUyZ qCbw2s71t7DKbv3y1Lsu0P/99/Dwwzyl+kfPhWUCFAvjfDQZHwRvxD2cmTn1TnVZKRjY JFCf+TBH+YQ/0QCkL4Cv8E7GOBYIs2MGxYJher9hAHNn/5VKZIV+1KNvoMUAgDZNZRsy cd0SblFV6cXo+pgmm4dZJjxSVoF/6GYO+cgcjZd6nNur3Fl8p0Ccc0K2eE3wHB92ddL7 s9Ew== X-Gm-Message-State: AOJu0YzDXe4y3Pc3VRab52B5lg+0plmvBj7diOwAiOYJGz/jeVn8dRcI B8ehF2iEcTn1M6pxVZwpzEaGgOzfphPWddSJXpgza4fBbKpM/8T02IUiSaY5Lrj205G89G0X6LN Dpx34/UQAr5wrDjyIx/BHPMIU/1GG084gJSa0NcJe6b9LEVVJ X-Gm-Gg: ASbGncv2KyS9loo64EJaUqH+RbHBUPyZdJQdiAuDFaBYThailRDpQoYOGl/S48maTfL CTmr+TM5S2b/pQamq3cu4tMq3Ye+qo20REjxRT+FgypD6yokqJEsJ+t3T4ZI8Gl2bg+Urr7rjy9 BNFgdJ5xfKaEAR9vveJQjqoOk3n0IGNbi3uTScDTzcV185T1yUzpGhlJNXd5n/OGQUbfPEJIWFL 5Tks3VzeqtbRtbn818b+GK6NYvs1OZvBKwpz/+RMj8N5IyQeBx5stFviFoZVMExMstWgvgPziX1 yRZekyspbikj58voCeOUd17loxK5/r7kb1gjnvV0Vw== X-Google-Smtp-Source: AGHT+IHzWi1irmFSMqu+7lilnF1hZ+B7grGCFu6vNZTS2Vp5SxJNWXSTVoPisN1AtLa53BEi0V9s7VU0JcYX X-Received: by 2002:a05:6214:627:b0:6e6:5bd5:f3a8 with SMTP id 6a1803df08f44-6e66cceb6bfmr177476596d6.29.1739874624459; Tue, 18 Feb 2025 02:30:24 -0800 (PST) Received: from postal.iol.unh.edu (postal.iol.unh.edu. [2606:4100:3880:1234::84]) by smtp-relay.gmail.com with ESMTPS id 6a1803df08f44-6e65d742112sm4539746d6.31.2025.02.18.02.30.24 (version=TLS1_2 cipher=ECDHE-ECDSA-AES128-GCM-SHA256 bits=128/128); Tue, 18 Feb 2025 02:30:24 -0800 (PST) X-Relaying-Domain: iol.unh.edu Date: Tue, 18 Feb 2025 02:30:24 -0800 (PST) Message-ID: <67b46140.0c0a0220.fc6e.6aa3SMTPIN_ADDED_MISSING@mx.google.com> Received: from [172.17.0.3] (unknown [172.18.0.217]) by postal.iol.unh.edu (Postfix) with ESMTP id 268D06052471; Tue, 18 Feb 2025 05:30:24 -0500 (EST) Subject: |SUCCESS| [GIT MASTER] c66daa12e76d7b4912cfb7109a761856a7a873ab From: dpdklab@iol.unh.edu To: Test Report Cc: dpdk-test-reports@iol.unh.edu, Xueming Li , Christian Ehrhardt , Kevin Traynor , Luca Boccassi Content-Type: text/plain X-BeenThere: test-report@dpdk.org X-Mailman-Version: 2.1.29 Precedence: list List-Id: automatic DPDK test reports List-Unsubscribe: , List-Archive: List-Post: List-Help: List-Subscribe: , Errors-To: test-report-bounces@dpdk.org _Testing PASS_ Branch: tags/v23.11 c66daa12e76d7b4912cfb7109a761856a7a873ab --> testing pass Upstream job id: ACVP-FIPS-testing#8941 Test environment and result as below: +--------------------+----------------------+----------------------+ | Environment | compressdev_zlib_pmd | dpdk_fips_validation | +====================+======================+======================+ | Ubuntu 22.04 (ARM) | PASS | SKIPPED | +--------------------+----------------------+----------------------+ | Ubuntu 22.04 | PASS | SKIPPED | +--------------------+----------------------+----------------------+ | Ubuntu 20.04 | SKIPPED | PASS | +--------------------+----------------------+----------------------+ Ubuntu 22.04 (ARM) Kernel: 5.15.0-97-generic Compiler: gcc gcc (Ubuntu 11.4.0-1ubuntu1~22.04) 11.4.0 Ubuntu 22.04 Kernel: 5.15.0-100-generic Compiler: gcc gcc (Ubuntu 11.4.0-1ubuntu1~22.04) 11.4.0 Ubuntu 20.04 Kernel: Depends on container host Compiler: gcc (Ubuntu 9.4.0-1ubuntu1~20.04.2) 9.4.0 To view detailed results, visit: https://lab.dpdk.org/results/dashboard/tarballs/32604/ UNH-IOL DPDK Community Lab To manage your email subscriptions, visit: https://lab.dpdk.org/results/dashboard/preferences/subscriptions/