From mboxrd@z Thu Jan 1 00:00:00 1970 Return-Path: Received: from mails.dpdk.org (mails.dpdk.org [217.70.189.124]) by inbox.dpdk.org (Postfix) with ESMTP id 9288946258 for ; Tue, 18 Feb 2025 12:25:30 +0100 (CET) Received: from mails.dpdk.org (localhost [127.0.0.1]) by mails.dpdk.org (Postfix) with ESMTP id 880D7402C4; Tue, 18 Feb 2025 12:25:30 +0100 (CET) Received: from mail-il1-f225.google.com (mail-il1-f225.google.com [209.85.166.225]) by mails.dpdk.org (Postfix) with ESMTP id F33E5402A0 for ; Tue, 18 Feb 2025 12:25:29 +0100 (CET) Received: by mail-il1-f225.google.com with SMTP id e9e14a558f8ab-3d19e40a891so11653385ab.3 for ; Tue, 18 Feb 2025 03:25:29 -0800 (PST) DKIM-Signature: v=1; a=rsa-sha256; c=relaxed/relaxed; d=iol.unh.edu; s=unh-iol; t=1739877929; x=1740482729; darn=dpdk.org; h=cc:to:from:subject:message-id:date:from:to:cc:subject:date :message-id:reply-to; bh=8GiHgUCbb8IqY48a1EP7cwaxtWkx/sElsnNAhuAra08=; b=GoQWahEJpxnVLFko7+a5UGLhaCQrJ/2MqHWXi5ictpdWuCIeoo1HYw/c7HmlZzeHed 0yNQTRNCUzm1x52VMoHlMGDjbHR9lucq24tc+fXK1VdZEV5v1hyWyoNpy6U4CQIViTGY ELire88e5mV4rXZ1a+1/jg2ZlL2+oJzHpx7bc= X-Google-DKIM-Signature: v=1; a=rsa-sha256; c=relaxed/relaxed; d=1e100.net; s=20230601; t=1739877929; x=1740482729; h=cc:to:from:subject:message-id:date:x-gm-message-state:from:to:cc :subject:date:message-id:reply-to; bh=8GiHgUCbb8IqY48a1EP7cwaxtWkx/sElsnNAhuAra08=; b=bv6KlVbWrZaKNf2WOzpf4RuItdlYiWmCavzL+4v+wbT9Wx3Gz0USZ+JQENYklOqNgJ 8NbmumAPIvf29l5kRWXotH8G6Y19vlxCfz+NYBLcO6yzKiHmgU6XksyfkipoEwdt4jRc InS5ZPkiFCZocYK1+TGuAAzNkps0HZUlF52BGuSbtpffsvDgqQbNbrPCwf7xNte8s4lk KAY6uK1h2UBfsb2CGZiMqsl5GdUwC/sAQq2vQ7J+Y33LDhwS0NTKXplnsICPIZp0momU 9pQcBY6tHo441cj/unvF8Ff1kKE++cccn390Nt92jftKj2JaKYCAXjIFWJFZ2qkKPsPw vxYQ== X-Gm-Message-State: AOJu0Yza84LTRk44lhzVCq7k3/hvkNQIQi1qi5IAV24vS6wPp42BVrHO kf8rN/Z/ckGDSr4SE+9LEIXsD9Pt1oHT1IM2Q8SGghWcfXsYBh9tjzc0sYj4Z4+REc4z6u89NlZ phs9N9L6aX+Yprhbk8n8U7JRXLdMvj2eQ X-Gm-Gg: ASbGncsVexMxCuQvhJmAGlQzp/6OZXFkyLYFrjEDdlU4tnGcNHUi0NTHKRTs8oOxHMZ vAfdkTmQ4brh2B8xkHjXQqc+ix5MZyU24RS7uojvrNYvlkOnSsT3bU8Z3qRAQtnJnzIjVVsIxf/ 92op90CEMUVcWVYeBVN6UdfC6zX+NYjO3fDMPlRrATpLSklzXuSbrEmakxTkogPAfDxaSYc1rWO MjTdhBtsfWfgT8HafCRvCz86xf61UHaG9E9fU55ZQJietHEhe3RVnqEb+JK9v4oSEUwiLEtODh6 tFcMPNVvpRh8J9xm/yyk2pd6pLmJUw== X-Google-Smtp-Source: AGHT+IGCS/8FjNenhs5hH2dcx2mm7uXms5P/f+3/HpEKc2pNRJpi1HzTSS8NooLgqCqBtg+z/psyvUGaMJc+ X-Received: by 2002:a05:6e02:4811:b0:3d2:b0f1:f5bd with SMTP id e9e14a558f8ab-3d2b0f1f6e7mr5442935ab.3.1739877929313; Tue, 18 Feb 2025 03:25:29 -0800 (PST) Received: from postal.iol.unh.edu (postal.iol.unh.edu. [132.177.123.84]) by smtp-relay.gmail.com with ESMTPS id 8926c6da1cb9f-4eeb2bf9998sm30188173.61.2025.02.18.03.25.29 (version=TLS1_2 cipher=ECDHE-ECDSA-AES128-GCM-SHA256 bits=128/128); Tue, 18 Feb 2025 03:25:29 -0800 (PST) X-Relaying-Domain: iol.unh.edu Date: Tue, 18 Feb 2025 03:25:29 -0800 (PST) Message-ID: <67b46e29.050a0220.1eb681.1619SMTPIN_ADDED_MISSING@mx.google.com> Received: from [172.21.0.6] (unknown [172.18.0.240]) by postal.iol.unh.edu (Postfix) with ESMTP id DEF926052471; Tue, 18 Feb 2025 06:25:28 -0500 (EST) Subject: |SUCCESS| [GIT MASTER] 7ce7d3341d7e21c2a81f2fea8e451681d7306d77 From: dpdklab@iol.unh.edu To: Test Report Cc: dpdk-test-reports@iol.unh.edu, Xueming Li , Christian Ehrhardt , Kevin Traynor , Luca Boccassi Content-Type: text/plain X-BeenThere: test-report@dpdk.org X-Mailman-Version: 2.1.29 Precedence: list List-Id: automatic DPDK test reports List-Unsubscribe: , List-Archive: List-Post: List-Help: List-Subscribe: , Errors-To: test-report-bounces@dpdk.org _Testing PASS_ Branch: tags/v22.11 7ce7d3341d7e21c2a81f2fea8e451681d7306d77 --> testing pass Upstream job id: Generic-DPDK-Compile-Meson#362441 Test environment and result as below: +------------------------------------+--------------------+ | Environment | dpdk_meson_compile | +====================================+====================+ | RHEL9 (ARM) | PASS | +------------------------------------+--------------------+ | Ubuntu 20.04 ARM GCC Cross Compile | PASS | +------------------------------------+--------------------+ | Debian 12 with MUSDK | PASS | +------------------------------------+--------------------+ | Ubuntu 20.04 ARM SVE | PASS | +------------------------------------+--------------------+ | Fedora 40 (ARM Clang) | PASS | +------------------------------------+--------------------+ | Fedora 40 (ARM) | PASS | +------------------------------------+--------------------+ | Fedora 41 (ARM) | PASS | +------------------------------------+--------------------+ | Fedora 41 (ARM Clang) | PASS | +------------------------------------+--------------------+ | Ubuntu 20.04 (ARM) | PASS | +------------------------------------+--------------------+ | Ubuntu 22.04 (ARM) | PASS | +------------------------------------+--------------------+ | Ubuntu 24.04 (ARM) | PASS | +------------------------------------+--------------------+ | CentOS Stream 9 (ARM) | PASS | +------------------------------------+--------------------+ | CentOS Stream 10 (ARM) | PASS | +------------------------------------+--------------------+ | Debian 11 (Buster) (ARM) | PASS | +------------------------------------+--------------------+ | Debian 12 (arm) | PASS | +------------------------------------+--------------------+ RHEL9 (ARM) Kernel: Depends on container host Compiler: gcc 11.5.0 20240719 (Red Hat 11.5.0-2) Ubuntu 20.04 ARM GCC Cross Compile Kernel: Depends on container host Compiler: aarch64-linux-gnu-gcc (Ubuntu 9.4.0-1ubuntu1~20.04.2) 9.4.0 Debian 12 with MUSDK Kernel: Depends on container host Compiler: gcc (Debian 12.2.0-14) 12.2.0 Ubuntu 20.04 ARM SVE Kernel: Depends on container host Compiler: gcc (Ubuntu 10.5.0-1ubuntu1~20.04) 10.5.0 Fedora 40 (ARM Clang) Kernel: Depends on container host Compiler: clang 18.1.8 (Fedora 18.1.8-1.fc40) Fedora 40 (ARM) Kernel: Depends on container host Compiler: gcc 14.2.1 20240912 (Red Hat 14.2.1-3) Fedora 41 (ARM) Kernel: Depends on container host Compiler: gcc 14.2.1 20240912 (Red Hat 14.2.1-3) Fedora 41 (ARM Clang) Kernel: Depends on container host Compiler: clang 19.1.5 (Fedora 19.1.5-1.fc41) Ubuntu 20.04 (ARM) Kernel: Depends on container host Compiler: gcc (Ubuntu 9.4.0-1ubuntu1~20.04.2) 9.4.0 Ubuntu 22.04 (ARM) Kernel: Depends on container host Compiler: gcc (Ubuntu 11.4.0-1ubuntu1~22.04) 11.4.0 Ubuntu 24.04 (ARM) Kernel: Depends on container host Compiler: gcc (Ubuntu 13.3.0-6ubuntu2~24.04) 13.3.0 CentOS Stream 9 (ARM) Kernel: Depends on container host Compiler: gcc 11.5.0 20240719 (Red Hat 11.5.0-2) CentOS Stream 10 (ARM) Kernel: Depends on container host Compiler: gcc 14.2.1 20241104 (Red Hat 14.2.1-6) Debian 11 (Buster) (ARM) Kernel: Depends on container host Compiler: gcc (Debian 10.2.1-6) 10.2.1 20210110 Debian 12 (arm) Kernel: Depends on container host Compiler: gcc (Debian 12.2.0-14) 12.2.0 To view detailed results, visit: https://lab.dpdk.org/results/dashboard/tarballs/32603/ UNH-IOL DPDK Community Lab To manage your email subscriptions, visit: https://lab.dpdk.org/results/dashboard/preferences/subscriptions/