From mboxrd@z Thu Jan 1 00:00:00 1970 Return-Path: Received: from mails.dpdk.org (mails.dpdk.org [217.70.189.124]) by inbox.dpdk.org (Postfix) with ESMTP id C65AD4625C for ; Tue, 18 Feb 2025 13:26:23 +0100 (CET) Received: from mails.dpdk.org (localhost [127.0.0.1]) by mails.dpdk.org (Postfix) with ESMTP id BF7AF402C4; Tue, 18 Feb 2025 13:26:23 +0100 (CET) Received: from mail-pl1-f225.google.com (mail-pl1-f225.google.com [209.85.214.225]) by mails.dpdk.org (Postfix) with ESMTP id 7CD49402A0 for ; Tue, 18 Feb 2025 13:26:22 +0100 (CET) Received: by mail-pl1-f225.google.com with SMTP id d9443c01a7336-220c92c857aso84280255ad.0 for ; Tue, 18 Feb 2025 04:26:22 -0800 (PST) DKIM-Signature: v=1; a=rsa-sha256; c=relaxed/relaxed; d=iol.unh.edu; s=unh-iol; t=1739881581; x=1740486381; darn=dpdk.org; h=cc:to:from:subject:message-id:date:from:to:cc:subject:date :message-id:reply-to; bh=u9Wl35z254U89j4ye8j1+24aOVE067wKvKaSyhcOXt4=; b=NdOFDUKw9XB21oYyYeGP0Pxl7VjIgwzDSRnQOe0je6B+KEL4jIPqJkMZmOcOTTs5RA Mr3zmdg6+7MRoxcUyBy2E7enDNacRhHYfX4v2xNfKJgXS15cEdEpOxIjcSVknFbXx3bA uoHX05btZUJntJ0UMRmoX2cl2wPsrZ9MC6MWY= X-Google-DKIM-Signature: v=1; a=rsa-sha256; c=relaxed/relaxed; d=1e100.net; s=20230601; t=1739881581; x=1740486381; h=cc:to:from:subject:message-id:date:x-gm-message-state:from:to:cc :subject:date:message-id:reply-to; bh=u9Wl35z254U89j4ye8j1+24aOVE067wKvKaSyhcOXt4=; b=tNQYUA9myqUBq+/PcwvUWu+iL2PEqdStZfDmf+O5ZLpWLr9L5YWUixYoMKVGdaf+im rWmP8NchBoSKZC/vZAeRGrBMpe4iMmRdYAWP4fVGpqYf9JABmjDJcuMEkR/3GiOxUsBa emYiYsriRkZtsHr/IYmt2RHgwfF9iMIqo5nhkR5gMBbWNYef0zMQWU4Ny/YwtkgiU+sL 6M/ETmslC/BjrqRGbmllhubN0nTQ5zi/RUe3pPlk49MAKbnMiS0D/KOaKZR+d0AsV9yN Tmaw2kBhG3t9X7sdy1yIMV3S7c+CBL88eUZbuAkzPha/cJSWhrxMmiGjGOqYu1+SttsZ P3Vg== X-Gm-Message-State: AOJu0YwK8dt5vlkcGfPqeBuNXB/9+wh0HFrVHHDmzymtftoWu5CWAXku aPWIVNXX82PK9aTtMsODoJ8gc+H2sElyBkRDzA28hAIw8ajxu+eDbJPa3TPa77SI9Kpq8nc1vNJ IPDsSjwHvgH84DJzbRdICjogzyQv3sUqqbntkO9iBFC4VUHTy X-Gm-Gg: ASbGncupcNRBggoiMEeGbx5S4UQ5EaqBDLfGOM7soXSH/Ug8wDjR9Ab9+FFUIvQXMKb K8USCIDkBwmV6Whnrwuw5F+qwT/a0vyAP4cpiCn4tFI/6upOQQCn4BdsOxOAhny3TKzWWUzqYJg U9MmhkuBeNmYbCft2eqos02Fka94FwxN59sqybrCk+jz7V5l9ORKUWJXxPkYnatHWZH3gW2QUI2 BsssT2a6TPFHrAnjTXHV4gAg2n1fABQO2wliXS/hSYbxoaX4wKBY7C6IxFcBvWlBhYGHl5AYsLV 1VWQXsy37I2IOf162GHLp2mECCQ7wbu4pBNyx4H2Mw== X-Google-Smtp-Source: AGHT+IH8QoaeO/rTqWBznLV3wk+0B6NCY3hn3i9dwlOhAtYxhoBIqUxs1Dy0U+m1f0LZ6CuX7HtfqbZSrDDl X-Received: by 2002:a17:903:41c8:b0:215:b1e3:c051 with SMTP id d9443c01a7336-221045bbad2mr206939655ad.11.1739881581604; Tue, 18 Feb 2025 04:26:21 -0800 (PST) Received: from postal.iol.unh.edu (postal.iol.unh.edu. [2606:4100:3880:1234::84]) by smtp-relay.gmail.com with ESMTPS id d9443c01a7336-220e0344ec3sm4919305ad.45.2025.02.18.04.26.21 (version=TLS1_2 cipher=ECDHE-ECDSA-AES128-GCM-SHA256 bits=128/128); Tue, 18 Feb 2025 04:26:21 -0800 (PST) X-Relaying-Domain: iol.unh.edu Date: Tue, 18 Feb 2025 04:26:21 -0800 (PST) Message-ID: <67b47c6d.170a0220.eb4f1.7c2dSMTPIN_ADDED_MISSING@mx.google.com> Received: from [172.21.0.7] (unknown [172.18.0.240]) by postal.iol.unh.edu (Postfix) with ESMTP id AB6E76052471; Tue, 18 Feb 2025 07:26:20 -0500 (EST) Subject: |SUCCESS| [GIT MASTER] c66daa12e76d7b4912cfb7109a761856a7a873ab From: dpdklab@iol.unh.edu To: Test Report Cc: dpdk-test-reports@iol.unh.edu, Xueming Li , Christian Ehrhardt , Kevin Traynor , Luca Boccassi Content-Type: text/plain X-BeenThere: test-report@dpdk.org X-Mailman-Version: 2.1.29 Precedence: list List-Id: automatic DPDK test reports List-Unsubscribe: , List-Archive: List-Post: List-Help: List-Subscribe: , Errors-To: test-report-bounces@dpdk.org _Testing PASS_ Branch: tags/v23.11 c66daa12e76d7b4912cfb7109a761856a7a873ab --> testing pass Upstream job id: Generic-DPDK-Compile-Meson#362484 Test environment and result as below: +------------------------------------+--------------------+ | Environment | dpdk_meson_compile | +====================================+====================+ | RHEL9 (ARM) | PASS | +------------------------------------+--------------------+ | Ubuntu 20.04 ARM GCC Cross Compile | PASS | +------------------------------------+--------------------+ | Ubuntu 20.04 ARM SVE | PASS | +------------------------------------+--------------------+ | Fedora 40 (ARM Clang) | PASS | +------------------------------------+--------------------+ | Fedora 40 (ARM) | PASS | +------------------------------------+--------------------+ | Fedora 41 (ARM) | PASS | +------------------------------------+--------------------+ | Fedora 41 (ARM Clang) | PASS | +------------------------------------+--------------------+ | Ubuntu 20.04 (ARM) | PASS | +------------------------------------+--------------------+ | Ubuntu 22.04 (ARM) | PASS | +------------------------------------+--------------------+ | Ubuntu 24.04 (ARM) | PASS | +------------------------------------+--------------------+ | Debian 12 (arm) | PASS | +------------------------------------+--------------------+ | Debian 11 (Buster) (ARM) | PASS | +------------------------------------+--------------------+ | CentOS Stream 10 (ARM) | PASS | +------------------------------------+--------------------+ | CentOS Stream 9 (ARM) | PASS | +------------------------------------+--------------------+ | Debian 12 with MUSDK | PASS | +------------------------------------+--------------------+ RHEL9 (ARM) Kernel: Depends on container host Compiler: gcc 11.5.0 20240719 (Red Hat 11.5.0-2) Ubuntu 20.04 ARM GCC Cross Compile Kernel: Depends on container host Compiler: aarch64-linux-gnu-gcc (Ubuntu 9.4.0-1ubuntu1~20.04.2) 9.4.0 Ubuntu 20.04 ARM SVE Kernel: Depends on container host Compiler: gcc (Ubuntu 10.5.0-1ubuntu1~20.04) 10.5.0 Fedora 40 (ARM Clang) Kernel: Depends on container host Compiler: clang 18.1.8 (Fedora 18.1.8-1.fc40) Fedora 40 (ARM) Kernel: Depends on container host Compiler: gcc 14.2.1 20240912 (Red Hat 14.2.1-3) Fedora 41 (ARM) Kernel: Depends on container host Compiler: gcc 14.2.1 20240912 (Red Hat 14.2.1-3) Fedora 41 (ARM Clang) Kernel: Depends on container host Compiler: clang 19.1.5 (Fedora 19.1.5-1.fc41) Ubuntu 20.04 (ARM) Kernel: Depends on container host Compiler: gcc (Ubuntu 9.4.0-1ubuntu1~20.04.2) 9.4.0 Ubuntu 22.04 (ARM) Kernel: Depends on container host Compiler: gcc (Ubuntu 11.4.0-1ubuntu1~22.04) 11.4.0 Ubuntu 24.04 (ARM) Kernel: Depends on container host Compiler: gcc (Ubuntu 13.3.0-6ubuntu2~24.04) 13.3.0 Debian 12 (arm) Kernel: Depends on container host Compiler: gcc (Debian 12.2.0-14) 12.2.0 Debian 11 (Buster) (ARM) Kernel: Depends on container host Compiler: gcc (Debian 10.2.1-6) 10.2.1 20210110 CentOS Stream 10 (ARM) Kernel: Depends on container host Compiler: gcc 14.2.1 20241104 (Red Hat 14.2.1-6) CentOS Stream 9 (ARM) Kernel: Depends on container host Compiler: gcc 11.5.0 20240719 (Red Hat 11.5.0-2) Debian 12 with MUSDK Kernel: Depends on container host Compiler: gcc (Debian 12.2.0-14) 12.2.0 To view detailed results, visit: https://lab.dpdk.org/results/dashboard/tarballs/32604/ UNH-IOL DPDK Community Lab To manage your email subscriptions, visit: https://lab.dpdk.org/results/dashboard/preferences/subscriptions/