From mboxrd@z Thu Jan 1 00:00:00 1970 Return-Path: Received: from mails.dpdk.org (mails.dpdk.org [217.70.189.124]) by inbox.dpdk.org (Postfix) with ESMTP id 46D5B4625C for ; Tue, 18 Feb 2025 13:30:11 +0100 (CET) Received: from mails.dpdk.org (localhost [127.0.0.1]) by mails.dpdk.org (Postfix) with ESMTP id 37D09402C4; Tue, 18 Feb 2025 13:30:11 +0100 (CET) Received: from mail-yw1-f226.google.com (mail-yw1-f226.google.com [209.85.128.226]) by mails.dpdk.org (Postfix) with ESMTP id 6D0E4402A0 for ; Tue, 18 Feb 2025 13:30:10 +0100 (CET) Received: by mail-yw1-f226.google.com with SMTP id 00721157ae682-6fb7c373416so15412307b3.0 for ; Tue, 18 Feb 2025 04:30:10 -0800 (PST) DKIM-Signature: v=1; a=rsa-sha256; c=relaxed/relaxed; d=iol.unh.edu; s=unh-iol; t=1739881809; x=1740486609; darn=dpdk.org; h=references:in-reply-to:cc:to:from:subject:message-id:date:from:to :cc:subject:date:message-id:reply-to; bh=zclK6g0F033tW6pwoTm1/Y1nC1vprzaol2d9CdmqodQ=; b=F04lB3kdJC9iOU77PRDPZUurI0uZ3eZE+/qGTj3V69qRftLgIcsyKEfm/TmmhoYA2J swDyYrKj2sPzjQAPx5meNXI7s3WoIigM8lPbRUlAzlCP5B8PNtaSuJW5qVMe/Ber6V9q 0TFO4UWo2pfOEKqW3zU+8q4Fj7tRfF8gAfzik= X-Google-DKIM-Signature: v=1; a=rsa-sha256; c=relaxed/relaxed; d=1e100.net; s=20230601; t=1739881809; x=1740486609; h=references:in-reply-to:cc:to:from:subject:message-id:date :x-gm-message-state:from:to:cc:subject:date:message-id:reply-to; bh=zclK6g0F033tW6pwoTm1/Y1nC1vprzaol2d9CdmqodQ=; b=OmOj8I/kWvJABnaDWkaffYb26SjdNg9f8J5LcXh9INMp6KQyfc8SmLq/jWIXH98i5K KG7H+OE26ArLhawH/+iL9DAUflMG+YHcZeJ9X3QChwYgCfE79RZEtkyC5fPzx2z3mZuj maeYpd+VHNbNqz3Kbq+mTg00ojNi9mEIyou93TuLTMa/IQHdC6NDYus6P0vaIur5iahT jkZBcmFf+X+E/nvS86S/rKa2OiGWicsjrjI0tdAQpBtoMA1VBOLBLxhrU0YI8VUZfFo4 OaloNelnrPMO2n8lqyKEi4tM1hl/1OdI/hdO+Et7vm/feewmSmtLo8bhSNIsQdy58Qc5 QAuA== X-Gm-Message-State: AOJu0Yz/YLM5vrfYYeQjlP7C9xDPRd2sqRAA3BBQGQYnMdfMc60upO1o Mwqhy5KwuxFb8//Vsk6FiHnrd82MhXthMEdNlaVS8GefGjcn9GGDu2TCedKZuTMZbHWnHN3mX2J 6wako64DqLLaOSP6oy+gi7VC2uv8wAKp9kL6ZEcTv X-Gm-Gg: ASbGncs35jq73D0gYNYLf5wAE6ABrsGfRejJZB+0sqHj+vBzqLmIzCZF3YQgE0a+M4r 1nrKBE1dyBtKmYNxBsJXF6dcUNdn+VXmNhe6wujePNDgbCF1PiA7290G9AriiaXo7MoophgIhSS 33cqYjOvjZgI06lwtb9GK/LNZ11zkB3YiF8zEZCiwl6C/A6LnKwbCz2uuotLaIlPXy8fk5t5uFi SYtdvORJMliCNB20h+FF2DHmzw8De7P6nWW0QrfWBsqiF8jKaRVxXxbc2PaJbaVa38o9NeqCpyW s+GbvbM8txS/Jo/CZfiWVr2KihyOAA== X-Google-Smtp-Source: AGHT+IG4HCaMDD69IOzCBzS63YLno7vwF+XxIKa03NxEm/I6iW/2CjiE5qGuHHyQqJQpmhR/bdNfmido8iTo X-Received: by 2002:a05:690c:3687:b0:6f9:8605:ec98 with SMTP id 00721157ae682-6fb58377fdamr110051077b3.28.1739881809769; Tue, 18 Feb 2025 04:30:09 -0800 (PST) Received: from postal.iol.unh.edu (postal.iol.unh.edu. [132.177.123.84]) by smtp-relay.gmail.com with ESMTPS id 00721157ae682-6fb4423f67bsm2308087b3.11.2025.02.18.04.30.09 (version=TLS1_2 cipher=ECDHE-ECDSA-AES128-GCM-SHA256 bits=128/128); Tue, 18 Feb 2025 04:30:09 -0800 (PST) X-Relaying-Domain: iol.unh.edu Date: Tue, 18 Feb 2025 04:30:09 -0800 (PST) Message-ID: <67b47d51.050a0220.3685da.aca0SMTPIN_ADDED_MISSING@mx.google.com> Received: from [172.17.0.4] (unknown [172.18.0.217]) by postal.iol.unh.edu (Postfix) with ESMTP id 60CA16052471; Tue, 18 Feb 2025 07:30:09 -0500 (EST) Subject: |SUCCESS| pw151572-151573 [PATCH] [2/2] app/testpmd: use flags from From: dpdklab@iol.unh.edu To: Test Report Cc: dpdk-test-reports@iol.unh.edu In-Reply-To: <20250218103322.166461-3-gavinl@nvidia.com> References: <20250218103322.166461-3-gavinl@nvidia.com> Content-Type: text/plain X-BeenThere: test-report@dpdk.org X-Mailman-Version: 2.1.29 Precedence: list List-Id: automatic DPDK test reports List-Unsubscribe: , List-Archive: List-Post: List-Help: List-Subscribe: , Errors-To: test-report-bounces@dpdk.org Test-Label: iol-abi-testing Test-Status: SUCCESS http://dpdk.org/patch/151573 _Testing PASS_ Submitter: Minggang Li(Gavin) Date: Tuesday, February 18 2025 10:33:22 DPDK git baseline: Repo:dpdk Branch: master CommitID:968f7b6d7b6a7e60e6e551db430c4eecaccbbfd2 151572-151573 --> testing pass Upstream job id: Generic-DPDK-Compile-ABI#116540 Test environment and result as below: +-------------------+----------+ | Environment | abi_test | +===================+==========+ | CentOS Stream 9 | PASS | +-------------------+----------+ | Debian Bullseye | PASS | +-------------------+----------+ | CentOS Stream 10 | PASS | +-------------------+----------+ | Debian 12 | PASS | +-------------------+----------+ | Fedora 40 (Clang) | PASS | +-------------------+----------+ | Fedora 40 | PASS | +-------------------+----------+ | RHEL9 | PASS | +-------------------+----------+ | Fedora 41 (Clang) | PASS | +-------------------+----------+ | RHEL8 | PASS | +-------------------+----------+ | Fedora 41 | PASS | +-------------------+----------+ | openSUSE Leap 15 | PASS | +-------------------+----------+ | Ubuntu 22.04 | PASS | +-------------------+----------+ | Ubuntu 24.04 | PASS | +-------------------+----------+ CentOS Stream 9 Kernel: Depends on container host Compiler: gcc 11.5.0 20240719 (Red Hat 11.5.0-2) Debian Bullseye Kernel: Depends on container host Compiler: gcc (Debian 10.2.1-6) 10.2.1 20210110 CentOS Stream 10 Kernel: Depends on container host Compiler: gcc 14.2.1 20241104 (Red Hat 14.2.1-6) Debian 12 Kernel: Depends on container host Compiler: gcc (Debian 12.2.0-14) 12.2.0 Fedora 40 (Clang) Kernel: Depends on container host Compiler: clang 18.1.8 (Fedora 18.1.8-1.fc40) Fedora 40 Kernel: Depends on container host Compiler: gcc 14.2.1 20240912 (Red Hat 14.2.1-3) RHEL9 Kernel: Depends on container host Compiler: gcc 11.5.0 20240719 (Red Hat 11.5.0-2) Fedora 41 (Clang) Kernel: Depends on container host Compiler: clang 19.1.5 (Fedora 19.1.5-1.fc41) RHEL8 Kernel: Depends on container host Compiler: gcc 8.5.0 20210514 (Red Hat 8.5.0-22) Fedora 41 Kernel: Depends on container host Compiler: gcc 14.2.1 20240912 (Red Hat 14.2.1-3) openSUSE Leap 15 Kernel: Depends on container host Compiler: gcc (SUSE Linux) 7.5.0 Ubuntu 22.04 Kernel: Depends on container host Compiler: gcc (Ubuntu 11.4.0-1ubuntu1~22.04) 11.4.0 Ubuntu 24.04 Kernel: Depends on container host Compiler: gcc (Ubuntu 13.3.0-6ubuntu2~24.04) 13.3.0 To view detailed results, visit: https://lab.dpdk.org/results/dashboard/patchsets/32599/ UNH-IOL DPDK Community Lab To manage your email subscriptions, visit: https://lab.dpdk.org/results/dashboard/preferences/subscriptions/