From mboxrd@z Thu Jan 1 00:00:00 1970 Return-Path: Received: from mails.dpdk.org (mails.dpdk.org [217.70.189.124]) by inbox.dpdk.org (Postfix) with ESMTP id 58BB94625C for ; Tue, 18 Feb 2025 13:31:07 +0100 (CET) Received: from mails.dpdk.org (localhost [127.0.0.1]) by mails.dpdk.org (Postfix) with ESMTP id 558E1402C4; Tue, 18 Feb 2025 13:31:07 +0100 (CET) Received: from mail-yb1-f228.google.com (mail-yb1-f228.google.com [209.85.219.228]) by mails.dpdk.org (Postfix) with ESMTP id B2559402A0 for ; Tue, 18 Feb 2025 13:31:06 +0100 (CET) Received: by mail-yb1-f228.google.com with SMTP id 3f1490d57ef6-e5dab9cd918so4199969276.0 for ; Tue, 18 Feb 2025 04:31:06 -0800 (PST) DKIM-Signature: v=1; a=rsa-sha256; c=relaxed/relaxed; d=iol.unh.edu; s=unh-iol; t=1739881866; x=1740486666; darn=dpdk.org; h=cc:to:from:subject:message-id:date:from:to:cc:subject:date :message-id:reply-to; bh=E2QmJnHk7Z+VxQj8zdCXFJEMVeUV6NUy4ncabiBDy5c=; b=jgHhKQB0QiF/lLQz0bX8jHlIdzvsIHv0jQMXBd95mJl5XLdJGNz+esFBBQ5gsVgmS9 Kb0PujsjYtck1YWKqrGWXBYgsNRqKY6/18VsIzHNlM94xrTInhX+2yhynmM6qKZAiIQz 0vPUUab8p1s6JLI5axEzfbvqiGEUn71pAsPCc= X-Google-DKIM-Signature: v=1; a=rsa-sha256; c=relaxed/relaxed; d=1e100.net; s=20230601; t=1739881866; x=1740486666; h=cc:to:from:subject:message-id:date:x-gm-message-state:from:to:cc :subject:date:message-id:reply-to; bh=E2QmJnHk7Z+VxQj8zdCXFJEMVeUV6NUy4ncabiBDy5c=; b=mpgVmNEQl52BfoLNDaXzXqgIu0qkDIPUuwA7gePTbKxQle/sO7Hmj2F6Xlc5l9hrlC lRXUfihYllIA93NSlxWAJs9GYFG7bX7H7PsR4wI5B295PG1BJN83UFcc6K4IF4LVPZez luPVRgliZNIV172Rx7rVD43yypBXEsLvZmvHKZ2NnrbMQGDhwTtIu6NF0LMIneLBdmJ5 sjGoXf/wwVEfI2rZdkrNmZSHrBHL8c9R/kbtvZQRVqLEPME5iR0mCGkvF/TEQRspHemD Lzrj9qF7rHhX2uTjfms0InBFf/C0ne3EIFniq5KuVCn/n8M6uYrpTcfW9msg3u9aqn6L bvGQ== X-Gm-Message-State: AOJu0YxMx9VK8xWw2tLpYxJo56gctRfkNXn71M3LgmDK4I9XvNH9ySvD zNJnf8/h36o7WfdtH5Vb5vXLE1aojc1O4IsMSqqBk9uyun3bs5QAp10f5/9UoBNm/a94lWCCgDF pyUU5wAdZBeNj+CS5e/ItZ068NOnI342y8MyawnhxkrCUeZvoIXGSi4Tl X-Gm-Gg: ASbGnctyn8zehTlBUdIJYR1vQ8P0RA2I9Ue9MSEpL1PiRumNG55Xz2wKFUA5gIULPlN 5HN6M0CnyvLPR1ItWdE7jbopNs/iAMCIo541EjtOCXhSr4k0a2iK9ySYTsIa0Ql1QNI4koKJXVu 41Ctc41W+4N0u8d5/onUvA91tUAAXPlgeMIQz4PUVk7J3KB2fo0YNr0i7mxn3OAlct2nCWPmBUK jE8+Ar91W5OQcGOLmzp1z04iar8JOsG9HsZaiF2HKEgWonldCFftqiL8G2L0U14M9MeVRZJb939 IhAvUjdmrbabPnySX/GoGSfj7fgyJkreeZExaxTxeQ== X-Google-Smtp-Source: AGHT+IFxxHbz0bOjPC20EBtIvUQI9LWGo+P47hiI/Q5gifr6ItJVNj93dNjlYR6ctK+S9cA6LFcPIeLPfBbZ X-Received: by 2002:a05:6902:1882:b0:e54:666e:22ea with SMTP id 3f1490d57ef6-e5dc981dec8mr11246168276.11.1739881865952; Tue, 18 Feb 2025 04:31:05 -0800 (PST) Received: from postal.iol.unh.edu (postal.iol.unh.edu. [2606:4100:3880:1234::84]) by smtp-relay.gmail.com with ESMTPS id 3f1490d57ef6-e5dade8417esm560885276.3.2025.02.18.04.31.05 (version=TLS1_2 cipher=ECDHE-ECDSA-AES128-GCM-SHA256 bits=128/128); Tue, 18 Feb 2025 04:31:05 -0800 (PST) X-Relaying-Domain: iol.unh.edu Date: Tue, 18 Feb 2025 04:31:05 -0800 (PST) Message-ID: <67b47d89.250a0220.25944.b81fSMTPIN_ADDED_MISSING@mx.google.com> Received: from [172.17.0.6] (unknown [172.18.0.217]) by postal.iol.unh.edu (Postfix) with ESMTP id 9E0546052471; Tue, 18 Feb 2025 07:31:05 -0500 (EST) Subject: |SUCCESS| [GIT MASTER] 968f7b6d7b6a7e60e6e551db430c4eecaccbbfd2 From: dpdklab@iol.unh.edu To: Test Report Cc: dpdk-test-reports@iol.unh.edu, Stephen Hemminger Content-Type: text/plain X-BeenThere: test-report@dpdk.org X-Mailman-Version: 2.1.29 Precedence: list List-Id: automatic DPDK test reports List-Unsubscribe: , List-Archive: List-Post: List-Help: List-Subscribe: , Errors-To: test-report-bounces@dpdk.org _Testing PASS_ Branch: dpdk-next-net 968f7b6d7b6a7e60e6e551db430c4eecaccbbfd2 --> testing pass Upstream job id: Generic-Unit-Test-DPDK#315726 Test environment and result as below: +-----------------------------+----------------+--------------+------------------------------+---------------------------+ | Environment | dpdk_unit_test | lpm_autotest | cryptodev_sw_snow3g_autotest | cryptodev_sw_zuc_autotest | +=============================+================+==============+==============================+===========================+ | CentOS Stream 10 (ARM) | PASS | SKIPPED | SKIPPED | SKIPPED | +-----------------------------+----------------+--------------+------------------------------+---------------------------+ | CentOS Stream 9 (ARM) | PASS | SKIPPED | SKIPPED | SKIPPED | +-----------------------------+----------------+--------------+------------------------------+---------------------------+ | Fedora 40 (ARM) | PASS | SKIPPED | SKIPPED | SKIPPED | +-----------------------------+----------------+--------------+------------------------------+---------------------------+ | Debian 11 (Buster) (ARM) | PASS | SKIPPED | SKIPPED | SKIPPED | +-----------------------------+----------------+--------------+------------------------------+---------------------------+ | Debian 12 (arm) | PASS | SKIPPED | PASS | PASS | +-----------------------------+----------------+--------------+------------------------------+---------------------------+ | RHEL9 (ARM) | PASS | SKIPPED | SKIPPED | SKIPPED | +-----------------------------+----------------+--------------+------------------------------+---------------------------+ | Fedora 40 (ARM Clang) | PASS | SKIPPED | SKIPPED | SKIPPED | +-----------------------------+----------------+--------------+------------------------------+---------------------------+ | Fedora 41 (ARM Clang) | PASS | SKIPPED | SKIPPED | SKIPPED | +-----------------------------+----------------+--------------+------------------------------+---------------------------+ | Fedora 41 (ARM) | PASS | SKIPPED | SKIPPED | SKIPPED | +-----------------------------+----------------+--------------+------------------------------+---------------------------+ | Ubuntu 22.04 (ARM) | PASS | SKIPPED | SKIPPED | SKIPPED | +-----------------------------+----------------+--------------+------------------------------+---------------------------+ | Ubuntu 24.04 (ARM) | PASS | SKIPPED | SKIPPED | SKIPPED | +-----------------------------+----------------+--------------+------------------------------+---------------------------+ | Ubuntu 20.04 (ARM) | PASS | SKIPPED | SKIPPED | SKIPPED | +-----------------------------+----------------+--------------+------------------------------+---------------------------+ | 32-bit Ubuntu 22.04.4 (ARM) | PASS | SKIPPED | SKIPPED | SKIPPED | +-----------------------------+----------------+--------------+------------------------------+---------------------------+ | Ubuntu 20.04 ARM SVE | SKIPPED | PASS | SKIPPED | SKIPPED | +-----------------------------+----------------+--------------+------------------------------+---------------------------+ CentOS Stream 10 (ARM) Kernel: Depends on container host Compiler: gcc 14.2.1 20241104 (Red Hat 14.2.1-6) CentOS Stream 9 (ARM) Kernel: Depends on container host Compiler: gcc 11.5.0 20240719 (Red Hat 11.5.0-2) Fedora 40 (ARM) Kernel: Depends on container host Compiler: gcc 14.2.1 20240912 (Red Hat 14.2.1-3) Debian 11 (Buster) (ARM) Kernel: Depends on container host Compiler: gcc (Debian 10.2.1-6) 10.2.1 20210110 Debian 12 (arm) Kernel: Depends on container host Compiler: gcc (Debian 12.2.0-14) 12.2.0 RHEL9 (ARM) Kernel: Depends on container host Compiler: gcc 11.5.0 20240719 (Red Hat 11.5.0-2) Fedora 40 (ARM Clang) Kernel: Depends on container host Compiler: clang 18.1.8 (Fedora 18.1.8-1.fc40) Fedora 41 (ARM Clang) Kernel: Depends on container host Compiler: clang 19.1.5 (Fedora 19.1.5-1.fc41) Fedora 41 (ARM) Kernel: Depends on container host Compiler: gcc 14.2.1 20240912 (Red Hat 14.2.1-3) Ubuntu 22.04 (ARM) Kernel: Depends on container host Compiler: gcc (Ubuntu 11.4.0-1ubuntu1~22.04) 11.4.0 Ubuntu 24.04 (ARM) Kernel: Depends on container host Compiler: gcc (Ubuntu 13.3.0-6ubuntu2~24.04) 13.3.0 Ubuntu 20.04 (ARM) Kernel: Depends on container host Compiler: gcc (Ubuntu 9.4.0-1ubuntu1~20.04.2) 9.4.0 32-bit Ubuntu 22.04.4 (ARM) Kernel: 5.15.83+ aarch64 Compiler: gcc (Ubuntu 11.4.0-1ubuntu1~22.04) 11.4.0 Ubuntu 20.04 ARM SVE Kernel: Depends on container host Compiler: gcc (Ubuntu 10.5.0-1ubuntu1~20.04) 10.5.0 To view detailed results, visit: https://lab.dpdk.org/results/dashboard/tarballs/32605/ UNH-IOL DPDK Community Lab To manage your email subscriptions, visit: https://lab.dpdk.org/results/dashboard/preferences/subscriptions/