From mboxrd@z Thu Jan 1 00:00:00 1970 Return-Path: Received: from mails.dpdk.org (mails.dpdk.org [217.70.189.124]) by inbox.dpdk.org (Postfix) with ESMTP id 797A34625C for ; Tue, 18 Feb 2025 13:43:39 +0100 (CET) Received: from mails.dpdk.org (localhost [127.0.0.1]) by mails.dpdk.org (Postfix) with ESMTP id 76467402EF; Tue, 18 Feb 2025 13:43:39 +0100 (CET) Received: from mail-qk1-f227.google.com (mail-qk1-f227.google.com [209.85.222.227]) by mails.dpdk.org (Postfix) with ESMTP id B82B6402A0 for ; Tue, 18 Feb 2025 13:43:38 +0100 (CET) Received: by mail-qk1-f227.google.com with SMTP id af79cd13be357-7c0893f9aa6so273261585a.1 for ; Tue, 18 Feb 2025 04:43:38 -0800 (PST) DKIM-Signature: v=1; a=rsa-sha256; c=relaxed/relaxed; d=iol.unh.edu; s=unh-iol; t=1739882618; x=1740487418; darn=dpdk.org; h=cc:to:from:subject:message-id:date:from:to:cc:subject:date :message-id:reply-to; bh=UcBxEOX51OPeYsWJtOUOjyeIPD+VSFBJLxjqT0awt1I=; b=HG4G0UZ/AVfdsk1hjmCh6l3rhQle2jU5bw7cHDpuM6EBIuc9uG0QFsLBBupoM5La2C zJU48j4hduRYM3ycMl1wy7/Tf3Q0V/4FlMdX0bW7p4XYfSsRLbeF+eU5kODigZmdiOnN rMtgYj1aYSxoSK9jm+zcQLzpMI8pizqOtxYyI= X-Google-DKIM-Signature: v=1; a=rsa-sha256; c=relaxed/relaxed; d=1e100.net; s=20230601; t=1739882618; x=1740487418; h=cc:to:from:subject:message-id:date:x-gm-message-state:from:to:cc :subject:date:message-id:reply-to; bh=UcBxEOX51OPeYsWJtOUOjyeIPD+VSFBJLxjqT0awt1I=; b=DCWIgoDKu7Wdc0GvPUVBu0cvGLHpyEWgBFTAVdVXXNhErtaHrqaYY4JQIhxhBXrT1V ZHDrfgdq/Mjz/VkEz8E+oMEnnPK1LpGLuWV5O+U6FZt8lSrBIIQvYqlI+80uObJAhWyi DSujCq5cyB6vJfYqJ9534Auzza5z+v1XfMFBqnLfQVXRtKiAZrH36Hlfe2L043W0C9b1 z6MsCFQiJ+tfRF+xiFvJloYsG3RjZT5J86NX7O1f1DIbnxv1hEMVsa3hNVFyDmy6/5a7 E8XKfOJHUwwwH+61qOMVMxv1qawVsEPPskkljRqsitl6sc6BLJj8UpzcKXkzwF2nzyeL f8UQ== X-Gm-Message-State: AOJu0YwzHoBFkKZHJOFHlp8PMVu646GLyQYmxmg8hfDdWIzGyH0RRQiG /GNPxbJDDC8mGuY3EIex96dFBfojkT9sEsHPKSKOnH5TVbz97Y/8kQ8dsY7gtmAh03hktSEPOJp YY1EYTC4B2cjduSvR8qyCr1CPRlAxZWSpvLI+uPzJ X-Gm-Gg: ASbGncuJOWQNxdzT+6TJ4BcUK2pcO9MuiejzJTksIaM9Wj3e8ytE313laoDNSDSf2C2 NFXY3RDPrbtjV0lrq4sOAbQ0qpajIpH68AQztjHPRlaFLbUEKqBirg4XdD7Q41UkUlmUunLN9CJ ZOWBw14kQHE3ndWl5kv26bOrU+RqEtkddiaUEOB7qNTsrZU2AlS9pkvubSF5YVrPWuiOANi0I6M tllqT+D3zEDlSINJUDQGdePE/l9L8dRKgP+S72NvwDHl2OoQtzDCiK4kuXvu6VLNNDtiQ+rdeZd SjT8LP/AmPcZvrMO6WeqsxQaCW2Rug== X-Google-Smtp-Source: AGHT+IFdyRimrRiAOiim0HAvoV6YIxKC2zuhbVZNwdmuHw+tcsuNW4hAjTvdKkJCxGp/MI6/uPtA7qT5Ncbj X-Received: by 2002:a05:620a:178e:b0:7c0:7b1d:263b with SMTP id af79cd13be357-7c08aaa9086mr1909788485a.35.1739882618053; Tue, 18 Feb 2025 04:43:38 -0800 (PST) Received: from postal.iol.unh.edu (postal.iol.unh.edu. [132.177.123.84]) by smtp-relay.gmail.com with ESMTPS id 6a1803df08f44-6e65d735766sm4534866d6.28.2025.02.18.04.43.37 (version=TLS1_2 cipher=ECDHE-ECDSA-AES128-GCM-SHA256 bits=128/128); Tue, 18 Feb 2025 04:43:38 -0800 (PST) X-Relaying-Domain: iol.unh.edu Date: Tue, 18 Feb 2025 04:43:38 -0800 (PST) Message-ID: <67b4807a.d40a0220.4e27c.60feSMTPIN_ADDED_MISSING@mx.google.com> Received: from [172.17.0.3] (unknown [172.18.0.217]) by postal.iol.unh.edu (Postfix) with ESMTP id ABED46052471; Tue, 18 Feb 2025 07:43:37 -0500 (EST) Subject: |WARNING| [GIT MASTER] 968f7b6d7b6a7e60e6e551db430c4eecaccbbfd2 From: dpdklab@iol.unh.edu To: Test Report Cc: dpdk-test-reports@iol.unh.edu, Stephen Hemminger Content-Type: text/plain X-BeenThere: test-report@dpdk.org X-Mailman-Version: 2.1.29 Precedence: list List-Id: automatic DPDK test reports List-Unsubscribe: , List-Archive: List-Post: List-Help: List-Subscribe: , Errors-To: test-report-bounces@dpdk.org _Testing issues_ Branch: dpdk-next-net 968f7b6d7b6a7e60e6e551db430c4eecaccbbfd2 --> testing issues Upstream job id: ACVP-FIPS-testing#8942 Test environment and result as below: +--------------------+----------------------+----------------------+ | Environment | compressdev_zlib_pmd | dpdk_fips_validation | +====================+======================+======================+ | Ubuntu 22.04 (ARM) | PASS | SKIPPED | +--------------------+----------------------+----------------------+ | Ubuntu 22.04 | PASS | SKIPPED | +--------------------+----------------------+----------------------+ | Ubuntu 20.04 | SKIPPED | WARN | +--------------------+----------------------+----------------------+ ==== 20 line log output for Ubuntu 20.04 (dpdk_fips_validation): ==== main( File "/dpdk-ci/tools/acvp/acvp_tool.py", line 315, in main upload_json: List[Any] = json.load(upload_file) File "/usr/lib/python3.8/json/__init__.py", line 293, in load return loads(fp.read(), File "/usr/lib/python3.8/json/__init__.py", line 357, in loads return _default_decoder.decode(s) File "/usr/lib/python3.8/json/decoder.py", line 337, in decode obj, end = self.raw_decode(s, idx=_w(s, 0).end()) File "/usr/lib/python3.8/json/decoder.py", line 355, in raw_decode raise JSONDecodeError("Expecting value", s, err.value) from None json.decoder.JSONDecodeError: Expecting value: line 1 column 1 (char 0) INFO:root:Using response file... INFO:root:Uploading response file... INFO:root:Fetching verdict... INFO:root:Downloading verdict for vector set 2912226 INFO:root:Vector set verdict not ready, waiting 30 seconds... INFO:root:Vector set verdict not ready, waiting 30 seconds... INFO:root:Vector set verdict not ready, waiting 30 seconds... INFO:root:Done ==== End log output ==== Ubuntu 22.04 (ARM) Kernel: 5.15.0-97-generic Compiler: gcc gcc (Ubuntu 11.4.0-1ubuntu1~22.04) 11.4.0 Ubuntu 22.04 Kernel: 5.15.0-100-generic Compiler: gcc gcc (Ubuntu 11.4.0-1ubuntu1~22.04) 11.4.0 Ubuntu 20.04 Kernel: Depends on container host Compiler: gcc (Ubuntu 9.4.0-1ubuntu1~20.04.2) 9.4.0 To view detailed results, visit: https://lab.dpdk.org/results/dashboard/tarballs/32605/ UNH-IOL DPDK Community Lab To manage your email subscriptions, visit: https://lab.dpdk.org/results/dashboard/preferences/subscriptions/