From mboxrd@z Thu Jan 1 00:00:00 1970 Return-Path: Received: from mails.dpdk.org (mails.dpdk.org [217.70.189.124]) by inbox.dpdk.org (Postfix) with ESMTP id 24A184625C for ; Tue, 18 Feb 2025 13:58:06 +0100 (CET) Received: from mails.dpdk.org (localhost [127.0.0.1]) by mails.dpdk.org (Postfix) with ESMTP id 0B1EC402C4; Tue, 18 Feb 2025 13:58:06 +0100 (CET) Received: from mail-io1-f97.google.com (mail-io1-f97.google.com [209.85.166.97]) by mails.dpdk.org (Postfix) with ESMTP id 31AF2402A0 for ; Tue, 18 Feb 2025 13:58:04 +0100 (CET) Received: by mail-io1-f97.google.com with SMTP id ca18e2360f4ac-851c4ee2a37so381482539f.3 for ; Tue, 18 Feb 2025 04:58:04 -0800 (PST) DKIM-Signature: v=1; a=rsa-sha256; c=relaxed/relaxed; d=iol.unh.edu; s=unh-iol; t=1739883483; x=1740488283; darn=dpdk.org; h=cc:to:from:subject:message-id:date:from:to:cc:subject:date :message-id:reply-to; bh=MqbyI4U0N5VPB8vMC3cCNCvndIClQ8wfnPcZICnQmLA=; b=T0N+cQuUPJ4Y+ddpQLUxPAmzCkOKOUtE04UXPX2e8nah7aipnFpU+1nIjiKE4Eug6N biENEr2XTdiElN8U6JiPBEkPqjLuQz2NtLQYIMyIz1SNQf1frWWBNEBEhnVJkc8suYRW 08h2Gvc0MW2pbiXaeUKKORwP2mQeFCAUyTS/A= X-Google-DKIM-Signature: v=1; a=rsa-sha256; c=relaxed/relaxed; d=1e100.net; s=20230601; t=1739883483; x=1740488283; h=cc:to:from:subject:message-id:date:x-gm-message-state:from:to:cc :subject:date:message-id:reply-to; bh=MqbyI4U0N5VPB8vMC3cCNCvndIClQ8wfnPcZICnQmLA=; b=b8P/8yShlQdfC+bFtHsdWphOGJAs1K/fX+C3BWeupUYhFFmcc8ylXhgfAbpJr8J0l1 cjQhCPNzRANRLSLc/HmJi8EwU/zbBFALgAjN6uu+7DZqPo5mJgbMZA9SqzVZoGKzFKuO DVTlaGhs4h2JioTqp1P4thzWK3ZdDrKJwwKth3VUgtHwS1r9tpy0CZdg0J2sT7GCBfYA J2VS2qO7f221n0oDHbYeOhXWziVfIr1TtsS57fzfzn3kifKraUEvFZa5GURVQQJ2of6L Tjwd33d+nYsZNSWbz6zY1krIdVaYv3zo+XyCiOkCNoxnhi+VkNv6/CGPzSGpkEe1Jtqd HgQA== X-Gm-Message-State: AOJu0Yym+02p7wSRDZ8VcnMy9jhUWNZMe5PH1ZQGizffbMvgwfvagEOP 7uV1wjI9x9DTERBYB05SCcpt/ELBfTwLauYIkq5tKI7KR8eEAPuHk8n9fB5jlOz+i/xihoSE3Pj An3AakorueBxcomb417DaoDBgT3bgbIp2tQ+9PD5LEjYLglbj400PvEsb X-Gm-Gg: ASbGnctCo3Z73QxBshrWibzUAfjCH8nShbZvDWXD0AJQwrUyFFcejtKzfuRnf8pVLuH 7YD7ameWGA59RJIHBkAugzWlmoTAO5RKbsRRLBWKeGMxgWjA8AQpCTxxdz1dAHBJ2Ujer/G6gZz xZOvWg8YfMjiYlEf021Pta815jQ/II4EVt+jrnAVKrmZNLKuN9Ksqxp4LP3K7kuOwpK22eNH9ch 7Co0zHc2B/pFE+wu7jnW9VG8sM9FiYNzw719f3XdT6jkM4TgHYSGKvU0tFfwSCIlzPT+SBqAyfS uTQWP7rNxJIXHPZfMkKVk+ITa0O4YnmTBF4QtdfrYw== X-Google-Smtp-Source: AGHT+IGm9ouyjSgu5h77G0TyW1FBM8o++ClyEdMc3C90mvuvi5R4vJOfWEKjdCs6vQspuGMeunQKuXovKjtE X-Received: by 2002:a05:6e02:3103:b0:3d0:4e0c:2c96 with SMTP id e9e14a558f8ab-3d280771b4cmr129382285ab.2.1739883483244; Tue, 18 Feb 2025 04:58:03 -0800 (PST) Received: from postal.iol.unh.edu (postal.iol.unh.edu. [2606:4100:3880:1234::84]) by smtp-relay.gmail.com with ESMTPS id 8926c6da1cb9f-4eeb7402a12sm10024173.4.2025.02.18.04.58.03 (version=TLS1_2 cipher=ECDHE-ECDSA-AES128-GCM-SHA256 bits=128/128); Tue, 18 Feb 2025 04:58:03 -0800 (PST) X-Relaying-Domain: iol.unh.edu Date: Tue, 18 Feb 2025 04:58:03 -0800 (PST) Message-ID: <67b483db.050a0220.3166bd.088fSMTPIN_ADDED_MISSING@mx.google.com> Received: from [172.17.0.3] (unknown [172.18.0.217]) by postal.iol.unh.edu (Postfix) with ESMTP id B07DB6052471; Tue, 18 Feb 2025 07:58:02 -0500 (EST) Subject: |SUCCESS| [GIT MASTER] 968f7b6d7b6a7e60e6e551db430c4eecaccbbfd2 From: dpdklab@iol.unh.edu To: Test Report Cc: dpdk-test-reports@iol.unh.edu, Stephen Hemminger Content-Type: text/plain X-BeenThere: test-report@dpdk.org X-Mailman-Version: 2.1.29 Precedence: list List-Id: automatic DPDK test reports List-Unsubscribe: , List-Archive: List-Post: List-Help: List-Subscribe: , Errors-To: test-report-bounces@dpdk.org _Testing PASS_ Branch: dpdk-next-net 968f7b6d7b6a7e60e6e551db430c4eecaccbbfd2 --> testing pass Upstream job id: Generic-DPDK-Compile-Meson#362495 Test environment and result as below: +----------------------------------------+--------------------+ | Environment | dpdk_meson_compile | +========================================+====================+ | RHEL9 (ARM) | PASS | +----------------------------------------+--------------------+ | Ubuntu 20.04 ARM GCC Cross Compile | PASS | +----------------------------------------+--------------------+ | Ubuntu 20.04 ARM SVE | PASS | +----------------------------------------+--------------------+ | Debian 12 with MUSDK | PASS | +----------------------------------------+--------------------+ | Fedora 40 (ARM) | PASS | +----------------------------------------+--------------------+ | Fedora 40 (ARM Clang) | PASS | +----------------------------------------+--------------------+ | Fedora 41 (ARM) | PASS | +----------------------------------------+--------------------+ | Fedora 41 (ARM Clang) | PASS | +----------------------------------------+--------------------+ | Ubuntu 20.04 (ARM) | PASS | +----------------------------------------+--------------------+ | Ubuntu 22.04 (ARM) | PASS | +----------------------------------------+--------------------+ | Ubuntu 24.04 (ARM) | PASS | +----------------------------------------+--------------------+ | CentOS Stream 9 (ARM) | PASS | +----------------------------------------+--------------------+ | CentOS Stream 10 (ARM) | PASS | +----------------------------------------+--------------------+ | Debian 11 (Buster) (ARM) | PASS | +----------------------------------------+--------------------+ | Ubuntu 20.04 ARM Clang Cross Compile | PASS | +----------------------------------------+--------------------+ | Ubuntu 20.04 aarch32 GCC Cross Compile | PASS | +----------------------------------------+--------------------+ | Debian 12 (arm) | PASS | +----------------------------------------+--------------------+ RHEL9 (ARM) Kernel: Depends on container host Compiler: gcc 11.5.0 20240719 (Red Hat 11.5.0-2) Ubuntu 20.04 ARM GCC Cross Compile Kernel: Depends on container host Compiler: aarch64-linux-gnu-gcc (Ubuntu 9.4.0-1ubuntu1~20.04.2) 9.4.0 Ubuntu 20.04 ARM SVE Kernel: Depends on container host Compiler: gcc (Ubuntu 10.5.0-1ubuntu1~20.04) 10.5.0 Debian 12 with MUSDK Kernel: Depends on container host Compiler: gcc (Debian 12.2.0-14) 12.2.0 Fedora 40 (ARM) Kernel: Depends on container host Compiler: gcc 14.2.1 20240912 (Red Hat 14.2.1-3) Fedora 40 (ARM Clang) Kernel: Depends on container host Compiler: clang 18.1.8 (Fedora 18.1.8-1.fc40) Fedora 41 (ARM) Kernel: Depends on container host Compiler: gcc 14.2.1 20240912 (Red Hat 14.2.1-3) Fedora 41 (ARM Clang) Kernel: Depends on container host Compiler: clang 19.1.5 (Fedora 19.1.5-1.fc41) Ubuntu 20.04 (ARM) Kernel: Depends on container host Compiler: gcc (Ubuntu 9.4.0-1ubuntu1~20.04.2) 9.4.0 Ubuntu 22.04 (ARM) Kernel: Depends on container host Compiler: gcc (Ubuntu 11.4.0-1ubuntu1~22.04) 11.4.0 Ubuntu 24.04 (ARM) Kernel: Depends on container host Compiler: gcc (Ubuntu 13.3.0-6ubuntu2~24.04) 13.3.0 CentOS Stream 9 (ARM) Kernel: Depends on container host Compiler: gcc 11.5.0 20240719 (Red Hat 11.5.0-2) CentOS Stream 10 (ARM) Kernel: Depends on container host Compiler: gcc 14.2.1 20241104 (Red Hat 14.2.1-6) Debian 11 (Buster) (ARM) Kernel: Depends on container host Compiler: gcc (Debian 10.2.1-6) 10.2.1 20210110 Ubuntu 20.04 ARM Clang Cross Compile Kernel: Depends on container host Compiler: clang 10.0.0-4ubuntu1 Ubuntu 20.04 aarch32 GCC Cross Compile Kernel: Depends on container host Compiler: gcc 9.4.0 Debian 12 (arm) Kernel: Depends on container host Compiler: gcc (Debian 12.2.0-14) 12.2.0 To view detailed results, visit: https://lab.dpdk.org/results/dashboard/tarballs/32605/ UNH-IOL DPDK Community Lab To manage your email subscriptions, visit: https://lab.dpdk.org/results/dashboard/preferences/subscriptions/