From mboxrd@z Thu Jan 1 00:00:00 1970 Return-Path: Received: from mails.dpdk.org (mails.dpdk.org [217.70.189.124]) by inbox.dpdk.org (Postfix) with ESMTP id 2C2AC4625D for ; Tue, 18 Feb 2025 14:26:02 +0100 (CET) Received: from mails.dpdk.org (localhost [127.0.0.1]) by mails.dpdk.org (Postfix) with ESMTP id 2103E402C4; Tue, 18 Feb 2025 14:26:02 +0100 (CET) Received: from mail-pl1-f225.google.com (mail-pl1-f225.google.com [209.85.214.225]) by mails.dpdk.org (Postfix) with ESMTP id 6D857402A0 for ; Tue, 18 Feb 2025 14:26:01 +0100 (CET) Received: by mail-pl1-f225.google.com with SMTP id d9443c01a7336-22114b800f7so45625845ad.2 for ; Tue, 18 Feb 2025 05:26:01 -0800 (PST) DKIM-Signature: v=1; a=rsa-sha256; c=relaxed/relaxed; d=iol.unh.edu; s=unh-iol; t=1739885160; x=1740489960; darn=dpdk.org; h=references:in-reply-to:cc:to:from:subject:message-id:date:from:to :cc:subject:date:message-id:reply-to; bh=YkBWt43WFkn/X1fSbakJ4VA3q93QHY2ydVVVOomjF1g=; b=He0q3vKpav5HiuvIgg8HkI+ArE3QsTqLzhxXeBxLUGqYZjngr61f+NLoB2298tumkC UXJYCzT8cTzSRHaJSYUPcLC9SjGIznqbbVef2fwaNM5TLPMUjO6AIDnOWy8flVgrk+Us Cvh7GgREkKBgvjoUvxTyBxYP0JE5g982HAilI= X-Google-DKIM-Signature: v=1; a=rsa-sha256; c=relaxed/relaxed; d=1e100.net; s=20230601; t=1739885160; x=1740489960; h=references:in-reply-to:cc:to:from:subject:message-id:date :x-gm-message-state:from:to:cc:subject:date:message-id:reply-to; bh=YkBWt43WFkn/X1fSbakJ4VA3q93QHY2ydVVVOomjF1g=; b=fRLz7svNYMs9mYZC/jVT3Fl9nxhyldoRvfTw+nEBChOcqs6njlGi0AEc+x9XiaOUqF yvMFciTy3LVKU8Y7sgxphQwMjGSayP0xCpOSpm26pHinwzL9Y3qbk9tdQAmUxKzOrnZ2 bmLMdHYXUL4dCWSBntgkU4aU18cscKKEHMZ+jbjOCnIk5AuMGiq4/gxxMuPVTWUnInNL obfP3hicMwTphzNu7YM3N9bX9hUISPlGnIualN1hdVpG/P1RnkmdKKRKfjyaAd7ys8ys ZfMoBuFXryICsOASFcU1VDRkHot+ott7B3RaBPc9DvVh2nwFgE38ozHfHQ7OQeYvCth3 O1uQ== X-Gm-Message-State: AOJu0YycsEi1TvQUJ8REDgLHqJOABLvlcJpeip8xKuiToBv2yTeMizzz 1RBkIldQHUMSuCodXMvK3/ngJS7ajzRV0otEIQbXDu9HJEE5bIREHxsV4uQfkWIe6uxW4q3eJTC Cj6c3p6GqRD/+A1jIyDB7UosqLMQHnOJcG0usUDjyAiIhPGIbUVfJqfgs X-Gm-Gg: ASbGncsSIRP1gztO+8N3270kQszoQINi7JninWNERyk3mPRiP0pT/JgKBYOELqkdkPx BIowbCVpV2cbHsJ8833BvJSMuldHR3VSqJKRZE8MfEepVH34TR9KLydtfvR/PFLo2p5Mzxc8e0R 40pBplQ61rfNFk1bcnlUHGO8aNJunojV1yDRYo75gmw/hZLF3QrrgZ6tnlrYvvGg+xiLKcbuWFM buZcH4hN9MNyw0marGpyi/DLKbX/sd5mNes4Gm8AQk8KOkr9xiyZtghKRvpP1BT8dIefCkqhU7j xSXyK6NJKugaMdzH/zNIUWZYl2uo1dzPPzQ6Yy8ybg== X-Google-Smtp-Source: AGHT+IH1Wvjwd6J+3w62rXfH8mqjbb5hFxR+gqqCo5GBJ0SI+AMWhsutvMvfhE1v7tN/zueEEpKmfXJN26Qd X-Received: by 2002:a17:903:32d0:b0:220:df73:b639 with SMTP id d9443c01a7336-221040ac2f9mr185562205ad.36.1739885160571; Tue, 18 Feb 2025 05:26:00 -0800 (PST) Received: from postal.iol.unh.edu (postal.iol.unh.edu. [2606:4100:3880:1234::84]) by smtp-relay.gmail.com with ESMTPS id d9443c01a7336-220d5409d66sm5760395ad.96.2025.02.18.05.26.00 (version=TLS1_2 cipher=ECDHE-ECDSA-AES128-GCM-SHA256 bits=128/128); Tue, 18 Feb 2025 05:26:00 -0800 (PST) X-Relaying-Domain: iol.unh.edu Date: Tue, 18 Feb 2025 05:26:00 -0800 (PST) Message-ID: <67b48a68.170a0220.31800f.dbe5SMTPIN_ADDED_MISSING@mx.google.com> Received: from [172.21.0.5] (unknown [172.18.0.240]) by postal.iol.unh.edu (Postfix) with ESMTP id BB9656052471; Tue, 18 Feb 2025 08:25:59 -0500 (EST) Subject: |SUCCESS| pw151572-151573 [PATCH] [2/2] app/testpmd: use flags from From: dpdklab@iol.unh.edu To: Test Report Cc: dpdk-test-reports@iol.unh.edu In-Reply-To: <20250218103322.166461-3-gavinl@nvidia.com> References: <20250218103322.166461-3-gavinl@nvidia.com> Content-Type: text/plain X-BeenThere: test-report@dpdk.org X-Mailman-Version: 2.1.29 Precedence: list List-Id: automatic DPDK test reports List-Unsubscribe: , List-Archive: List-Post: List-Help: List-Subscribe: , Errors-To: test-report-bounces@dpdk.org Test-Label: iol-unit-arm64-testing Test-Status: SUCCESS http://dpdk.org/patch/151573 _Testing PASS_ Submitter: Minggang Li(Gavin) Date: Tuesday, February 18 2025 10:33:22 DPDK git baseline: Repo:dpdk Branch: master CommitID:968f7b6d7b6a7e60e6e551db430c4eecaccbbfd2 151572-151573 --> testing pass Upstream job id: Generic-Unit-Test-DPDK#315737 Test environment and result as below: +-----------------------------+----------------+---------------------------+--------------+------------------------------+ | Environment | dpdk_unit_test | cryptodev_sw_zuc_autotest | lpm_autotest | cryptodev_sw_snow3g_autotest | +=============================+================+===========================+==============+==============================+ | 32-bit Ubuntu 22.04.4 (ARM) | PASS | SKIPPED | SKIPPED | SKIPPED | +-----------------------------+----------------+---------------------------+--------------+------------------------------+ | Debian 11 (Buster) (ARM) | PASS | SKIPPED | SKIPPED | SKIPPED | +-----------------------------+----------------+---------------------------+--------------+------------------------------+ | CentOS Stream 9 (ARM) | PASS | SKIPPED | SKIPPED | SKIPPED | +-----------------------------+----------------+---------------------------+--------------+------------------------------+ | CentOS Stream 10 (ARM) | PASS | SKIPPED | SKIPPED | SKIPPED | +-----------------------------+----------------+---------------------------+--------------+------------------------------+ | Debian 12 (arm) | PASS | PASS | SKIPPED | PASS | +-----------------------------+----------------+---------------------------+--------------+------------------------------+ | Fedora 40 (ARM Clang) | PASS | SKIPPED | SKIPPED | SKIPPED | +-----------------------------+----------------+---------------------------+--------------+------------------------------+ | Fedora 40 (ARM) | PASS | SKIPPED | SKIPPED | SKIPPED | +-----------------------------+----------------+---------------------------+--------------+------------------------------+ | Fedora 41 (ARM Clang) | PASS | SKIPPED | SKIPPED | SKIPPED | +-----------------------------+----------------+---------------------------+--------------+------------------------------+ | RHEL9 (ARM) | PASS | SKIPPED | SKIPPED | SKIPPED | +-----------------------------+----------------+---------------------------+--------------+------------------------------+ | Fedora 41 (ARM) | PASS | SKIPPED | SKIPPED | SKIPPED | +-----------------------------+----------------+---------------------------+--------------+------------------------------+ | Ubuntu 20.04 (ARM) | PASS | SKIPPED | SKIPPED | SKIPPED | +-----------------------------+----------------+---------------------------+--------------+------------------------------+ | Ubuntu 22.04 (ARM) | PASS | SKIPPED | SKIPPED | SKIPPED | +-----------------------------+----------------+---------------------------+--------------+------------------------------+ | Ubuntu 24.04 (ARM) | PASS | SKIPPED | SKIPPED | SKIPPED | +-----------------------------+----------------+---------------------------+--------------+------------------------------+ | Ubuntu 20.04 ARM SVE | SKIPPED | SKIPPED | PASS | SKIPPED | +-----------------------------+----------------+---------------------------+--------------+------------------------------+ 32-bit Ubuntu 22.04.4 (ARM) Kernel: 5.15.83+ aarch64 Compiler: gcc (Ubuntu 11.4.0-1ubuntu1~22.04) 11.4.0 Debian 11 (Buster) (ARM) Kernel: Depends on container host Compiler: gcc (Debian 10.2.1-6) 10.2.1 20210110 CentOS Stream 9 (ARM) Kernel: Depends on container host Compiler: gcc 11.5.0 20240719 (Red Hat 11.5.0-2) CentOS Stream 10 (ARM) Kernel: Depends on container host Compiler: gcc 14.2.1 20241104 (Red Hat 14.2.1-6) Debian 12 (arm) Kernel: Depends on container host Compiler: gcc (Debian 12.2.0-14) 12.2.0 Fedora 40 (ARM Clang) Kernel: Depends on container host Compiler: clang 18.1.8 (Fedora 18.1.8-1.fc40) Fedora 40 (ARM) Kernel: Depends on container host Compiler: gcc 14.2.1 20240912 (Red Hat 14.2.1-3) Fedora 41 (ARM Clang) Kernel: Depends on container host Compiler: clang 19.1.5 (Fedora 19.1.5-1.fc41) RHEL9 (ARM) Kernel: Depends on container host Compiler: gcc 11.5.0 20240719 (Red Hat 11.5.0-2) Fedora 41 (ARM) Kernel: Depends on container host Compiler: gcc 14.2.1 20240912 (Red Hat 14.2.1-3) Ubuntu 20.04 (ARM) Kernel: Depends on container host Compiler: gcc (Ubuntu 9.4.0-1ubuntu1~20.04.2) 9.4.0 Ubuntu 22.04 (ARM) Kernel: Depends on container host Compiler: gcc (Ubuntu 11.4.0-1ubuntu1~22.04) 11.4.0 Ubuntu 24.04 (ARM) Kernel: Depends on container host Compiler: gcc (Ubuntu 13.3.0-6ubuntu2~24.04) 13.3.0 Ubuntu 20.04 ARM SVE Kernel: Depends on container host Compiler: gcc (Ubuntu 10.5.0-1ubuntu1~20.04) 10.5.0 To view detailed results, visit: https://lab.dpdk.org/results/dashboard/patchsets/32599/ UNH-IOL DPDK Community Lab To manage your email subscriptions, visit: https://lab.dpdk.org/results/dashboard/preferences/subscriptions/