From mboxrd@z Thu Jan 1 00:00:00 1970 Return-Path: Received: from mails.dpdk.org (mails.dpdk.org [217.70.189.124]) by inbox.dpdk.org (Postfix) with ESMTP id 57FE24625D for ; Tue, 18 Feb 2025 14:33:25 +0100 (CET) Received: from mails.dpdk.org (localhost [127.0.0.1]) by mails.dpdk.org (Postfix) with ESMTP id 47AEF402C4; Tue, 18 Feb 2025 14:33:25 +0100 (CET) Received: from mail-il1-f228.google.com (mail-il1-f228.google.com [209.85.166.228]) by mails.dpdk.org (Postfix) with ESMTP id E7E5E402A0 for ; Tue, 18 Feb 2025 14:33:23 +0100 (CET) Received: by mail-il1-f228.google.com with SMTP id e9e14a558f8ab-3cfc79a8a95so13944065ab.2 for ; Tue, 18 Feb 2025 05:33:23 -0800 (PST) DKIM-Signature: v=1; a=rsa-sha256; c=relaxed/relaxed; d=iol.unh.edu; s=unh-iol; t=1739885603; x=1740490403; darn=dpdk.org; h=cc:to:from:subject:message-id:date:from:to:cc:subject:date :message-id:reply-to; bh=74e1ibAHwW8q1pwjsbBS0ZfQDCNCCvrtJ9XCI8jNQ00=; b=gqHxhUHgI27ByIBpahNJ2oAPUwFFwH/nAO1R7pBf57w2nnL/vu7E5NISoCEyO3J2bj QigtSPAtJlOC3LuIQk4s6ZPJFZAYpXDMTUEDMtLGAPd929M3fk0oP/JsNLgs43lpWplG uSiZg9/kW4Ji0JXTf64Xd4JhxbLEHe2MFqA+c= X-Google-DKIM-Signature: v=1; a=rsa-sha256; c=relaxed/relaxed; d=1e100.net; s=20230601; t=1739885603; x=1740490403; h=cc:to:from:subject:message-id:date:x-gm-message-state:from:to:cc :subject:date:message-id:reply-to; bh=74e1ibAHwW8q1pwjsbBS0ZfQDCNCCvrtJ9XCI8jNQ00=; b=e1a2CIKY2Th4iTutcKAX3zPVvkCIGo18aqjiwiYCGbwt2JlHavvCEf2+1gKzYDJxaS I5KHNRh9x1SL9aFYdqy9m4qsSWnPjw9y8egocoAJHP+x99kabmqntmqT9/pG598zUsQ8 ZvoLOhLR+7dGV2pG/bl5XFwSmpI+u9hzj2W795PKC/dDlrgXEySeDc8oloYx9ggO+gWS nq5XMEnirCNDFy/yAu3MDhg4P2Ize5Q0ecBhGXwHUDW+Sj1dIL01wQZvMQBHDfuOANk+ YIaDba9XuWcc2csU8oCKXSLSrQL6AR2+C59zbFw6Q2Ii1s1pCc3MlzVII0BWmYR7Xx6A +a1A== X-Gm-Message-State: AOJu0Yzbf/ekq7ncjsscdVI5+TcHUB5DBenAd5jV+6fbbIFlkuhQNfY0 GchV81KuaddytbTJN/lpmOASJs5biiNqh9eZk5/LFBAtLvvFn6/L+quv51XidJLDp+K4MoRTV6U 2vc2twl3otxVi1XqdsrpcQLkylZlcQZRUoVs0oqUCxDZX0QxfLo65IWQa X-Gm-Gg: ASbGncsqZ+53Sx5qXkAG6l1ooUkML3H9r5oxMb+zSgr7iq3dfyHDRWPlReH8XHIash7 TivwPHL+UxG/xDzS4cJ68T2/Dy8oX3vifa2wtrYD/JnoFXAKduqJ2X+kvwE+2IhQjlw08hXw4rK aSOG4kB7XrHjFapon86vRa4pdO2lfzv28vvDyBUftNSjAU4OX7TdyvQS0sd6v06lAHlt9bw0JRX K/9uqyNX9AJ5SOV1jRTCQclBlMQN4nlxwlNcPq9dA08Qv6BFB07gUgAlqLInAafA/0JpIRDXS+T EutvzWwQLpndQWa4T+RbNHeJH3o4iXoJf/iUYjzpXA== X-Google-Smtp-Source: AGHT+IHMwg2PJHXSRDjGZKPTAAJ5E65Y9eNUwDyzXmNyHoraxmJM9OXWM20XgODlWxNYNhIUfnTIvgD17e+q X-Received: by 2002:a05:6e02:1446:b0:3d0:21aa:a752 with SMTP id e9e14a558f8ab-3d2807b0baemr127877395ab.2.1739885603197; Tue, 18 Feb 2025 05:33:23 -0800 (PST) Received: from postal.iol.unh.edu (postal.iol.unh.edu. [2606:4100:3880:1234::84]) by smtp-relay.gmail.com with ESMTPS id e9e14a558f8ab-3d2b0b50d08sm311415ab.67.2025.02.18.05.33.23 (version=TLS1_2 cipher=ECDHE-ECDSA-AES128-GCM-SHA256 bits=128/128); Tue, 18 Feb 2025 05:33:23 -0800 (PST) X-Relaying-Domain: iol.unh.edu Date: Tue, 18 Feb 2025 05:33:23 -0800 (PST) Message-ID: <67b48c23.050a0220.cacd8.183eSMTPIN_ADDED_MISSING@mx.google.com> Received: from [172.21.0.5] (unknown [172.18.0.240]) by postal.iol.unh.edu (Postfix) with ESMTP id CC2DC6052471; Tue, 18 Feb 2025 08:33:22 -0500 (EST) Subject: |SUCCESS| [GIT MASTER] 138c5eab9a55b3007d2b9748769c6c2e48f2a92a From: dpdklab@iol.unh.edu To: Test Report Cc: dpdk-test-reports@iol.unh.edu, Bruce Richardson Content-Type: text/plain X-BeenThere: test-report@dpdk.org X-Mailman-Version: 2.1.29 Precedence: list List-Id: automatic DPDK test reports List-Unsubscribe: , List-Archive: List-Post: List-Help: List-Subscribe: , Errors-To: test-report-bounces@dpdk.org _Testing PASS_ Branch: dpdk-next-net-intel 138c5eab9a55b3007d2b9748769c6c2e48f2a92a --> testing pass Upstream job id: Generic-DPDK-Compile-Meson#362532 Test environment and result as below: +---------------------+--------------------+-------------------+------------------+-------------------------+-------------------+----------------------+ | Environment | dpdk_meson_compile | dpdk_compile_spdk | dpdk_compile_ovs | dpdk_llvm_clang_compile | dpdk_msvc_compile | dpdk_mingw64_compile | +=====================+====================+===================+==================+=========================+===================+======================+ | CentOS Stream 9 | PASS | PASS | SKIPPED | SKIPPED | SKIPPED | SKIPPED | +---------------------+--------------------+-------------------+------------------+-------------------------+-------------------+----------------------+ | Debian Bullseye | PASS | PASS | SKIPPED | SKIPPED | SKIPPED | SKIPPED | +---------------------+--------------------+-------------------+------------------+-------------------------+-------------------+----------------------+ | CentOS Stream 10 | PASS | SKIPPED | SKIPPED | SKIPPED | SKIPPED | SKIPPED | +---------------------+--------------------+-------------------+------------------+-------------------------+-------------------+----------------------+ | Debian 12 | PASS | PASS | SKIPPED | SKIPPED | SKIPPED | SKIPPED | +---------------------+--------------------+-------------------+------------------+-------------------------+-------------------+----------------------+ | Fedora 40 (Clang) | PASS | PASS | SKIPPED | SKIPPED | SKIPPED | SKIPPED | +---------------------+--------------------+-------------------+------------------+-------------------------+-------------------+----------------------+ | Fedora 40 | PASS | PASS | SKIPPED | SKIPPED | SKIPPED | SKIPPED | +---------------------+--------------------+-------------------+------------------+-------------------------+-------------------+----------------------+ | Fedora 41 (Clang) | PASS | PASS | PASS | SKIPPED | SKIPPED | SKIPPED | +---------------------+--------------------+-------------------+------------------+-------------------------+-------------------+----------------------+ | Fedora 41 | PASS | PASS | PASS | SKIPPED | SKIPPED | SKIPPED | +---------------------+--------------------+-------------------+------------------+-------------------------+-------------------+----------------------+ | openSUSE Leap 15 | PASS | SKIPPED | SKIPPED | SKIPPED | SKIPPED | SKIPPED | +---------------------+--------------------+-------------------+------------------+-------------------------+-------------------+----------------------+ | RHEL8 | PASS | SKIPPED | SKIPPED | SKIPPED | SKIPPED | SKIPPED | +---------------------+--------------------+-------------------+------------------+-------------------------+-------------------+----------------------+ | RHEL9 | PASS | SKIPPED | SKIPPED | SKIPPED | SKIPPED | SKIPPED | +---------------------+--------------------+-------------------+------------------+-------------------------+-------------------+----------------------+ | Ubuntu 20.04 | PASS | SKIPPED | SKIPPED | SKIPPED | SKIPPED | SKIPPED | +---------------------+--------------------+-------------------+------------------+-------------------------+-------------------+----------------------+ | Ubuntu 24.04 | PASS | PASS | PASS | SKIPPED | SKIPPED | SKIPPED | +---------------------+--------------------+-------------------+------------------+-------------------------+-------------------+----------------------+ | Alpine | PASS | SKIPPED | SKIPPED | SKIPPED | SKIPPED | SKIPPED | +---------------------+--------------------+-------------------+------------------+-------------------------+-------------------+----------------------+ | FreeBSD 13.4 | PASS | SKIPPED | SKIPPED | SKIPPED | SKIPPED | SKIPPED | +---------------------+--------------------+-------------------+------------------+-------------------------+-------------------+----------------------+ | FreeBSD 14.2 | PASS | SKIPPED | SKIPPED | SKIPPED | SKIPPED | SKIPPED | +---------------------+--------------------+-------------------+------------------+-------------------------+-------------------+----------------------+ | Ubuntu 22.04 | PASS | PASS | SKIPPED | SKIPPED | SKIPPED | SKIPPED | +---------------------+--------------------+-------------------+------------------+-------------------------+-------------------+----------------------+ | Windows Server 2022 | SKIPPED | SKIPPED | SKIPPED | PASS | PASS | PASS | +---------------------+--------------------+-------------------+------------------+-------------------------+-------------------+----------------------+ CentOS Stream 9 Kernel: Depends on container host Compiler: gcc 11.5.0 20240719 (Red Hat 11.5.0-2) Debian Bullseye Kernel: Depends on container host Compiler: gcc (Debian 10.2.1-6) 10.2.1 20210110 CentOS Stream 10 Kernel: Depends on container host Compiler: gcc 14.2.1 20241104 (Red Hat 14.2.1-6) Debian 12 Kernel: Depends on container host Compiler: gcc (Debian 12.2.0-14) 12.2.0 Fedora 40 (Clang) Kernel: Depends on container host Compiler: clang 18.1.8 (Fedora 18.1.8-1.fc40) Fedora 40 Kernel: Depends on container host Compiler: gcc 14.2.1 20240912 (Red Hat 14.2.1-3) Fedora 41 (Clang) Kernel: Depends on container host Compiler: clang 19.1.5 (Fedora 19.1.5-1.fc41) Fedora 41 Kernel: Depends on container host Compiler: gcc 14.2.1 20240912 (Red Hat 14.2.1-3) openSUSE Leap 15 Kernel: Depends on container host Compiler: gcc (SUSE Linux) 7.5.0 RHEL8 Kernel: Depends on container host Compiler: gcc 8.5.0 20210514 (Red Hat 8.5.0-22) RHEL9 Kernel: Depends on container host Compiler: gcc 11.5.0 20240719 (Red Hat 11.5.0-2) Ubuntu 20.04 Kernel: Depends on container host Compiler: gcc (Ubuntu 9.4.0-1ubuntu1~20.04.2) 9.4.0 Ubuntu 24.04 Kernel: Depends on container host Compiler: gcc (Ubuntu 13.3.0-6ubuntu2~24.04) 13.3.0 Alpine Kernel: Depends on container host Compiler: gcc (Alpine 14.2.0) 14.2.0 FreeBSD 13.4 Kernel: 13.4-RELEASE-p1 Compiler: clang 18.1.6 FreeBSD 14.2 Kernel: 14.2-RELEASE Compiler: clang 18.1.6 Ubuntu 22.04 Kernel: Depends on container host Compiler: gcc (Ubuntu 11.4.0-1ubuntu1~22.04) 11.4.0 Windows Server 2022 Kernel: 10.0.20348.2031 Compiler: clang 15.0.7, gcc 14.1.0 (MinGW), and MSVC VS 19.39.33521 To view detailed results, visit: https://lab.dpdk.org/results/dashboard/tarballs/32607/ UNH-IOL DPDK Community Lab To manage your email subscriptions, visit: https://lab.dpdk.org/results/dashboard/preferences/subscriptions/