From mboxrd@z Thu Jan 1 00:00:00 1970 Return-Path: Received: from mails.dpdk.org (mails.dpdk.org [217.70.189.124]) by inbox.dpdk.org (Postfix) with ESMTP id 65F4B46259 for ; Tue, 18 Feb 2025 15:21:28 +0100 (CET) Received: from mails.dpdk.org (localhost [127.0.0.1]) by mails.dpdk.org (Postfix) with ESMTP id 2D75C402C4; Tue, 18 Feb 2025 15:21:28 +0100 (CET) Received: from mail-yw1-f228.google.com (mail-yw1-f228.google.com [209.85.128.228]) by mails.dpdk.org (Postfix) with ESMTP id 6279A402A0 for ; Tue, 18 Feb 2025 15:21:27 +0100 (CET) Received: by mail-yw1-f228.google.com with SMTP id 00721157ae682-6f6ca9a3425so48499507b3.2 for ; Tue, 18 Feb 2025 06:21:27 -0800 (PST) DKIM-Signature: v=1; a=rsa-sha256; c=relaxed/relaxed; d=iol.unh.edu; s=unh-iol; t=1739888486; x=1740493286; darn=dpdk.org; h=cc:to:from:subject:message-id:date:from:to:cc:subject:date :message-id:reply-to; bh=uNAJF+lhkaVNktp49mWlwIXooTUWNlPiLakY29jOa5I=; b=bAWhjCFdUiWUpsbPJhLK44LHyFVK5GTfi6/UEW6Ns8gEOpTyyb1OjA8td8vkV4Jn8D T6U0b4oU5TbtlTcAJCzCy9XaWEl+YSnABduVzw+HGs5y1fTWKh/xyf8gCRS+hB0T2zq6 VMh2AhA/9sU7HInWPgJovDUFuxqcJQRL1l9X8= X-Google-DKIM-Signature: v=1; a=rsa-sha256; c=relaxed/relaxed; d=1e100.net; s=20230601; t=1739888486; x=1740493286; h=cc:to:from:subject:message-id:date:x-gm-message-state:from:to:cc :subject:date:message-id:reply-to; bh=uNAJF+lhkaVNktp49mWlwIXooTUWNlPiLakY29jOa5I=; b=gqt9rUE5lSD8EcSNviSOEWadfxtaKe88gOXZKzM0JQ8rCvQrNWdhd2x1gopgIWgIiy fquewnBNQso/YiXc2OZMhwyglKRHsGVaZYeaVTpfLEQ0nDtbSKiDmyZ5ZTPO0F3B8z1S E/6T62Rykz5HjeN6PlZdGMaIRertoE3lPevoLtJMbBkA1Z0X7tPBK1vD+fQv4meIOjnS lUnNGRZMmXCTwBfVcyIVXfFh6y/8JklpUALRIN88X40wE5TKjlFUcB0y6MI4v1s0KejD tPom/t/CINrEHChIigLUqkVETtbonOajSE0yXsQLkY1NLYKqWV1RtiBZf1n7jE5SRzPO q6mw== X-Gm-Message-State: AOJu0YwhN9/4mRvFh8OrV088scblfFl121V5Geq7TW3P5kImdFMgJHg0 nGv29cej0ome+OQBWUlCQdfiINpjj+z1fP+BnGAfiD/Ldt5uVtjUnUBqj30JdWDjGXHC70/CqQu gFKeD+V0nabH6xaYJzM23y+HuLHMSqo1OLGNn5Zqt X-Gm-Gg: ASbGncvwn65Y5IXnb776LTxgUSaZamp9VeAPHVALytzNapCzGpo6CmY8qvJS75osRqv Qj7Oj3Xj4DZmZp044fz+3693wtBdTcSEPggjE2iOzVEuxI2+C6wfKtHbwHbFaIuucZMezz5WaAf uj0ezrnR2YAl5AQ/IPIf3f3yrhjoawLm5Qkbx97brrWVIRW177+IgnsVQ5sbz2aCB3avx3kXCZt 0qKFagw0K7mYqmL6YvldVjlXPuXJw9mCPT9684TRtAXrvXNjYd9oop3ynentPteGmRkdiFC/pF/ geVZxAry0c3eCL2wKjLQ3UlmdIIIZQ== X-Google-Smtp-Source: AGHT+IGbEjZqIO5eHnT6+5QiTWJHdywOUl9SxzfN6T6zytkWV/LU8ajwYzv5CICZIEJ3Iv4JySPypJFoVYq+ X-Received: by 2002:a05:690c:690e:b0:6f9:a7d3:cec1 with SMTP id 00721157ae682-6fb5827fd4bmr122719167b3.9.1739888486723; Tue, 18 Feb 2025 06:21:26 -0800 (PST) Received: from postal.iol.unh.edu (postal.iol.unh.edu. [132.177.123.84]) by smtp-relay.gmail.com with ESMTPS id 00721157ae682-6fba2b2c2ffsm114027b3.30.2025.02.18.06.21.26 (version=TLS1_2 cipher=ECDHE-ECDSA-AES128-GCM-SHA256 bits=128/128); Tue, 18 Feb 2025 06:21:26 -0800 (PST) X-Relaying-Domain: iol.unh.edu Date: Tue, 18 Feb 2025 06:21:26 -0800 (PST) Message-ID: <67b49766.050a0220.10bb1e.09a2SMTPIN_ADDED_MISSING@mx.google.com> Received: from [172.21.0.5] (unknown [172.18.0.240]) by postal.iol.unh.edu (Postfix) with ESMTP id 4D8FE6052471; Tue, 18 Feb 2025 09:21:26 -0500 (EST) Subject: |SUCCESS| [GIT MASTER] 138c5eab9a55b3007d2b9748769c6c2e48f2a92a From: dpdklab@iol.unh.edu To: Test Report Cc: dpdk-test-reports@iol.unh.edu, Bruce Richardson Content-Type: text/plain X-BeenThere: test-report@dpdk.org X-Mailman-Version: 2.1.29 Precedence: list List-Id: automatic DPDK test reports List-Unsubscribe: , List-Archive: List-Post: List-Help: List-Subscribe: , Errors-To: test-report-bounces@dpdk.org _Testing PASS_ Branch: dpdk-next-net-intel 138c5eab9a55b3007d2b9748769c6c2e48f2a92a --> testing pass Upstream job id: ACVP-FIPS-testing#8944 Test environment and result as below: +--------------------+----------------------+----------------------+ | Environment | compressdev_zlib_pmd | dpdk_fips_validation | +====================+======================+======================+ | Ubuntu 22.04 (ARM) | PASS | SKIPPED | +--------------------+----------------------+----------------------+ | Ubuntu 22.04 | PASS | SKIPPED | +--------------------+----------------------+----------------------+ | Ubuntu 20.04 | SKIPPED | PASS | +--------------------+----------------------+----------------------+ Ubuntu 22.04 (ARM) Kernel: 5.15.0-97-generic Compiler: gcc gcc (Ubuntu 11.4.0-1ubuntu1~22.04) 11.4.0 Ubuntu 22.04 Kernel: 5.15.0-100-generic Compiler: gcc gcc (Ubuntu 11.4.0-1ubuntu1~22.04) 11.4.0 Ubuntu 20.04 Kernel: Depends on container host Compiler: gcc (Ubuntu 9.4.0-1ubuntu1~20.04.2) 9.4.0 To view detailed results, visit: https://lab.dpdk.org/results/dashboard/tarballs/32607/ UNH-IOL DPDK Community Lab To manage your email subscriptions, visit: https://lab.dpdk.org/results/dashboard/preferences/subscriptions/