From mboxrd@z Thu Jan 1 00:00:00 1970 Return-Path: Received: from mails.dpdk.org (mails.dpdk.org [217.70.189.124]) by inbox.dpdk.org (Postfix) with ESMTP id 2EB4646248 for ; Tue, 18 Feb 2025 15:36:33 +0100 (CET) Received: from mails.dpdk.org (localhost [127.0.0.1]) by mails.dpdk.org (Postfix) with ESMTP id 40602402A0; Tue, 18 Feb 2025 15:36:32 +0100 (CET) Received: from mail-pj1-f98.google.com (mail-pj1-f98.google.com [209.85.216.98]) by mails.dpdk.org (Postfix) with ESMTP id C00D44025F for ; Tue, 18 Feb 2025 15:36:30 +0100 (CET) Received: by mail-pj1-f98.google.com with SMTP id 98e67ed59e1d1-2fbfc9ff0b9so8445885a91.2 for ; Tue, 18 Feb 2025 06:36:30 -0800 (PST) DKIM-Signature: v=1; a=rsa-sha256; c=relaxed/relaxed; d=iol.unh.edu; s=unh-iol; t=1739889390; x=1740494190; darn=dpdk.org; h=cc:to:from:subject:message-id:date:from:to:cc:subject:date :message-id:reply-to; bh=9XB4XrebBkpa7ox/G6DlGKj1LM4J4N+aFu3FCBEOTjw=; b=MP7SRKkFuxAjdTFbFKnd3PegxWJHuqpfenrPjJSk7060FVEKOmDVcQ7I6Xit6hDDAu kj+IG6wWAzyUlaBFh+6fcNrcUkPRc95Wz76cFIM7zK5zWGKkjz9MIrhlwLXPGenDMQQX 1E6FaBo8ehQ90ETg4qdq3KnD0u7SQOBzrhIVk= X-Google-DKIM-Signature: v=1; a=rsa-sha256; c=relaxed/relaxed; d=1e100.net; s=20230601; t=1739889390; x=1740494190; h=cc:to:from:subject:message-id:date:x-gm-message-state:from:to:cc :subject:date:message-id:reply-to; bh=9XB4XrebBkpa7ox/G6DlGKj1LM4J4N+aFu3FCBEOTjw=; b=bBfJZp+0foHpP2elnQquGeHnV4iNe3pyyRaYcUXHgqMuSK3jW7ac5L2T/3d8CDP//k 94ZBlwbeaHtHwgnnFY91PwCHUJ8ING7YT37PvvfGtD9rKchL+dhd6ODvYAvErYYcJxK4 gLD2mpnWW5wSgCKe4kRxODkBvAlU5/BHptWaV9iEhmbKjRQJh8GqE5t94+n9xdfKfkG6 K0eibqHLIJ4mIwSgZLKquXEywwxvkN/3HQUjnDC6M1D8JhsdDzTSuqXHTKh/PyLBMUYm O79v+gd2GddXELPGriJPNOqPAoCAfNlbLPtEv910TTsddTYLXOwzpUFol3sP/DA6pdKV fdGw== X-Gm-Message-State: AOJu0YzrUfIhNQL55sIThliU5t67zuoQKZPWQxCMnGkUXjPqxprsTuLC ElnAdaVnqwSn603UFKVGyO2fRVHu6vEMN+aCo86xX3zjcyAtcHWai7tNsJZL9O37P14slGIRDL+ aBoEYo6tiejeI8/5djnlhyc7nb7Y9oCyYR92uyp3U X-Gm-Gg: ASbGncsiRnTgiDADc1YOVSZar9ej/+vS3lSbrsy5JDwolfyES41Ha9fbTgq2mRTUtEZ 8twLKx9oXuYfOV0C74TlzF+CVkYg+L5AURX35PGARgrmbNuvOjPIn52olH+NxLmtdoSljN5H5Kw txWDQBKOsTgAYZQYkp6NMLw4cUdhpqO2Tbw9WnClXMhUNsfNKr/0A9c2e1KX0HTh04suuZJMsac tYMuZNWv3l2M1+xMBU18v/ws94yJzY5kqCFA2FdVK1PA6j8hWeDvn+IvugP8TuRiVwTrKiRDC6L VrB5NTvk0zpJcD0jpvKPEbhU/Nmh0g== X-Google-Smtp-Source: AGHT+IFqRkltgR7CKLPyI1bbNANEp4LuQ6UnBJpErTPF6pc/mql+Hpb4hYYMD3aQIH4dx2vlePI6ltxEVkY3 X-Received: by 2002:a05:6a00:13a6:b0:725:96f2:9e63 with SMTP id d2e1a72fcca58-73261900ec3mr21582397b3a.24.1739889389819; Tue, 18 Feb 2025 06:36:29 -0800 (PST) Received: from postal.iol.unh.edu (postal.iol.unh.edu. [132.177.123.84]) by smtp-relay.gmail.com with ESMTPS id 41be03b00d2f7-add1edfd3fesm557370a12.16.2025.02.18.06.36.29 (version=TLS1_2 cipher=ECDHE-ECDSA-AES128-GCM-SHA256 bits=128/128); Tue, 18 Feb 2025 06:36:29 -0800 (PST) X-Relaying-Domain: iol.unh.edu Date: Tue, 18 Feb 2025 06:36:29 -0800 (PST) Message-ID: <67b49aed.630a0220.15c40f.c44eSMTPIN_ADDED_MISSING@mx.google.com> Received: from [172.21.0.5] (unknown [172.18.0.240]) by postal.iol.unh.edu (Postfix) with ESMTP id C50196052471; Tue, 18 Feb 2025 09:36:28 -0500 (EST) Subject: |SUCCESS| [GIT MASTER] 138c5eab9a55b3007d2b9748769c6c2e48f2a92a From: dpdklab@iol.unh.edu To: Test Report Cc: dpdk-test-reports@iol.unh.edu, Bruce Richardson Content-Type: text/plain X-BeenThere: test-report@dpdk.org X-Mailman-Version: 2.1.29 Precedence: list List-Id: automatic DPDK test reports List-Unsubscribe: , List-Archive: List-Post: List-Help: List-Subscribe: , Errors-To: test-report-bounces@dpdk.org _Testing PASS_ Branch: dpdk-next-net-intel 138c5eab9a55b3007d2b9748769c6c2e48f2a92a --> testing pass Upstream job id: Generic-DPDK-Compile-Meson#362542 Test environment and result as below: +----------------------------------------+--------------------+ | Environment | dpdk_meson_compile | +========================================+====================+ | RHEL9 (ARM) | PASS | +----------------------------------------+--------------------+ | Ubuntu 20.04 ARM GCC Cross Compile | PASS | +----------------------------------------+--------------------+ | Ubuntu 20.04 ARM SVE | PASS | +----------------------------------------+--------------------+ | Debian 12 with MUSDK | PASS | +----------------------------------------+--------------------+ | Fedora 40 (ARM Clang) | PASS | +----------------------------------------+--------------------+ | Fedora 41 (ARM) | PASS | +----------------------------------------+--------------------+ | Fedora 41 (ARM Clang) | PASS | +----------------------------------------+--------------------+ | Ubuntu 20.04 (ARM) | PASS | +----------------------------------------+--------------------+ | Ubuntu 22.04 (ARM) | PASS | +----------------------------------------+--------------------+ | Ubuntu 24.04 (ARM) | PASS | +----------------------------------------+--------------------+ | CentOS Stream 9 (ARM) | PASS | +----------------------------------------+--------------------+ | CentOS Stream 10 (ARM) | PASS | +----------------------------------------+--------------------+ | Debian 11 (Buster) (ARM) | PASS | +----------------------------------------+--------------------+ | Debian 12 (arm) | PASS | +----------------------------------------+--------------------+ | Ubuntu 20.04 ARM Clang Cross Compile | PASS | +----------------------------------------+--------------------+ | Ubuntu 20.04 aarch32 GCC Cross Compile | PASS | +----------------------------------------+--------------------+ | Fedora 40 (ARM) | PASS | +----------------------------------------+--------------------+ RHEL9 (ARM) Kernel: Depends on container host Compiler: gcc 11.5.0 20240719 (Red Hat 11.5.0-2) Ubuntu 20.04 ARM GCC Cross Compile Kernel: Depends on container host Compiler: aarch64-linux-gnu-gcc (Ubuntu 9.4.0-1ubuntu1~20.04.2) 9.4.0 Ubuntu 20.04 ARM SVE Kernel: Depends on container host Compiler: gcc (Ubuntu 10.5.0-1ubuntu1~20.04) 10.5.0 Debian 12 with MUSDK Kernel: Depends on container host Compiler: gcc (Debian 12.2.0-14) 12.2.0 Fedora 40 (ARM Clang) Kernel: Depends on container host Compiler: clang 18.1.8 (Fedora 18.1.8-1.fc40) Fedora 41 (ARM) Kernel: Depends on container host Compiler: gcc 14.2.1 20240912 (Red Hat 14.2.1-3) Fedora 41 (ARM Clang) Kernel: Depends on container host Compiler: clang 19.1.5 (Fedora 19.1.5-1.fc41) Ubuntu 20.04 (ARM) Kernel: Depends on container host Compiler: gcc (Ubuntu 9.4.0-1ubuntu1~20.04.2) 9.4.0 Ubuntu 22.04 (ARM) Kernel: Depends on container host Compiler: gcc (Ubuntu 11.4.0-1ubuntu1~22.04) 11.4.0 Ubuntu 24.04 (ARM) Kernel: Depends on container host Compiler: gcc (Ubuntu 13.3.0-6ubuntu2~24.04) 13.3.0 CentOS Stream 9 (ARM) Kernel: Depends on container host Compiler: gcc 11.5.0 20240719 (Red Hat 11.5.0-2) CentOS Stream 10 (ARM) Kernel: Depends on container host Compiler: gcc 14.2.1 20241104 (Red Hat 14.2.1-6) Debian 11 (Buster) (ARM) Kernel: Depends on container host Compiler: gcc (Debian 10.2.1-6) 10.2.1 20210110 Debian 12 (arm) Kernel: Depends on container host Compiler: gcc (Debian 12.2.0-14) 12.2.0 Ubuntu 20.04 ARM Clang Cross Compile Kernel: Depends on container host Compiler: clang 10.0.0-4ubuntu1 Ubuntu 20.04 aarch32 GCC Cross Compile Kernel: Depends on container host Compiler: gcc 9.4.0 Fedora 40 (ARM) Kernel: Depends on container host Compiler: gcc 14.2.1 20240912 (Red Hat 14.2.1-3) To view detailed results, visit: https://lab.dpdk.org/results/dashboard/tarballs/32607/ UNH-IOL DPDK Community Lab To manage your email subscriptions, visit: https://lab.dpdk.org/results/dashboard/preferences/subscriptions/