From mboxrd@z Thu Jan 1 00:00:00 1970 Return-Path: Received: from mails.dpdk.org (mails.dpdk.org [217.70.189.124]) by inbox.dpdk.org (Postfix) with ESMTP id E829446248 for ; Tue, 18 Feb 2025 15:41:45 +0100 (CET) Received: from mails.dpdk.org (localhost [127.0.0.1]) by mails.dpdk.org (Postfix) with ESMTP id CA81240261; Tue, 18 Feb 2025 15:41:45 +0100 (CET) Received: from mail-il1-f225.google.com (mail-il1-f225.google.com [209.85.166.225]) by mails.dpdk.org (Postfix) with ESMTP id 38F174014F for ; Tue, 18 Feb 2025 15:41:45 +0100 (CET) Received: by mail-il1-f225.google.com with SMTP id e9e14a558f8ab-3d2b15760adso1097005ab.1 for ; Tue, 18 Feb 2025 06:41:45 -0800 (PST) DKIM-Signature: v=1; a=rsa-sha256; c=relaxed/relaxed; d=iol.unh.edu; s=unh-iol; t=1739889704; x=1740494504; darn=dpdk.org; h=references:in-reply-to:cc:to:from:subject:message-id:date:from:to :cc:subject:date:message-id:reply-to; bh=pTr14gwXVwB7WS4qHp008quNwkvob9AoQLxGNok+C9Y=; b=FDAS1DFDYqJaYQUsLFmoXjucMWb9E7JGbY5X+ulk6RpN7UgrnCmtU1U0nD15Ls+x+u XVY2pwPNyWQjSwa/WFMfa6JwfFmVZTB4aw5j1w31/K5pwVjPs/dO0JL8nnBBe6KysVU7 LPOK/o5M5iJizs0HwFrx9gqMSkTz/GqCszdRE= X-Google-DKIM-Signature: v=1; a=rsa-sha256; c=relaxed/relaxed; d=1e100.net; s=20230601; t=1739889704; x=1740494504; h=references:in-reply-to:cc:to:from:subject:message-id:date :x-gm-message-state:from:to:cc:subject:date:message-id:reply-to; bh=pTr14gwXVwB7WS4qHp008quNwkvob9AoQLxGNok+C9Y=; b=iaYwART952VivNCqk5BWcFyqmRjnzE07+tC52jFT07d8FTR8FfdXk7DXtQgSMzfaAt 3DLGEZNlr6R3TS8tV2hreYaMbKAtU1844JEgpSlzhEfpJKqpaI9QDrjnoNCBwoeYSo+4 jY9Kx7pUZkxtv8fwWG8NwS9KnDtt0kpgrNZXmnq97b9h6H3XS+hKz0RjDkGxeX71gLhF 3A3GpiY+dSX0kmYwAIBdJP0wYQUNhQ3S26ovn66CMhoLeNnVX1obgSJ79t7Vb0jrWWdJ Q0QozeqJdhW8ZGtEocDSfIR/pXuQwIpLGFnxAAMlGgEJ7a7Te55FNXC7XuthbJu8u9Yi 90ag== X-Gm-Message-State: AOJu0YzCDxRAvERVB/jh3urkx9e5RrofPmRRN4JfNbEax4wFaEauqEh3 kI+XNnc0SpwnaC2X2w7rJT48cxtC3oJRRy1NOiHSsEyKrzqmmhOWvgKS4bzlF0NeV/T2jV9XK5h 06duDb5NieiGw/SvKcHXmokJ9NSFyoXlIFAUVdvkb X-Gm-Gg: ASbGncvl4tv0cZXA5CrldmUBZUvaYOtB7ACHpp5C/r4VFlFsHy0e/bKB1pRhW6Xa7yy rgALnAQHp5GWgYjNtBJZgIqpnX+nOO+uE5l2ePFLYXh88mkT8Q7rDqffNVspYVBk5RGC/3ipVXg eZSNxFWQE3ZpnPNyAC7LMJyT+5IQHLjrkC0BRsXMgdNm+PvrM/NY2auWZH4KM/m2rQ3bmMx4tcG 8kNick9Fu6CV7C9FCzYK8kpjqhoGntH5wy2QOuSC9ThRGLy4eDsgYZP7jD0qdQU07LsAsQoYE/N Cmh8cjvJdIPpgxEYBQVKD/uobPjOoA== X-Google-Smtp-Source: AGHT+IH2t7EGFmkcHqhEMD1UF19xnw7NO50o+gvjfVMjR955I0au0P70jjlBAOPA+yHBe8M2VskEqPb3kEk1 X-Received: by 2002:a05:6e02:3c05:b0:3d0:443d:a5c3 with SMTP id e9e14a558f8ab-3d2807642aamr108713575ab.3.1739889704488; Tue, 18 Feb 2025 06:41:44 -0800 (PST) Received: from postal.iol.unh.edu (postal.iol.unh.edu. [132.177.123.84]) by smtp-relay.gmail.com with ESMTPS id 8926c6da1cb9f-4eeb5938f66sm33176173.15.2025.02.18.06.41.44 (version=TLS1_2 cipher=ECDHE-ECDSA-AES128-GCM-SHA256 bits=128/128); Tue, 18 Feb 2025 06:41:44 -0800 (PST) X-Relaying-Domain: iol.unh.edu Date: Tue, 18 Feb 2025 06:41:44 -0800 (PST) Message-ID: <67b49c28.050a0220.1da585.1ac3SMTPIN_ADDED_MISSING@mx.google.com> Received: from [172.17.0.5] (unknown [172.18.0.217]) by postal.iol.unh.edu (Postfix) with ESMTP id EEE986052471; Tue, 18 Feb 2025 09:41:43 -0500 (EST) Subject: |SUCCESS| pw151583 [PATCH] app/testpmd: fix fail to set queue number From: dpdklab@iol.unh.edu To: Test Report Cc: dpdk-test-reports@iol.unh.edu In-Reply-To: <20250218113156.7174-1-lihuisong@huawei.com> References: <20250218113156.7174-1-lihuisong@huawei.com> Content-Type: text/plain X-BeenThere: test-report@dpdk.org X-Mailman-Version: 2.1.29 Precedence: list List-Id: automatic DPDK test reports List-Unsubscribe: , List-Archive: List-Post: List-Help: List-Subscribe: , Errors-To: test-report-bounces@dpdk.org Test-Label: iol-abi-testing Test-Status: SUCCESS http://dpdk.org/patch/151583 _Testing PASS_ Submitter: Huisong Li Date: Tuesday, February 18 2025 11:31:56 DPDK git baseline: Repo:dpdk Branch: master CommitID:968f7b6d7b6a7e60e6e551db430c4eecaccbbfd2 151583 --> testing pass Upstream job id: Generic-DPDK-Compile-ABI#116553 Test environment and result as below: +-------------------+----------+ | Environment | abi_test | +===================+==========+ | CentOS Stream 9 | PASS | +-------------------+----------+ | CentOS Stream 10 | PASS | +-------------------+----------+ | Debian Bullseye | PASS | +-------------------+----------+ | Fedora 40 (Clang) | PASS | +-------------------+----------+ | Debian 12 | PASS | +-------------------+----------+ | Fedora 41 (Clang) | PASS | +-------------------+----------+ | Fedora 40 | PASS | +-------------------+----------+ | Fedora 41 | PASS | +-------------------+----------+ | openSUSE Leap 15 | PASS | +-------------------+----------+ | RHEL8 | PASS | +-------------------+----------+ | RHEL9 | PASS | +-------------------+----------+ | Ubuntu 22.04 | PASS | +-------------------+----------+ | Ubuntu 24.04 | PASS | +-------------------+----------+ CentOS Stream 9 Kernel: Depends on container host Compiler: gcc 11.5.0 20240719 (Red Hat 11.5.0-2) CentOS Stream 10 Kernel: Depends on container host Compiler: gcc 14.2.1 20241104 (Red Hat 14.2.1-6) Debian Bullseye Kernel: Depends on container host Compiler: gcc (Debian 10.2.1-6) 10.2.1 20210110 Fedora 40 (Clang) Kernel: Depends on container host Compiler: clang 18.1.8 (Fedora 18.1.8-1.fc40) Debian 12 Kernel: Depends on container host Compiler: gcc (Debian 12.2.0-14) 12.2.0 Fedora 41 (Clang) Kernel: Depends on container host Compiler: clang 19.1.5 (Fedora 19.1.5-1.fc41) Fedora 40 Kernel: Depends on container host Compiler: gcc 14.2.1 20240912 (Red Hat 14.2.1-3) Fedora 41 Kernel: Depends on container host Compiler: gcc 14.2.1 20240912 (Red Hat 14.2.1-3) openSUSE Leap 15 Kernel: Depends on container host Compiler: gcc (SUSE Linux) 7.5.0 RHEL8 Kernel: Depends on container host Compiler: gcc 8.5.0 20210514 (Red Hat 8.5.0-22) RHEL9 Kernel: Depends on container host Compiler: gcc 11.5.0 20240719 (Red Hat 11.5.0-2) Ubuntu 22.04 Kernel: Depends on container host Compiler: gcc (Ubuntu 11.4.0-1ubuntu1~22.04) 11.4.0 Ubuntu 24.04 Kernel: Depends on container host Compiler: gcc (Ubuntu 13.3.0-6ubuntu2~24.04) 13.3.0 To view detailed results, visit: https://lab.dpdk.org/results/dashboard/patchsets/32602/ UNH-IOL DPDK Community Lab To manage your email subscriptions, visit: https://lab.dpdk.org/results/dashboard/preferences/subscriptions/