From mboxrd@z Thu Jan 1 00:00:00 1970 Return-Path: Received: from mails.dpdk.org (mails.dpdk.org [217.70.189.124]) by inbox.dpdk.org (Postfix) with ESMTP id 4E26F46248 for ; Tue, 18 Feb 2025 15:57:23 +0100 (CET) Received: from mails.dpdk.org (localhost [127.0.0.1]) by mails.dpdk.org (Postfix) with ESMTP id 49ACC40261; Tue, 18 Feb 2025 15:57:23 +0100 (CET) Received: from mail-qt1-f226.google.com (mail-qt1-f226.google.com [209.85.160.226]) by mails.dpdk.org (Postfix) with ESMTP id 975EC4014F for ; Tue, 18 Feb 2025 15:57:22 +0100 (CET) Received: by mail-qt1-f226.google.com with SMTP id d75a77b69052e-47200236004so8757401cf.3 for ; Tue, 18 Feb 2025 06:57:22 -0800 (PST) DKIM-Signature: v=1; a=rsa-sha256; c=relaxed/relaxed; d=iol.unh.edu; s=unh-iol; t=1739890642; x=1740495442; darn=dpdk.org; h=references:in-reply-to:cc:to:from:subject:message-id:date:from:to :cc:subject:date:message-id:reply-to; bh=Ka9I7P8GSOXmBTojDwY1FX7sOXWwqdYnvlV1a+au2Hc=; b=VUckrKga4yv/7rgJbzrwd+734jAbuJrEbNtEt2xojOCq3U1x85VqANp2Oo7GXjyV3f /oaw/lMi2hOFm1o8FFy66fjh5zPJUJyUNnBi4dDmhh3SNZA16JGb1JXozom9lC6k7M1Q zrIKdeEQqo5WnnUO/GUwxcqxJZp1F6nDK52iQ= X-Google-DKIM-Signature: v=1; a=rsa-sha256; c=relaxed/relaxed; d=1e100.net; s=20230601; t=1739890642; x=1740495442; h=references:in-reply-to:cc:to:from:subject:message-id:date :x-gm-message-state:from:to:cc:subject:date:message-id:reply-to; bh=Ka9I7P8GSOXmBTojDwY1FX7sOXWwqdYnvlV1a+au2Hc=; b=bPpdiCKg4uS7lFYjPJDehAd+/wu3Zrpj7dRvzbI90bqzz9jE4vRRfgBkawOLNhVcmC Fma/uota0q+sdFf3ii7NkZvv5WoHEMq6Kf+JbOHfbiz9UVuYSUtGsUHIBCNvXUj7qcHb yfiWDwn7TKgPu4VIPj6YxEDenEIJzMJKG8l8adfPyqLVu8YbkRlyuE2ZBuX67QTiq7xK r8lk/KV4zcVvT0epXddw2vvOLbCLPa0TTz597DjUS3dSGQeGnpbluysnyIlaPLAFsNGD wTiKxawfQPQQEwdujkZIfEPNWBxgLnOb1aKDEu1WXrZmKVRkZC3QwZGiU7KjUUW9GDoh ppYw== X-Gm-Message-State: AOJu0YzGBtephaFER/B0jwnJ0bULmxi2T/PKjm2I56txVmcQaimm/7VV gVirVh857OiAeiI/0Df/a6uFQsgYS2tSQ9KSd8zbi7Z/CUCnhJxiEGFbebUwisUHmsHwIB8SY5i 0/4hE0JdgQvz1t/Ar5Ckv07O+SLdQYg7aTDcCrjgQ X-Gm-Gg: ASbGncs3cOYilrXQDicg/3BRqo5G7/XkPElpBCtzLFvx02xGagRcQ152sl6u0NqLv9W 4jcnBFVh3mH9GDvOU4E8+jLphnPEmgr1yvDA7uO348IHnQPOIUf+EqxRmZqYt0+xUdUv8biG2yS XkXEwEk9AqpYvutXCfQXLzjzOcF6n4RPwjN8DR3J+RH2aeSX1BPptBff8xkPMzVFh2OlFRc2MSL tj6hMIOUzvZV/cxsbABRzF92pgXJWcGHd7wBWltca3c+3KPQ/wQoKl7tfigXYgRmigqDr1a8m4I P6x2WJ93OfRJspTjIPSTtLlpMkJKVw== X-Google-Smtp-Source: AGHT+IGOAuPS7XDn6RlH9zedS4Oyd/Zfq9X+DHYLSNBrm/FfAHNQs4sFPi0YTpIpHSysF47WW/zgY6HLG4Tz X-Received: by 2002:ac8:5d8a:0:b0:471:d742:9b4f with SMTP id d75a77b69052e-471dbd21d85mr199465641cf.21.1739890641987; Tue, 18 Feb 2025 06:57:21 -0800 (PST) Received: from postal.iol.unh.edu (postal.iol.unh.edu. [132.177.123.84]) by smtp-relay.gmail.com with ESMTPS id d75a77b69052e-471c2a12b68sm5680171cf.6.2025.02.18.06.57.21 (version=TLS1_2 cipher=ECDHE-ECDSA-AES128-GCM-SHA256 bits=128/128); Tue, 18 Feb 2025 06:57:21 -0800 (PST) X-Relaying-Domain: iol.unh.edu Date: Tue, 18 Feb 2025 06:57:21 -0800 (PST) Message-ID: <67b49fd1.050a0220.196183.ce7dSMTPIN_ADDED_MISSING@mx.google.com> Received: from [172.17.0.5] (unknown [172.18.0.217]) by postal.iol.unh.edu (Postfix) with ESMTP id A80FD6052471; Tue, 18 Feb 2025 09:57:21 -0500 (EST) Subject: |SUCCESS| pw151583 [PATCH] app/testpmd: fix fail to set queue number From: dpdklab@iol.unh.edu To: Test Report Cc: dpdk-test-reports@iol.unh.edu In-Reply-To: <20250218113156.7174-1-lihuisong@huawei.com> References: <20250218113156.7174-1-lihuisong@huawei.com> Content-Type: text/plain X-BeenThere: test-report@dpdk.org X-Mailman-Version: 2.1.29 Precedence: list List-Id: automatic DPDK test reports List-Unsubscribe: , List-Archive: List-Post: List-Help: List-Subscribe: , Errors-To: test-report-bounces@dpdk.org Test-Label: iol-unit-arm64-testing Test-Status: SUCCESS http://dpdk.org/patch/151583 _Testing PASS_ Submitter: Huisong Li Date: Tuesday, February 18 2025 11:31:56 DPDK git baseline: Repo:dpdk Branch: master CommitID:968f7b6d7b6a7e60e6e551db430c4eecaccbbfd2 151583 --> testing pass Upstream job id: Generic-Unit-Test-DPDK#315810 Test environment and result as below: +-----------------------------+----------------+------------------------------+--------------+---------------------------+ | Environment | dpdk_unit_test | cryptodev_sw_snow3g_autotest | lpm_autotest | cryptodev_sw_zuc_autotest | +=============================+================+==============================+==============+===========================+ | 32-bit Ubuntu 22.04.4 (ARM) | PASS | SKIPPED | SKIPPED | SKIPPED | +-----------------------------+----------------+------------------------------+--------------+---------------------------+ | CentOS Stream 9 (ARM) | PASS | SKIPPED | SKIPPED | SKIPPED | +-----------------------------+----------------+------------------------------+--------------+---------------------------+ | CentOS Stream 10 (ARM) | PASS | SKIPPED | SKIPPED | SKIPPED | +-----------------------------+----------------+------------------------------+--------------+---------------------------+ | Fedora 41 (ARM) | PASS | SKIPPED | SKIPPED | SKIPPED | +-----------------------------+----------------+------------------------------+--------------+---------------------------+ | Fedora 40 (ARM) | PASS | SKIPPED | SKIPPED | SKIPPED | +-----------------------------+----------------+------------------------------+--------------+---------------------------+ | Debian 11 (Buster) (ARM) | PASS | SKIPPED | SKIPPED | SKIPPED | +-----------------------------+----------------+------------------------------+--------------+---------------------------+ | Debian 12 (arm) | PASS | PASS | SKIPPED | PASS | +-----------------------------+----------------+------------------------------+--------------+---------------------------+ | Fedora 41 (ARM Clang) | PASS | SKIPPED | SKIPPED | SKIPPED | +-----------------------------+----------------+------------------------------+--------------+---------------------------+ | Ubuntu 22.04 (ARM) | PASS | SKIPPED | SKIPPED | SKIPPED | +-----------------------------+----------------+------------------------------+--------------+---------------------------+ | Fedora 40 (ARM Clang) | PASS | SKIPPED | SKIPPED | SKIPPED | +-----------------------------+----------------+------------------------------+--------------+---------------------------+ | RHEL9 (ARM) | PASS | SKIPPED | SKIPPED | SKIPPED | +-----------------------------+----------------+------------------------------+--------------+---------------------------+ | Ubuntu 20.04 (ARM) | PASS | SKIPPED | SKIPPED | SKIPPED | +-----------------------------+----------------+------------------------------+--------------+---------------------------+ | Ubuntu 24.04 (ARM) | PASS | SKIPPED | SKIPPED | SKIPPED | +-----------------------------+----------------+------------------------------+--------------+---------------------------+ | Ubuntu 20.04 ARM SVE | SKIPPED | SKIPPED | PASS | SKIPPED | +-----------------------------+----------------+------------------------------+--------------+---------------------------+ 32-bit Ubuntu 22.04.4 (ARM) Kernel: 5.15.83+ aarch64 Compiler: gcc (Ubuntu 11.4.0-1ubuntu1~22.04) 11.4.0 CentOS Stream 9 (ARM) Kernel: Depends on container host Compiler: gcc 11.5.0 20240719 (Red Hat 11.5.0-2) CentOS Stream 10 (ARM) Kernel: Depends on container host Compiler: gcc 14.2.1 20241104 (Red Hat 14.2.1-6) Fedora 41 (ARM) Kernel: Depends on container host Compiler: gcc 14.2.1 20240912 (Red Hat 14.2.1-3) Fedora 40 (ARM) Kernel: Depends on container host Compiler: gcc 14.2.1 20240912 (Red Hat 14.2.1-3) Debian 11 (Buster) (ARM) Kernel: Depends on container host Compiler: gcc (Debian 10.2.1-6) 10.2.1 20210110 Debian 12 (arm) Kernel: Depends on container host Compiler: gcc (Debian 12.2.0-14) 12.2.0 Fedora 41 (ARM Clang) Kernel: Depends on container host Compiler: clang 19.1.5 (Fedora 19.1.5-1.fc41) Ubuntu 22.04 (ARM) Kernel: Depends on container host Compiler: gcc (Ubuntu 11.4.0-1ubuntu1~22.04) 11.4.0 Fedora 40 (ARM Clang) Kernel: Depends on container host Compiler: clang 18.1.8 (Fedora 18.1.8-1.fc40) RHEL9 (ARM) Kernel: Depends on container host Compiler: gcc 11.5.0 20240719 (Red Hat 11.5.0-2) Ubuntu 20.04 (ARM) Kernel: Depends on container host Compiler: gcc (Ubuntu 9.4.0-1ubuntu1~20.04.2) 9.4.0 Ubuntu 24.04 (ARM) Kernel: Depends on container host Compiler: gcc (Ubuntu 13.3.0-6ubuntu2~24.04) 13.3.0 Ubuntu 20.04 ARM SVE Kernel: Depends on container host Compiler: gcc (Ubuntu 10.5.0-1ubuntu1~20.04) 10.5.0 To view detailed results, visit: https://lab.dpdk.org/results/dashboard/patchsets/32602/ UNH-IOL DPDK Community Lab To manage your email subscriptions, visit: https://lab.dpdk.org/results/dashboard/preferences/subscriptions/