From mboxrd@z Thu Jan 1 00:00:00 1970 Return-Path: Received: from mails.dpdk.org (mails.dpdk.org [217.70.189.124]) by inbox.dpdk.org (Postfix) with ESMTP id 5CB004625B for ; Tue, 18 Feb 2025 16:14:50 +0100 (CET) Received: from mails.dpdk.org (localhost [127.0.0.1]) by mails.dpdk.org (Postfix) with ESMTP id 3D2FB40261; Tue, 18 Feb 2025 16:14:50 +0100 (CET) Received: from mail-oo1-f100.google.com (mail-oo1-f100.google.com [209.85.161.100]) by mails.dpdk.org (Postfix) with ESMTP id BF85B4014F for ; Tue, 18 Feb 2025 16:14:48 +0100 (CET) Received: by mail-oo1-f100.google.com with SMTP id 006d021491bc7-5fcc45803easo803152eaf.3 for ; Tue, 18 Feb 2025 07:14:48 -0800 (PST) DKIM-Signature: v=1; a=rsa-sha256; c=relaxed/relaxed; d=iol.unh.edu; s=unh-iol; t=1739891688; x=1740496488; darn=dpdk.org; h=references:in-reply-to:cc:to:from:subject:message-id:date:from:to :cc:subject:date:message-id:reply-to; bh=z/5XuZZCO+ShYoIkwPh1oxZgtZX8He4rHBcutsxVAYQ=; b=LdJJMkbfT/xlDTdvtftHhQLECHzl8EtCgConZbUQwtXU+HyUpKR5RilXFmPFCr/TmY N2At2SunozBvf8++4s7W7U9dllUQx7yJ6qLQMnT7jaAFSkjPnRqbGsObXWPSUmqm4Gqg tEGfAURmdrYOZcXKGBy8ys899usiTYPZZfb8w= X-Google-DKIM-Signature: v=1; a=rsa-sha256; c=relaxed/relaxed; d=1e100.net; s=20230601; t=1739891688; x=1740496488; h=references:in-reply-to:cc:to:from:subject:message-id:date :x-gm-message-state:from:to:cc:subject:date:message-id:reply-to; bh=z/5XuZZCO+ShYoIkwPh1oxZgtZX8He4rHBcutsxVAYQ=; b=E8Wx/QOIS1u8wumjr49ygHhwfQoEbNcoqanwCDfkICRNlc6NzwT048W4g0IoBhRJkW dxUJ2NlrkUXSYhl0LUc5uKnGR5+WWvQrqZdxTg0HrlTBaBa0RFGjs8BAEmzy6OlsnSwZ NK8aQuaPU5Ch0cYCZZPPeXLBmN/G4Kn36dac8g6h/Ny3YFVUV10pd0LaiINlHa2RniNc hrmyCjHJBPK+JBXelfE02Am28e9JEfujZYWWzaAq54tUZJTBbQCbR/9LOPSwvt0A6Emv wEhf/nm7qdYlVE2nV3sAQPVxLFzHshoAtxAQ4E8wLWqIR8wvhw0Rrsu6/cmcs1TVHsi+ L3yA== X-Gm-Message-State: AOJu0Yx0lhmKSlzb/4qYp/YQIPMxeNiIUlYUG4by8x3uKzqQwMFN+EiP ppUCNHP9qO4sO5gWpMIntk3UZhGLaYHw5VXFASTywthoTVSz2tUE7lTwoCyr23KnP0yVHAQIkNc S5ngOzFw1Cl/XKPoyh80P3ecf6RSlE7F5zUNEyGz2OkYm/CVzVADFz/QG X-Gm-Gg: ASbGncu3ER6u85Q6tnOI2i3EHzLB9xp9ZWha7e7lbKOBJQl6W0swJtofYM9RAjpexTx OgESK8afIle+9DjnbKq03FPzVcSOUJcDuCcoWn3H0N+O0L0xH+y5rXQCrWFCV6bNGizutY8IbEY b9ntARRJmI05m0z+cc80+H3c7fFrAzyPjwH5aKMhVmfFQJCViQPrgoC1gG0bNF2sdxpl0QMDgRR ejBfyhenAjuwD8MCE2iJzgyf7oSs4mBFIucm7XrgexSwfcQ2nTzuqHlq2ENdG8njAKcFXuNeG/0 fkTnVOkVbMfxE12/njUKj6uO9YYQYhT7JAJuj7ZXrQ== X-Google-Smtp-Source: AGHT+IFhICRL+Qxs9KcK25m/ycAYC9hAkUv7+eT/x4BQHzc5Bzm/KPuA+vJUt+GuBZ74pyI4Xu6JqAdmrz1P X-Received: by 2002:a05:6870:2182:b0:29e:32e7:5f1f with SMTP id 586e51a60fabf-2bc99cf6c57mr9581188fac.27.1739891687466; Tue, 18 Feb 2025 07:14:47 -0800 (PST) Received: from postal.iol.unh.edu (postal.iol.unh.edu. [2606:4100:3880:1234::84]) by smtp-relay.gmail.com with ESMTPS id 586e51a60fabf-2b95a6bf6besm817658fac.27.2025.02.18.07.14.47 (version=TLS1_2 cipher=ECDHE-ECDSA-AES128-GCM-SHA256 bits=128/128); Tue, 18 Feb 2025 07:14:47 -0800 (PST) X-Relaying-Domain: iol.unh.edu Date: Tue, 18 Feb 2025 07:14:47 -0800 (PST) Message-ID: <67b4a3e7.050a0220.24a5c3.a306SMTPIN_ADDED_MISSING@mx.google.com> Received: from [172.21.0.5] (unknown [172.18.0.240]) by postal.iol.unh.edu (Postfix) with ESMTP id 1334C6052471; Tue, 18 Feb 2025 10:14:47 -0500 (EST) Subject: |SUCCESS| pw151575-151582 [PATCH] [v6,8/8] devtools: add script to g From: dpdklab@iol.unh.edu To: Test Report Cc: dpdk-test-reports@iol.unh.edu In-Reply-To: References: Content-Type: text/plain X-BeenThere: test-report@dpdk.org X-Mailman-Version: 2.1.29 Precedence: list List-Id: automatic DPDK test reports List-Unsubscribe: , List-Archive: List-Post: List-Help: List-Subscribe: , Errors-To: test-report-bounces@dpdk.org Test-Label: iol-abi-testing Test-Status: SUCCESS http://dpdk.org/patch/151582 _Testing PASS_ Submitter: Anatoly Burakov Date: Tuesday, February 18 2025 11:15:34 DPDK git baseline: Repo:dpdk Branch: master CommitID:e5176f23ae8b31437c3e5eb875c81f95bf3a9942 151575-151582 --> testing pass Upstream job id: Generic-DPDK-Compile-ABI#116568 Test environment and result as below: +-------------------+----------+ | Environment | abi_test | +===================+==========+ | CentOS Stream 9 | PASS | +-------------------+----------+ | Debian 12 | PASS | +-------------------+----------+ | CentOS Stream 10 | PASS | +-------------------+----------+ | Fedora 40 (Clang) | PASS | +-------------------+----------+ | Debian Bullseye | PASS | +-------------------+----------+ | Fedora 40 | PASS | +-------------------+----------+ | Fedora 41 | PASS | +-------------------+----------+ | Fedora 41 (Clang) | PASS | +-------------------+----------+ | RHEL8 | PASS | +-------------------+----------+ | Ubuntu 22.04 | PASS | +-------------------+----------+ | openSUSE Leap 15 | PASS | +-------------------+----------+ | Ubuntu 24.04 | PASS | +-------------------+----------+ | RHEL9 | PASS | +-------------------+----------+ CentOS Stream 9 Kernel: Depends on container host Compiler: gcc 11.5.0 20240719 (Red Hat 11.5.0-2) Debian 12 Kernel: Depends on container host Compiler: gcc (Debian 12.2.0-14) 12.2.0 CentOS Stream 10 Kernel: Depends on container host Compiler: gcc 14.2.1 20241104 (Red Hat 14.2.1-6) Fedora 40 (Clang) Kernel: Depends on container host Compiler: clang 18.1.8 (Fedora 18.1.8-1.fc40) Debian Bullseye Kernel: Depends on container host Compiler: gcc (Debian 10.2.1-6) 10.2.1 20210110 Fedora 40 Kernel: Depends on container host Compiler: gcc 14.2.1 20240912 (Red Hat 14.2.1-3) Fedora 41 Kernel: Depends on container host Compiler: gcc 14.2.1 20240912 (Red Hat 14.2.1-3) Fedora 41 (Clang) Kernel: Depends on container host Compiler: clang 19.1.5 (Fedora 19.1.5-1.fc41) RHEL8 Kernel: Depends on container host Compiler: gcc 8.5.0 20210514 (Red Hat 8.5.0-22) Ubuntu 22.04 Kernel: Depends on container host Compiler: gcc (Ubuntu 11.4.0-1ubuntu1~22.04) 11.4.0 openSUSE Leap 15 Kernel: Depends on container host Compiler: gcc (SUSE Linux) 7.5.0 Ubuntu 24.04 Kernel: Depends on container host Compiler: gcc (Ubuntu 13.3.0-6ubuntu2~24.04) 13.3.0 RHEL9 Kernel: Depends on container host Compiler: gcc 11.5.0 20240719 (Red Hat 11.5.0-2) To view detailed results, visit: https://lab.dpdk.org/results/dashboard/patchsets/32601/ UNH-IOL DPDK Community Lab To manage your email subscriptions, visit: https://lab.dpdk.org/results/dashboard/preferences/subscriptions/