From mboxrd@z Thu Jan 1 00:00:00 1970 Return-Path: Received: from mails.dpdk.org (mails.dpdk.org [217.70.189.124]) by inbox.dpdk.org (Postfix) with ESMTP id 07B864625B for ; Tue, 18 Feb 2025 16:21:15 +0100 (CET) Received: from mails.dpdk.org (localhost [127.0.0.1]) by mails.dpdk.org (Postfix) with ESMTP id D398340261; Tue, 18 Feb 2025 16:21:14 +0100 (CET) Received: from mail-pl1-f226.google.com (mail-pl1-f226.google.com [209.85.214.226]) by mails.dpdk.org (Postfix) with ESMTP id 910DA4014F for ; Tue, 18 Feb 2025 16:21:13 +0100 (CET) Received: by mail-pl1-f226.google.com with SMTP id d9443c01a7336-220c92c857aso89082005ad.0 for ; Tue, 18 Feb 2025 07:21:13 -0800 (PST) DKIM-Signature: v=1; a=rsa-sha256; c=relaxed/relaxed; d=iol.unh.edu; s=unh-iol; t=1739892072; x=1740496872; darn=dpdk.org; h=references:in-reply-to:cc:to:from:subject:message-id:date:from:to :cc:subject:date:message-id:reply-to; bh=GjFHFkIZtRK3edvfTZsTf1uwvQYzL+xmQwngNkdXs6Q=; b=ES6WvKwEtlmtg/5LLPBDgD949uK2cgU7GBj0PTSJnJi43T7Ku3227y0kbnzWkadNYB lkwkXRQOPYKfLSNFbO8PbfJBJYn25AO7PrjPPhXMzt0Vm/2jbPWROMjwJR3oP/dg9BRr VfYB5w0LRwPoz1AGAsgHA3AgqK/gPnMwKgV+E= X-Google-DKIM-Signature: v=1; a=rsa-sha256; c=relaxed/relaxed; d=1e100.net; s=20230601; t=1739892072; x=1740496872; h=references:in-reply-to:cc:to:from:subject:message-id:date :x-gm-message-state:from:to:cc:subject:date:message-id:reply-to; bh=GjFHFkIZtRK3edvfTZsTf1uwvQYzL+xmQwngNkdXs6Q=; b=Sq4b7aO5UnnBqtn8DFiOQiz/Wy2zWbXFechASHQcrsCyUIfwN414HdxnnKf2F8wa/6 R0Wcc3DPoDZplyinDzmSLSLDqwOfXED1WnJragfypdqglFW1RDAMqI9gTQeXexDxwtQE RsVie64BA0i2s33AAeVYbVhI9bb80of5E1oQWY1DVVDAijEg8hsEwTfy0nuEqeqnSAxh PHDCvCnMmNGmH0zVmO9W1zp0XIKm1pMe0cysYxmgfbJFyEekwedCYChdB9zCudk40tu9 0nQunF7kzWkiJj7pzFGvD+WyF2w3gTXTdzYBtiHdoLMM/i7qO/8+5rBbk+wP/aA2n3Yk niIA== X-Gm-Message-State: AOJu0Yx2HsrhEJ/4lcPyMWfOn21dQfWRbhIWBySK/08fcLqFwVCY9QtR M+abSBjI4riY30VTrZU9EMq1NFcpKmuyoWYVPMAsb98JR0sQsaggsBrgR/sZseSvgsrJp4su/4Z wz0D5pcpb0WDPGc4AJoFltZmsAzALhAYUx3G/5D4mZzrtjV0XLRgb7CT+ X-Gm-Gg: ASbGncsnY4yt8GSeTXBt/cBDpXar4GZh+k6Aa75POQu74ka8whfI6nl/dyuYlu24l0M yprUxKTcT4P+dqUWAw7MQyTu6mJwC+nRADCOMIP0F9BzuQWw6Bxj140ho0uTV02QJ/SouVfpYVH j867AowjMqtGsZB2NLaHIha8b5tuSpwQt3O1qFkWeAZQ4G3kKQbCc3So+pPA/p/hgBDFaIeeydO Qb6vMoHr8y+LIsPwhTUW30GH9D8ifGK0vOogo+ICXO+4BpIGBUsViv5WTtpQxi3oxzLEg9znq99 ze+XRgKn0CAWb6P5X7H3oL6BiArMV6mjnR7EBbRpHw== X-Google-Smtp-Source: AGHT+IEcv8ct9TToosbFPV8PWNiuaT9cycjB6p4HVAqhNpfAvPJLTja/EbV9/hff5wC483y6YeMojc3Fdkl8 X-Received: by 2002:a17:902:d504:b0:21f:ba77:c49a with SMTP id d9443c01a7336-2216ee83accmr1356475ad.4.1739892072507; Tue, 18 Feb 2025 07:21:12 -0800 (PST) Received: from postal.iol.unh.edu (postal.iol.unh.edu. [2606:4100:3880:1234::84]) by smtp-relay.gmail.com with ESMTPS id d9443c01a7336-220e0344ec3sm5040955ad.45.2025.02.18.07.21.12 (version=TLS1_2 cipher=ECDHE-ECDSA-AES128-GCM-SHA256 bits=128/128); Tue, 18 Feb 2025 07:21:12 -0800 (PST) X-Relaying-Domain: iol.unh.edu Date: Tue, 18 Feb 2025 07:21:12 -0800 (PST) Message-ID: <67b4a568.170a0220.eb4f1.85b8SMTPIN_ADDED_MISSING@mx.google.com> Received: from [172.21.0.5] (unknown [172.18.0.240]) by postal.iol.unh.edu (Postfix) with ESMTP id 8B7C96052471; Tue, 18 Feb 2025 10:21:11 -0500 (EST) Subject: |SUCCESS| pw151583 [PATCH] app/testpmd: fix fail to set queue number From: dpdklab@iol.unh.edu To: Test Report Cc: dpdk-test-reports@iol.unh.edu In-Reply-To: <20250218113156.7174-1-lihuisong@huawei.com> References: <20250218113156.7174-1-lihuisong@huawei.com> Content-Type: text/plain X-BeenThere: test-report@dpdk.org X-Mailman-Version: 2.1.29 Precedence: list List-Id: automatic DPDK test reports List-Unsubscribe: , List-Archive: List-Post: List-Help: List-Subscribe: , Errors-To: test-report-bounces@dpdk.org Test-Label: iol-sample-apps-testing Test-Status: SUCCESS http://dpdk.org/patch/151583 _Testing PASS_ Submitter: Huisong Li Date: Tuesday, February 18 2025 11:31:56 DPDK git baseline: Repo:dpdk Branch: master CommitID:968f7b6d7b6a7e60e6e551db430c4eecaccbbfd2 151583 --> testing pass Upstream job id: ACVP-FIPS-testing#8945 Test environment and result as below: +--------------------+----------------------+----------------------+ | Environment | compressdev_zlib_pmd | dpdk_fips_validation | +====================+======================+======================+ | Ubuntu 22.04 (ARM) | PASS | SKIPPED | +--------------------+----------------------+----------------------+ | Ubuntu 22.04 | PASS | SKIPPED | +--------------------+----------------------+----------------------+ | Ubuntu 20.04 | SKIPPED | PASS | +--------------------+----------------------+----------------------+ Ubuntu 22.04 (ARM) Kernel: 5.15.0-97-generic Compiler: gcc gcc (Ubuntu 11.4.0-1ubuntu1~22.04) 11.4.0 Ubuntu 22.04 Kernel: 5.15.0-100-generic Compiler: gcc gcc (Ubuntu 11.4.0-1ubuntu1~22.04) 11.4.0 Ubuntu 20.04 Kernel: Depends on container host Compiler: gcc (Ubuntu 9.4.0-1ubuntu1~20.04.2) 9.4.0 To view detailed results, visit: https://lab.dpdk.org/results/dashboard/patchsets/32602/ UNH-IOL DPDK Community Lab To manage your email subscriptions, visit: https://lab.dpdk.org/results/dashboard/preferences/subscriptions/