From mboxrd@z Thu Jan 1 00:00:00 1970 Return-Path: Received: from mails.dpdk.org (mails.dpdk.org [217.70.189.124]) by inbox.dpdk.org (Postfix) with ESMTP id 624424625E for ; Tue, 18 Feb 2025 16:25:31 +0100 (CET) Received: from mails.dpdk.org (localhost [127.0.0.1]) by mails.dpdk.org (Postfix) with ESMTP id 5BC3A40261; Tue, 18 Feb 2025 16:25:31 +0100 (CET) Received: from mail-il1-f227.google.com (mail-il1-f227.google.com [209.85.166.227]) by mails.dpdk.org (Postfix) with ESMTP id A10B44014F for ; Tue, 18 Feb 2025 16:25:30 +0100 (CET) Received: by mail-il1-f227.google.com with SMTP id e9e14a558f8ab-3d2b15760adso1269065ab.1 for ; Tue, 18 Feb 2025 07:25:30 -0800 (PST) DKIM-Signature: v=1; a=rsa-sha256; c=relaxed/relaxed; d=iol.unh.edu; s=unh-iol; t=1739892330; x=1740497130; darn=dpdk.org; h=references:in-reply-to:cc:to:from:subject:message-id:date:from:to :cc:subject:date:message-id:reply-to; bh=mqcP6eyxOmOFpOkpgs+/9WSd1ktAjNF955AS9zS6A1E=; b=ZhjjSpoAHaoyY80EUUOHoGY9Xpg9XaQHuK5upZpsCXtv10ioNWKeVWFhfdldkEtm7u 2eqQ8CvTd5Sk3losbT6CjcWUbbUUEZyH2vHCMyqtEn+vXy2enSQAKwBSNdMY767CcNzg WxDlV50meLCRnKSBDDZqxGwoTP76E+rpNuDQs= X-Google-DKIM-Signature: v=1; a=rsa-sha256; c=relaxed/relaxed; d=1e100.net; s=20230601; t=1739892330; x=1740497130; h=references:in-reply-to:cc:to:from:subject:message-id:date :x-gm-message-state:from:to:cc:subject:date:message-id:reply-to; bh=mqcP6eyxOmOFpOkpgs+/9WSd1ktAjNF955AS9zS6A1E=; b=Ni7lzJktSyaTJgoXDbiY+86w2CS/zA3mHov45XbMcdpBPW/jVDVl2MxZCT7UJT5D86 zuh0TGmQwH0Cip9mjwjfN4xAU/OfrKi4/+kXIqJAqkZwimXmcAxQswB4xtXeN4tybNrO MwDspoymTo7PFBluVEJL7SxX/ikm7AguYLgntAlMows3gPlOXpbalQDia95vsLmPcUzr 91hzeyG0KnyHs/4f753HFuw7oX5IaMCYx/4Bw9S79UPCyn6FBOHt4S4rD6veLNP6Ht+b OF2x1mYnHSvvn3EF3pLB+O86hVc+kT3LFMkQcajw133gW5Hf3ON2gjrJ6PuJoIZxI8rb dTvw== X-Gm-Message-State: AOJu0YxjiHxw/SIRGb24YMrIL9PjE2L6w9BA4l2CcpGRUxW/YQdgMcvb FlcDsqSTT3waJl0PyGuzd1TLhESZfT9Qy/eP2DfOK82a/Xss9auoUfwjfaHzDqIT7+Ez5BbZpyE Hx7SaBlcemfDqL/8/X+VYHuLZp8qXz/scLfVdfu7j1yhHmHKI0xU+cjyB X-Gm-Gg: ASbGncvFd7cSEds1LHub89UFm1/+2OIADCWCYR0i1rx1wLRh293xSDBCvp21ZCPzIt5 JLeJrLO06gDL5udMmT+4kUqzs3AX6csMMwU8uqOVHJa28sfFHnQcFo0BVwmcsNZrMDxKIJXYBkH tCmi6JzK5pf9nRvDq9B1sM0TX37zwOtqlYQj3o6W0SU39TqLxK+hS8eMF9MoC7Gexc09KoBa0zw obJzGv2kEoP7PhV+F4zPq2z8mbOIGdAykqkzzUNdmj0IXsWretq61/0/nJ+YQwFSXJrp/RBzFgt G0KSjvtWs55/ZjZ6ygAwpfAAk2M4R2bcu1EKZrORpA== X-Google-Smtp-Source: AGHT+IFFXMNqFnKKUcIpeNdjddc85CiyEerxczGunSaOuaZAfcQsIRUgkHutxK9ffkD3rkyfl9Q4DHuPjMIe X-Received: by 2002:a05:6e02:1689:b0:3d0:23ac:b29f with SMTP id e9e14a558f8ab-3d280763fecmr130314205ab.1.1739892329991; Tue, 18 Feb 2025 07:25:29 -0800 (PST) Received: from postal.iol.unh.edu (postal.iol.unh.edu. [2606:4100:3880:1234::84]) by smtp-relay.gmail.com with ESMTPS id 8926c6da1cb9f-4ed282a7311sm705398173.45.2025.02.18.07.25.29 (version=TLS1_2 cipher=ECDHE-ECDSA-AES128-GCM-SHA256 bits=128/128); Tue, 18 Feb 2025 07:25:29 -0800 (PST) X-Relaying-Domain: iol.unh.edu Date: Tue, 18 Feb 2025 07:25:29 -0800 (PST) Message-ID: <67b4a669.050a0220.34d569.1d66SMTPIN_ADDED_MISSING@mx.google.com> Received: from [172.17.0.3] (unknown [172.18.0.217]) by postal.iol.unh.edu (Postfix) with ESMTP id 89C2F6052471; Tue, 18 Feb 2025 10:25:29 -0500 (EST) Subject: |SUCCESS| pw151575-151582 [PATCH] [v6,8/8] devtools: add script to g From: dpdklab@iol.unh.edu To: Test Report Cc: dpdk-test-reports@iol.unh.edu In-Reply-To: References: Content-Type: text/plain X-BeenThere: test-report@dpdk.org X-Mailman-Version: 2.1.29 Precedence: list List-Id: automatic DPDK test reports List-Unsubscribe: , List-Archive: List-Post: List-Help: List-Subscribe: , Errors-To: test-report-bounces@dpdk.org Test-Label: iol-unit-amd64-testing Test-Status: SUCCESS http://dpdk.org/patch/151582 _Testing PASS_ Submitter: Anatoly Burakov Date: Tuesday, February 18 2025 11:15:34 DPDK git baseline: Repo:dpdk Branch: master CommitID:e5176f23ae8b31437c3e5eb875c81f95bf3a9942 151575-151582 --> testing pass Upstream job id: Generic-Unit-Test-DPDK#315837 Test environment and result as below: +-------------------+----------------+ | Environment | dpdk_unit_test | +===================+================+ | CentOS Stream 10 | PASS | +-------------------+----------------+ | CentOS Stream 9 | PASS | +-------------------+----------------+ | Debian Bullseye | PASS | +-------------------+----------------+ | Debian 12 | PASS | +-------------------+----------------+ | Fedora 41 | PASS | +-------------------+----------------+ | RHEL8 | PASS | +-------------------+----------------+ | Fedora 40 (Clang) | PASS | +-------------------+----------------+ | RHEL9 | PASS | +-------------------+----------------+ | Fedora 40 | PASS | +-------------------+----------------+ | Ubuntu 22.04 | PASS | +-------------------+----------------+ | Fedora 41 (Clang) | PASS | +-------------------+----------------+ | Ubuntu 24.04 | PASS | +-------------------+----------------+ | Ubuntu 20.04 | PASS | +-------------------+----------------+ CentOS Stream 10 Kernel: Depends on container host Compiler: gcc 14.2.1 20241104 (Red Hat 14.2.1-6) CentOS Stream 9 Kernel: Depends on container host Compiler: gcc 11.5.0 20240719 (Red Hat 11.5.0-2) Debian Bullseye Kernel: Depends on container host Compiler: gcc (Debian 10.2.1-6) 10.2.1 20210110 Debian 12 Kernel: Depends on container host Compiler: gcc (Debian 12.2.0-14) 12.2.0 Fedora 41 Kernel: Depends on container host Compiler: gcc 14.2.1 20240912 (Red Hat 14.2.1-3) RHEL8 Kernel: Depends on container host Compiler: gcc 8.5.0 20210514 (Red Hat 8.5.0-22) Fedora 40 (Clang) Kernel: Depends on container host Compiler: clang 18.1.8 (Fedora 18.1.8-1.fc40) RHEL9 Kernel: Depends on container host Compiler: gcc 11.5.0 20240719 (Red Hat 11.5.0-2) Fedora 40 Kernel: Depends on container host Compiler: gcc 14.2.1 20240912 (Red Hat 14.2.1-3) Ubuntu 22.04 Kernel: Depends on container host Compiler: gcc (Ubuntu 11.4.0-1ubuntu1~22.04) 11.4.0 Fedora 41 (Clang) Kernel: Depends on container host Compiler: clang 19.1.5 (Fedora 19.1.5-1.fc41) Ubuntu 24.04 Kernel: Depends on container host Compiler: gcc (Ubuntu 13.3.0-6ubuntu2~24.04) 13.3.0 Ubuntu 20.04 Kernel: Depends on container host Compiler: gcc (Ubuntu 9.4.0-1ubuntu1~20.04.2) 9.4.0 To view detailed results, visit: https://lab.dpdk.org/results/dashboard/patchsets/32601/ UNH-IOL DPDK Community Lab To manage your email subscriptions, visit: https://lab.dpdk.org/results/dashboard/preferences/subscriptions/