From mboxrd@z Thu Jan 1 00:00:00 1970 Return-Path: Received: from mails.dpdk.org (mails.dpdk.org [217.70.189.124]) by inbox.dpdk.org (Postfix) with ESMTP id E2D6A4625B for ; Tue, 18 Feb 2025 16:56:22 +0100 (CET) Received: from mails.dpdk.org (localhost [127.0.0.1]) by mails.dpdk.org (Postfix) with ESMTP id DE043402CF; Tue, 18 Feb 2025 16:56:22 +0100 (CET) Received: from mail-pl1-f225.google.com (mail-pl1-f225.google.com [209.85.214.225]) by mails.dpdk.org (Postfix) with ESMTP id 4DA1B40261 for ; Tue, 18 Feb 2025 16:56:21 +0100 (CET) Received: by mail-pl1-f225.google.com with SMTP id d9443c01a7336-220f048c038so71480335ad.2 for ; Tue, 18 Feb 2025 07:56:21 -0800 (PST) DKIM-Signature: v=1; a=rsa-sha256; c=relaxed/relaxed; d=iol.unh.edu; s=unh-iol; t=1739894180; x=1740498980; darn=dpdk.org; h=references:in-reply-to:cc:to:from:subject:message-id:date:from:to :cc:subject:date:message-id:reply-to; bh=xb1/w5eDo0logCQ5ZbOmFxqU3DgxF1/IsADv60SpInE=; b=H3MNpmttlqb6Gvblxo8Zxl+iAu6RelTOBB+AVXVzkzoGojnhJ26g4+pfhr06IPE87F ngjR0YO43HxgkRUGbPJUpk9KPSZzUjHmqZr48VtOkzvy+8eMbRyVZbPVz9HdTlbSS90x yHdKXVek3Vbblag2LeWKuMC1hXDSskBBtQvUM= X-Google-DKIM-Signature: v=1; a=rsa-sha256; c=relaxed/relaxed; d=1e100.net; s=20230601; t=1739894180; x=1740498980; h=references:in-reply-to:cc:to:from:subject:message-id:date :x-gm-message-state:from:to:cc:subject:date:message-id:reply-to; bh=xb1/w5eDo0logCQ5ZbOmFxqU3DgxF1/IsADv60SpInE=; b=v7Y3I3OoM2XkDpzCECcI25VHpX3N2Z5N4n3y/zi7zdofzTA0+4wN7aXgP5LnbiIJGU OYVg2Ug+y+yG0f/nHUQQqPcHSZh9lbYO/e6v8M+rYprbH3yAewu+XktbVtTX0zyt2ka3 tDyoWTqDLt/AIGRe9bCwmHQ67b4RFwi0TYJZ2JndDWB/OnebO2QpMlnzKxRYzm6f8+El rgSVrO/UHHjBFvS1SrLx0yCewONgclI0DBTCffs91/jO2bESiAUzTOrrCBTGfVwPJcPy fG5p/UPKYIWxsb7eEJW8S2DI7CFGJIhhgvERptm+Vdok25jNwOVEDws2HKUio/0z4fia osKQ== X-Gm-Message-State: AOJu0YwngMJeYRsS/4rnmPkNhWxMLN4jfbDgmTGysOsA7aUTlhpoYrJa GJkNKlsUZEY+6YRveGICuHyVKlMbr0DUXs5LMs7ssxOWQffQj2Uhk65toYE5VNxridJQ+ui0GrI f3OYhoKqT6K9OHZe1YnkIc7JBSMssgfr9oUprpdRo X-Gm-Gg: ASbGncv4xMyt84b+jO3vKO2AfMyjqf78P49sCa7+/wlgzzKCMDRYge7tUFSxKgYpRyU Sv0E8sBLyk0GuKDSEayTcVg/yzzvR5rVHvODXcMOVosNEmNH7qg/LgQ8ir881r25mCVAPnTxLwY W4/uB8nZoZN46oP9CRTYMmxQk9t71yz/PC0pBXzu7Di0Hot1SXf5yevqpGtiLBjxTuHnNgFOV2e wWV2QwEYKxPjsBif42Q3xepq45npixsV+m/lydioRKc5NK8JIWr7jTnK8ElGe2HCIQU7HXuUKzo F1uEMax4OL9NG6GGWYeT2TANfSRVcg== X-Google-Smtp-Source: AGHT+IHkfjmhGs16Eh2VcWpa1Uc01S2jn/nOTHV0p57HKrWo6IjxEHdZFoGQ4rr++J5o0bm0ZUiPXm1diLO+ X-Received: by 2002:a05:6a20:a10c:b0:1ed:75f4:d285 with SMTP id adf61e73a8af0-1ee8cb8514emr23707108637.19.1739894180437; Tue, 18 Feb 2025 07:56:20 -0800 (PST) Received: from postal.iol.unh.edu (postal.iol.unh.edu. [132.177.123.84]) by smtp-relay.gmail.com with ESMTPS id d2e1a72fcca58-732425461a5sm876530b3a.5.2025.02.18.07.56.20 (version=TLS1_2 cipher=ECDHE-ECDSA-AES128-GCM-SHA256 bits=128/128); Tue, 18 Feb 2025 07:56:20 -0800 (PST) X-Relaying-Domain: iol.unh.edu Date: Tue, 18 Feb 2025 07:56:20 -0800 (PST) Message-ID: <67b4ada4.050a0220.d5e85.ab9cSMTPIN_ADDED_MISSING@mx.google.com> Received: from [172.21.0.6] (unknown [172.18.0.240]) by postal.iol.unh.edu (Postfix) with ESMTP id 918496052471; Tue, 18 Feb 2025 10:56:19 -0500 (EST) Subject: |SUCCESS| pw151583 [PATCH] app/testpmd: fix fail to set queue number From: dpdklab@iol.unh.edu To: Test Report Cc: dpdk-test-reports@iol.unh.edu In-Reply-To: <20250218113156.7174-1-lihuisong@huawei.com> References: <20250218113156.7174-1-lihuisong@huawei.com> Content-Type: text/plain X-BeenThere: test-report@dpdk.org X-Mailman-Version: 2.1.29 Precedence: list List-Id: automatic DPDK test reports List-Unsubscribe: , List-Archive: List-Post: List-Help: List-Subscribe: , Errors-To: test-report-bounces@dpdk.org Test-Label: iol-compile-arm64-testing Test-Status: SUCCESS http://dpdk.org/patch/151583 _Testing PASS_ Submitter: Huisong Li Date: Tuesday, February 18 2025 11:31:56 DPDK git baseline: Repo:dpdk Branch: master CommitID:968f7b6d7b6a7e60e6e551db430c4eecaccbbfd2 151583 --> testing pass Upstream job id: Generic-DPDK-Compile-Meson#362574 Test environment and result as below: +----------------------------------------+--------------------+ | Environment | dpdk_meson_compile | +========================================+====================+ | RHEL9 (ARM) | PASS | +----------------------------------------+--------------------+ | Ubuntu 20.04 ARM GCC Cross Compile | PASS | +----------------------------------------+--------------------+ | Debian 12 with MUSDK | PASS | +----------------------------------------+--------------------+ | Fedora 40 (ARM) | PASS | +----------------------------------------+--------------------+ | Ubuntu 20.04 ARM SVE | PASS | +----------------------------------------+--------------------+ | Fedora 41 (ARM Clang) | PASS | +----------------------------------------+--------------------+ | Ubuntu 20.04 (ARM) | PASS | +----------------------------------------+--------------------+ | Fedora 40 (ARM Clang) | PASS | +----------------------------------------+--------------------+ | Fedora 41 (ARM) | PASS | +----------------------------------------+--------------------+ | Ubuntu 22.04 (ARM) | PASS | +----------------------------------------+--------------------+ | Ubuntu 24.04 (ARM) | PASS | +----------------------------------------+--------------------+ | CentOS Stream 9 (ARM) | PASS | +----------------------------------------+--------------------+ | CentOS Stream 10 (ARM) | PASS | +----------------------------------------+--------------------+ | Debian 11 (Buster) (ARM) | PASS | +----------------------------------------+--------------------+ | Debian 12 (arm) | PASS | +----------------------------------------+--------------------+ | Ubuntu 20.04 aarch32 GCC Cross Compile | PASS | +----------------------------------------+--------------------+ | Ubuntu 20.04 ARM Clang Cross Compile | PASS | +----------------------------------------+--------------------+ RHEL9 (ARM) Kernel: Depends on container host Compiler: gcc 11.5.0 20240719 (Red Hat 11.5.0-2) Ubuntu 20.04 ARM GCC Cross Compile Kernel: Depends on container host Compiler: aarch64-linux-gnu-gcc (Ubuntu 9.4.0-1ubuntu1~20.04.2) 9.4.0 Debian 12 with MUSDK Kernel: Depends on container host Compiler: gcc (Debian 12.2.0-14) 12.2.0 Fedora 40 (ARM) Kernel: Depends on container host Compiler: gcc 14.2.1 20240912 (Red Hat 14.2.1-3) Ubuntu 20.04 ARM SVE Kernel: Depends on container host Compiler: gcc (Ubuntu 10.5.0-1ubuntu1~20.04) 10.5.0 Fedora 41 (ARM Clang) Kernel: Depends on container host Compiler: clang 19.1.5 (Fedora 19.1.5-1.fc41) Ubuntu 20.04 (ARM) Kernel: Depends on container host Compiler: gcc (Ubuntu 9.4.0-1ubuntu1~20.04.2) 9.4.0 Fedora 40 (ARM Clang) Kernel: Depends on container host Compiler: clang 18.1.8 (Fedora 18.1.8-1.fc40) Fedora 41 (ARM) Kernel: Depends on container host Compiler: gcc 14.2.1 20240912 (Red Hat 14.2.1-3) Ubuntu 22.04 (ARM) Kernel: Depends on container host Compiler: gcc (Ubuntu 11.4.0-1ubuntu1~22.04) 11.4.0 Ubuntu 24.04 (ARM) Kernel: Depends on container host Compiler: gcc (Ubuntu 13.3.0-6ubuntu2~24.04) 13.3.0 CentOS Stream 9 (ARM) Kernel: Depends on container host Compiler: gcc 11.5.0 20240719 (Red Hat 11.5.0-2) CentOS Stream 10 (ARM) Kernel: Depends on container host Compiler: gcc 14.2.1 20241104 (Red Hat 14.2.1-6) Debian 11 (Buster) (ARM) Kernel: Depends on container host Compiler: gcc (Debian 10.2.1-6) 10.2.1 20210110 Debian 12 (arm) Kernel: Depends on container host Compiler: gcc (Debian 12.2.0-14) 12.2.0 Ubuntu 20.04 aarch32 GCC Cross Compile Kernel: Depends on container host Compiler: gcc 9.4.0 Ubuntu 20.04 ARM Clang Cross Compile Kernel: Depends on container host Compiler: clang 10.0.0-4ubuntu1 To view detailed results, visit: https://lab.dpdk.org/results/dashboard/patchsets/32602/ UNH-IOL DPDK Community Lab To manage your email subscriptions, visit: https://lab.dpdk.org/results/dashboard/preferences/subscriptions/