From mboxrd@z Thu Jan 1 00:00:00 1970 Return-Path: Received: from mails.dpdk.org (mails.dpdk.org [217.70.189.124]) by inbox.dpdk.org (Postfix) with ESMTP id 05D634625B for ; Tue, 18 Feb 2025 16:56:39 +0100 (CET) Received: from mails.dpdk.org (localhost [127.0.0.1]) by mails.dpdk.org (Postfix) with ESMTP id 00F3D402CF; Tue, 18 Feb 2025 16:56:39 +0100 (CET) Received: from mail-oa1-f97.google.com (mail-oa1-f97.google.com [209.85.160.97]) by mails.dpdk.org (Postfix) with ESMTP id 2705940261 for ; Tue, 18 Feb 2025 16:56:37 +0100 (CET) Received: by mail-oa1-f97.google.com with SMTP id 586e51a60fabf-2bc607b3190so2783363fac.1 for ; Tue, 18 Feb 2025 07:56:37 -0800 (PST) DKIM-Signature: v=1; a=rsa-sha256; c=relaxed/relaxed; d=iol.unh.edu; s=unh-iol; t=1739894196; x=1740498996; darn=dpdk.org; h=references:in-reply-to:cc:to:from:subject:message-id:date:from:to :cc:subject:date:message-id:reply-to; bh=3i2ddYhhd3w7e7gXnuvEwi+JfZ2KKWOM0i8+3VwhIa0=; b=fmWBCyXfLtcW9/kpYFQPvz/jqTDH36M5fZ9VsJSTiKrfhvHqqjHGeyDYLQyDQpISit 6fVl5GzzjIF0R8dPy4pe+hDJ/ZquEiUrG8VLO+2EVWpoAoIEDDzJOYzRTQ2OFgwVSOwP ENiDQvAg5iR4hnmm8QYo4aToxDtHrnPgLCf+8= X-Google-DKIM-Signature: v=1; a=rsa-sha256; c=relaxed/relaxed; d=1e100.net; s=20230601; t=1739894196; x=1740498996; h=references:in-reply-to:cc:to:from:subject:message-id:date :x-gm-message-state:from:to:cc:subject:date:message-id:reply-to; bh=3i2ddYhhd3w7e7gXnuvEwi+JfZ2KKWOM0i8+3VwhIa0=; b=tAiPWrZ7iLUVVeTrbgA+nJiiPiyr90sXHH2004knjF+VsuR04xRueXpLsVBxF0+1o+ Qe6ilckIfMbJWwU/Orlj/3LoYapnqleYqtt8C3eauzq/EykDupf3MDZB2yQ0HHzaztDA 8AhJANDF0PG2CxC5GqtdYScWt6TQQtAtCm+fbqB5JHFcYKDFbtgcasVidCb30QR8NEUV r8bsFxYV8DVN/+YjdBhXti8qAl9FXLLoe8JEjtsM4NbqrWGaG54K2f+4fRElW5lAyfm6 WOKyC2u4u4KZ5r86i7EB+yAzbzLM8+Nmmp4P1dD2nbDv3V8jBCElGrbReUmjk0VJhozA 7jpQ== X-Gm-Message-State: AOJu0Ywwt7qgu45H0E5mZ+lzioruC00BKUf653gswl+NdB58YRwGXSKd nIPWKQINJN/kRUKh7OJesavfckyrNiW5fjPRiSu1pg73yD883j4Oum9nuyx48trkB5+KMuL2Edd hwA1Hy2tVFCNBx1a4D63seIisHKF20BKct7gVIW8b7tYoZR8/f1Sh5/h2 X-Gm-Gg: ASbGncv8gLicTTQfpYmrl5azg4HPMXUpxMyY9SNBZHtvXJTNlqphQOU83SUN0kqgQ5b 83hgGgOkJJcGQOi8cUOPNw3dEXjHPjTN0j459yFAQKeXPNNAFgF8KkDJ5QHyXyVYalzexW/fn+g RSTvpOQ9J8BDieI9AYdgfnuynSvt6YmGcHYM3L7i/9Cq9mkIsnpXWs5ZwaVgpcXzD0fkmDeKbY2 fnahnfZEggIa0K3MUFSm0VOPhIzLwtcKnZTzinva3nas9zxsGkj6bMpijO1Bis3yNPGq/XveM1K G2/cwoR9lr8iD89Gafv8SVAXAJyO0eCJmThY/7/8uw== X-Google-Smtp-Source: AGHT+IGcyRtLdqOHbPx8mXHkln/QsPskgGD/Ei82KbI/S6Em0s3thYnXAMJVyBI9JJHnqX5DDIaPJRgJcwPB X-Received: by 2002:a05:6871:290:b0:29e:5522:8eeb with SMTP id 586e51a60fabf-2bd0f32bd3bmr288362fac.0.1739894196370; Tue, 18 Feb 2025 07:56:36 -0800 (PST) Received: from postal.iol.unh.edu (postal.iol.unh.edu. [2606:4100:3880:1234::84]) by smtp-relay.gmail.com with ESMTPS id 586e51a60fabf-2b9548202fasm647964fac.5.2025.02.18.07.56.36 (version=TLS1_2 cipher=ECDHE-ECDSA-AES128-GCM-SHA256 bits=128/128); Tue, 18 Feb 2025 07:56:36 -0800 (PST) X-Relaying-Domain: iol.unh.edu Date: Tue, 18 Feb 2025 07:56:36 -0800 (PST) Message-ID: <67b4adb4.050a0220.39e2f6.e814SMTPIN_ADDED_MISSING@mx.google.com> Received: from [172.21.0.5] (unknown [172.18.0.240]) by postal.iol.unh.edu (Postfix) with ESMTP id CE2496052471; Tue, 18 Feb 2025 10:56:35 -0500 (EST) Subject: |SUCCESS| pw151583 [PATCH] app/testpmd: fix fail to set queue number From: dpdklab@iol.unh.edu To: Test Report Cc: dpdk-test-reports@iol.unh.edu In-Reply-To: <20250218113156.7174-1-lihuisong@huawei.com> References: <20250218113156.7174-1-lihuisong@huawei.com> Content-Type: text/plain X-BeenThere: test-report@dpdk.org X-Mailman-Version: 2.1.29 Precedence: list List-Id: automatic DPDK test reports List-Unsubscribe: , List-Archive: List-Post: List-Help: List-Subscribe: , Errors-To: test-report-bounces@dpdk.org Test-Label: iol-compile-arm64-testing Test-Status: SUCCESS http://dpdk.org/patch/151583 _Testing PASS_ Submitter: Huisong Li Date: Tuesday, February 18 2025 11:31:56 DPDK git baseline: Repo:dpdk Branch: master CommitID:968f7b6d7b6a7e60e6e551db430c4eecaccbbfd2 151583 --> testing pass Upstream job id: Generic-DPDK-Compile-Meson#362572 Test environment and result as below: +----------------------------------------+--------------------+ | Environment | dpdk_meson_compile | +========================================+====================+ | RHEL9 (ARM) | PASS | +----------------------------------------+--------------------+ | Ubuntu 20.04 ARM GCC Cross Compile | PASS | +----------------------------------------+--------------------+ | Debian 12 with MUSDK | PASS | +----------------------------------------+--------------------+ | Fedora 40 (ARM) | PASS | +----------------------------------------+--------------------+ | Ubuntu 20.04 ARM SVE | PASS | +----------------------------------------+--------------------+ | Fedora 41 (ARM Clang) | PASS | +----------------------------------------+--------------------+ | Ubuntu 20.04 (ARM) | PASS | +----------------------------------------+--------------------+ | Fedora 40 (ARM Clang) | PASS | +----------------------------------------+--------------------+ | Fedora 41 (ARM) | PASS | +----------------------------------------+--------------------+ | Ubuntu 22.04 (ARM) | PASS | +----------------------------------------+--------------------+ | Ubuntu 24.04 (ARM) | PASS | +----------------------------------------+--------------------+ | CentOS Stream 9 (ARM) | PASS | +----------------------------------------+--------------------+ | CentOS Stream 10 (ARM) | PASS | +----------------------------------------+--------------------+ | Debian 11 (Buster) (ARM) | PASS | +----------------------------------------+--------------------+ | Debian 12 (arm) | PASS | +----------------------------------------+--------------------+ | Ubuntu 20.04 aarch32 GCC Cross Compile | PASS | +----------------------------------------+--------------------+ | Ubuntu 20.04 ARM Clang Cross Compile | PASS | +----------------------------------------+--------------------+ RHEL9 (ARM) Kernel: Depends on container host Compiler: gcc 11.5.0 20240719 (Red Hat 11.5.0-2) Ubuntu 20.04 ARM GCC Cross Compile Kernel: Depends on container host Compiler: aarch64-linux-gnu-gcc (Ubuntu 9.4.0-1ubuntu1~20.04.2) 9.4.0 Debian 12 with MUSDK Kernel: Depends on container host Compiler: gcc (Debian 12.2.0-14) 12.2.0 Fedora 40 (ARM) Kernel: Depends on container host Compiler: gcc 14.2.1 20240912 (Red Hat 14.2.1-3) Ubuntu 20.04 ARM SVE Kernel: Depends on container host Compiler: gcc (Ubuntu 10.5.0-1ubuntu1~20.04) 10.5.0 Fedora 41 (ARM Clang) Kernel: Depends on container host Compiler: clang 19.1.5 (Fedora 19.1.5-1.fc41) Ubuntu 20.04 (ARM) Kernel: Depends on container host Compiler: gcc (Ubuntu 9.4.0-1ubuntu1~20.04.2) 9.4.0 Fedora 40 (ARM Clang) Kernel: Depends on container host Compiler: clang 18.1.8 (Fedora 18.1.8-1.fc40) Fedora 41 (ARM) Kernel: Depends on container host Compiler: gcc 14.2.1 20240912 (Red Hat 14.2.1-3) Ubuntu 22.04 (ARM) Kernel: Depends on container host Compiler: gcc (Ubuntu 11.4.0-1ubuntu1~22.04) 11.4.0 Ubuntu 24.04 (ARM) Kernel: Depends on container host Compiler: gcc (Ubuntu 13.3.0-6ubuntu2~24.04) 13.3.0 CentOS Stream 9 (ARM) Kernel: Depends on container host Compiler: gcc 11.5.0 20240719 (Red Hat 11.5.0-2) CentOS Stream 10 (ARM) Kernel: Depends on container host Compiler: gcc 14.2.1 20241104 (Red Hat 14.2.1-6) Debian 11 (Buster) (ARM) Kernel: Depends on container host Compiler: gcc (Debian 10.2.1-6) 10.2.1 20210110 Debian 12 (arm) Kernel: Depends on container host Compiler: gcc (Debian 12.2.0-14) 12.2.0 Ubuntu 20.04 aarch32 GCC Cross Compile Kernel: Depends on container host Compiler: gcc 9.4.0 Ubuntu 20.04 ARM Clang Cross Compile Kernel: Depends on container host Compiler: clang 10.0.0-4ubuntu1 To view detailed results, visit: https://lab.dpdk.org/results/dashboard/patchsets/32602/ UNH-IOL DPDK Community Lab To manage your email subscriptions, visit: https://lab.dpdk.org/results/dashboard/preferences/subscriptions/