From mboxrd@z Thu Jan 1 00:00:00 1970 Return-Path: Received: from mails.dpdk.org (mails.dpdk.org [217.70.189.124]) by inbox.dpdk.org (Postfix) with ESMTP id 902744625B for ; Tue, 18 Feb 2025 17:00:33 +0100 (CET) Received: from mails.dpdk.org (localhost [127.0.0.1]) by mails.dpdk.org (Postfix) with ESMTP id 8B29C402CF; Tue, 18 Feb 2025 17:00:33 +0100 (CET) Received: from mail-pl1-f226.google.com (mail-pl1-f226.google.com [209.85.214.226]) by mails.dpdk.org (Postfix) with ESMTP id 4666640261 for ; Tue, 18 Feb 2025 17:00:32 +0100 (CET) Received: by mail-pl1-f226.google.com with SMTP id d9443c01a7336-220f4dd756eso75209665ad.3 for ; Tue, 18 Feb 2025 08:00:32 -0800 (PST) DKIM-Signature: v=1; a=rsa-sha256; c=relaxed/relaxed; d=iol.unh.edu; s=unh-iol; t=1739894431; x=1740499231; darn=dpdk.org; h=references:in-reply-to:cc:to:from:subject:message-id:date:from:to :cc:subject:date:message-id:reply-to; bh=/S59pAVKstFH9TxVUilM90AVJA/jtbn2FncX1/jstWo=; b=SjdhL9BIC6n1eQbpYN5U6YuY8dcnfpx1RRdn+PlbWpvjeistogOUYLuBVflRlEd22O zSXXc8/pw/ArL59leKR0T8Gv2ipH+CU5wZ/lxIMM+IDygrHiohBQ7mLdmxrRlJy6prcP GL1y3tJR9wDLIfLw9qsIJy2y7EFE7s4WwkIOM= X-Google-DKIM-Signature: v=1; a=rsa-sha256; c=relaxed/relaxed; d=1e100.net; s=20230601; t=1739894431; x=1740499231; h=references:in-reply-to:cc:to:from:subject:message-id:date :x-gm-message-state:from:to:cc:subject:date:message-id:reply-to; bh=/S59pAVKstFH9TxVUilM90AVJA/jtbn2FncX1/jstWo=; b=wdr3EmFcaiITX2M3AoqoEr7bclXOpeKCu95aF/f3csL577EKm8IcNvknS8c0I4q2Hb lVQqzAL2SBqhwIrQSq008aAmKmiOQxOjRsPY07r3CytXRXejIGsXF5+Udhf93TmVmLJZ EX0dWRrUGQeHjkEtSUS1xQQ3mJbS3v2pbioSbkHrdFpIbJMsCwTK36+msrlWyijOuDm8 MSrT+wjR/Mo/brwzlhWQhkQf5f71ygxUDLkq8mdeMVmuRKf3YM26qm80RAUqUZURW7hi lRFNNSunDVe+T5lO/ptuBmNl/xhuRZM94B/BTFkJ/LNUi8uxNpscfshut/TxtvJG69NL 0cLQ== X-Gm-Message-State: AOJu0YywNs8W74cvOyWIsgq8pVuzi4zQOQTs8KVYus8hGwtZT18OQhR0 m1tbOn35m4c7b8fgZ8tfa9Ot1mAt0ZYWpS502HlESKISGInky10bZdWi0S1xZTUpEArfIGVy4Lm NHbitAHgUL1vDxDPqp3eiWxEUpkEgGXI2hQ/SrhXdRiAPXLtlp8IYiAIP X-Gm-Gg: ASbGnctF18LI/Col0CR+QMeCc9F63dlnZPDSq50iT/L6GzOMPwFavlztbdZ02aVHSC1 OKMyFwPxT6LpVaA82d5a9s0eOKLeKPQMoY6i/yy7+2zE9CnRmfAst8xxIrVVpZeLEi6z10zjONd B+7TPrbrecOqZtVmsDYyMr7MXvpQEZZL0jZZ0aPDc6rSFjPagW2W11QSk3R7Gs7arZZ4D8T+6ZW llI5XeKb3UDmKqkg2wZ+dDV6stvP47PvP0ZWD8U10WzL/mwMRJgxt86wLbPdAVmw1UFl6CMsoKk s/0CF5aKep8Beyj4TD7Ar1H5z3Pd+Sky0HkIZjz9RQ== X-Google-Smtp-Source: AGHT+IHBmfLaNarAwS+GFEpNpYl2dROlb1tJRmOtIBnJuuf63vn7R5oqa3FJZR6+4wDCEJ7Nf/1fows66byp X-Received: by 2002:a05:6a00:929a:b0:732:a24:7351 with SMTP id d2e1a72fcca58-7326179d65bmr24290179b3a.6.1739894431066; Tue, 18 Feb 2025 08:00:31 -0800 (PST) Received: from postal.iol.unh.edu (postal.iol.unh.edu. [2606:4100:3880:1234::84]) by smtp-relay.gmail.com with ESMTPS id 41be03b00d2f7-ae177605141sm64965a12.2.2025.02.18.08.00.30 (version=TLS1_2 cipher=ECDHE-ECDSA-AES128-GCM-SHA256 bits=128/128); Tue, 18 Feb 2025 08:00:31 -0800 (PST) X-Relaying-Domain: iol.unh.edu Date: Tue, 18 Feb 2025 08:00:31 -0800 (PST) Message-ID: <67b4ae9f.050a0220.eb5d1.2b00SMTPIN_ADDED_MISSING@mx.google.com> Received: from [172.21.0.5] (unknown [172.18.0.240]) by postal.iol.unh.edu (Postfix) with ESMTP id 88FCE6052471; Tue, 18 Feb 2025 11:00:30 -0500 (EST) Subject: |SUCCESS| pw151575-151582 [PATCH] [v6,8/8] devtools: add script to g From: dpdklab@iol.unh.edu To: Test Report Cc: dpdk-test-reports@iol.unh.edu In-Reply-To: References: Content-Type: text/plain X-BeenThere: test-report@dpdk.org X-Mailman-Version: 2.1.29 Precedence: list List-Id: automatic DPDK test reports List-Unsubscribe: , List-Archive: List-Post: List-Help: List-Subscribe: , Errors-To: test-report-bounces@dpdk.org Test-Label: iol-unit-arm64-testing Test-Status: SUCCESS http://dpdk.org/patch/151582 _Testing PASS_ Submitter: Anatoly Burakov Date: Tuesday, February 18 2025 11:15:34 DPDK git baseline: Repo:dpdk Branch: master CommitID:e5176f23ae8b31437c3e5eb875c81f95bf3a9942 151575-151582 --> testing pass Upstream job id: Generic-Unit-Test-DPDK#315823 Test environment and result as below: +-----------------------------+----------------+---------------------------+------------------------------+--------------+ | Environment | dpdk_unit_test | cryptodev_sw_zuc_autotest | cryptodev_sw_snow3g_autotest | lpm_autotest | +=============================+================+===========================+==============================+==============+ | 32-bit Ubuntu 22.04.4 (ARM) | PASS | SKIPPED | SKIPPED | SKIPPED | +-----------------------------+----------------+---------------------------+------------------------------+--------------+ | CentOS Stream 9 (ARM) | PASS | SKIPPED | SKIPPED | SKIPPED | +-----------------------------+----------------+---------------------------+------------------------------+--------------+ | Debian 11 (Buster) (ARM) | PASS | SKIPPED | SKIPPED | SKIPPED | +-----------------------------+----------------+---------------------------+------------------------------+--------------+ | Fedora 40 (ARM Clang) | PASS | SKIPPED | SKIPPED | SKIPPED | +-----------------------------+----------------+---------------------------+------------------------------+--------------+ | CentOS Stream 10 (ARM) | PASS | SKIPPED | SKIPPED | SKIPPED | +-----------------------------+----------------+---------------------------+------------------------------+--------------+ | Fedora 41 (ARM Clang) | PASS | SKIPPED | SKIPPED | SKIPPED | +-----------------------------+----------------+---------------------------+------------------------------+--------------+ | Fedora 41 (ARM) | PASS | SKIPPED | SKIPPED | SKIPPED | +-----------------------------+----------------+---------------------------+------------------------------+--------------+ | Fedora 40 (ARM) | PASS | SKIPPED | SKIPPED | SKIPPED | +-----------------------------+----------------+---------------------------+------------------------------+--------------+ | Ubuntu 22.04 (ARM) | PASS | SKIPPED | SKIPPED | SKIPPED | +-----------------------------+----------------+---------------------------+------------------------------+--------------+ | Ubuntu 20.04 (ARM) | PASS | SKIPPED | SKIPPED | SKIPPED | +-----------------------------+----------------+---------------------------+------------------------------+--------------+ | RHEL9 (ARM) | PASS | SKIPPED | SKIPPED | SKIPPED | +-----------------------------+----------------+---------------------------+------------------------------+--------------+ | Debian 12 (arm) | PASS | PASS | PASS | SKIPPED | +-----------------------------+----------------+---------------------------+------------------------------+--------------+ | Ubuntu 24.04 (ARM) | PASS | SKIPPED | SKIPPED | SKIPPED | +-----------------------------+----------------+---------------------------+------------------------------+--------------+ | Ubuntu 20.04 ARM SVE | SKIPPED | SKIPPED | SKIPPED | PASS | +-----------------------------+----------------+---------------------------+------------------------------+--------------+ 32-bit Ubuntu 22.04.4 (ARM) Kernel: 5.15.83+ aarch64 Compiler: gcc (Ubuntu 11.4.0-1ubuntu1~22.04) 11.4.0 CentOS Stream 9 (ARM) Kernel: Depends on container host Compiler: gcc 11.5.0 20240719 (Red Hat 11.5.0-2) Debian 11 (Buster) (ARM) Kernel: Depends on container host Compiler: gcc (Debian 10.2.1-6) 10.2.1 20210110 Fedora 40 (ARM Clang) Kernel: Depends on container host Compiler: clang 18.1.8 (Fedora 18.1.8-1.fc40) CentOS Stream 10 (ARM) Kernel: Depends on container host Compiler: gcc 14.2.1 20241104 (Red Hat 14.2.1-6) Fedora 41 (ARM Clang) Kernel: Depends on container host Compiler: clang 19.1.5 (Fedora 19.1.5-1.fc41) Fedora 41 (ARM) Kernel: Depends on container host Compiler: gcc 14.2.1 20240912 (Red Hat 14.2.1-3) Fedora 40 (ARM) Kernel: Depends on container host Compiler: gcc 14.2.1 20240912 (Red Hat 14.2.1-3) Ubuntu 22.04 (ARM) Kernel: Depends on container host Compiler: gcc (Ubuntu 11.4.0-1ubuntu1~22.04) 11.4.0 Ubuntu 20.04 (ARM) Kernel: Depends on container host Compiler: gcc (Ubuntu 9.4.0-1ubuntu1~20.04.2) 9.4.0 RHEL9 (ARM) Kernel: Depends on container host Compiler: gcc 11.5.0 20240719 (Red Hat 11.5.0-2) Debian 12 (arm) Kernel: Depends on container host Compiler: gcc (Debian 12.2.0-14) 12.2.0 Ubuntu 24.04 (ARM) Kernel: Depends on container host Compiler: gcc (Ubuntu 13.3.0-6ubuntu2~24.04) 13.3.0 Ubuntu 20.04 ARM SVE Kernel: Depends on container host Compiler: gcc (Ubuntu 10.5.0-1ubuntu1~20.04) 10.5.0 To view detailed results, visit: https://lab.dpdk.org/results/dashboard/patchsets/32601/ UNH-IOL DPDK Community Lab To manage your email subscriptions, visit: https://lab.dpdk.org/results/dashboard/preferences/subscriptions/