From mboxrd@z Thu Jan 1 00:00:00 1970 Return-Path: Received: from mails.dpdk.org (mails.dpdk.org [217.70.189.124]) by inbox.dpdk.org (Postfix) with ESMTP id 2DCA44625E for ; Tue, 18 Feb 2025 17:26:11 +0100 (CET) Received: from mails.dpdk.org (localhost [127.0.0.1]) by mails.dpdk.org (Postfix) with ESMTP id 09891402CF; Tue, 18 Feb 2025 17:26:11 +0100 (CET) Received: from mail-pj1-f97.google.com (mail-pj1-f97.google.com [209.85.216.97]) by mails.dpdk.org (Postfix) with ESMTP id D8C0940261 for ; Tue, 18 Feb 2025 17:26:08 +0100 (CET) Received: by mail-pj1-f97.google.com with SMTP id 98e67ed59e1d1-2fa8ada6662so10608184a91.1 for ; Tue, 18 Feb 2025 08:26:08 -0800 (PST) DKIM-Signature: v=1; a=rsa-sha256; c=relaxed/relaxed; d=iol.unh.edu; s=unh-iol; t=1739895968; x=1740500768; darn=dpdk.org; h=references:in-reply-to:cc:to:from:subject:message-id:date:from:to :cc:subject:date:message-id:reply-to; bh=0Wu3VhvJ5W24+igGoPGclf+DzkcvHCZmby1DXPFXaBk=; b=KgMXL1iZTf7wrBXPQWShPJt6Iln60AtnsDCXoR/0A8jZJmwD2h98syeHmIvOGGCzGl LSBee4Z0iuE0qoX3R6L6s6Wb55Luq9KeqRs9jso678rryiDO/1NuALJ8eW23dbf8rsuO fcG9JGdp5UCIJf6+R4Z431GOItSo3uu1TMyfs= X-Google-DKIM-Signature: v=1; a=rsa-sha256; c=relaxed/relaxed; d=1e100.net; s=20230601; t=1739895968; x=1740500768; h=references:in-reply-to:cc:to:from:subject:message-id:date :x-gm-message-state:from:to:cc:subject:date:message-id:reply-to; bh=0Wu3VhvJ5W24+igGoPGclf+DzkcvHCZmby1DXPFXaBk=; b=WBqBCofM8QLZ+tI5T/QuZbK3GH3G9t0/UP2Qe90TU9TasvylPYzJTRqL55c+jHZOol lcYReIwbIu1nJDdVFehh4TkguVbMinhfm8/M1oYQY7Vhi/8WYOd4nNItJKo6PkX8yWva AzFYSk0JLdAkcSwHa+ULKsDCr3JzO5C3fS2I3GGgQ4Hwp5Kse3OSdoLf+U+SPup8Gp0J hYWPPo5ho0K8lFwbuIsXVJnxM81vtfbJ8BSFjpUh7iqKadVMVBjSjAvrm5rN9eHzj4+r D3eYUBjk7WDV2L9yGjqhI5irgu4fdRSjF/9ADa9LruN6kcO7MW8jKuF30dQYm6yOJ2y/ ixbQ== X-Gm-Message-State: AOJu0Yw/IqXWRazs+6ZDDVe1R5JC5QGdop0tU/cRzzesf58PwS/pIOy/ MHeZSGM792m8FfNnX62tmdvIk7wmiKSQgYysFUt0cprToy9HXuDp2yx2hHKbkwmhodOt6NkKSNs HEgQ089xX+WpQPfD4/j1uCX0550YS3b8gkPAodMno X-Gm-Gg: ASbGncuGLxcz+4+WYdNLILX33hsB0SDNcAZKy2AmB4W7VqW7vRhVw8e7X5oI+2puAKd jMwGvrkU9xbkKIi9UaqrHAUyAwU3EuGBzNR7aA4f7tmbDkNjCi6Fq/GI5B5LtLfFLT+wyNpDFnZ o4VtNQd7HEcrxPUJ4CA7mlLcdY3pNnvtsAuaPSw3oZtqoBpYwgzu45MjtEuTt4XBEAYHKE2P5qg VzKO1GN5EIHwaHw1rbyjHsCJYw4btt6ASPqzOmwOjNou7JbHusbOggaXsR2Yrj7Zu+mUOBo6bEh +z6oeYRujE8/G4jh8MMi+HHSIr3U3g== X-Google-Smtp-Source: AGHT+IGFYKdGvvyUJJf/gnl2bx3Uw9JkURt4iQBL8OfxpvbULz5oFMyw/G+MxZo22e4M+i3mIDZj9sHJ8P2U X-Received: by 2002:a17:90b:3809:b0:2ee:d024:e4fc with SMTP id 98e67ed59e1d1-2fc411509b7mr23898748a91.33.1739895967832; Tue, 18 Feb 2025 08:26:07 -0800 (PST) Received: from postal.iol.unh.edu (postal.iol.unh.edu. [132.177.123.84]) by smtp-relay.gmail.com with ESMTPS id d9443c01a7336-220d543c64csm5466625ad.122.2025.02.18.08.26.07 (version=TLS1_2 cipher=ECDHE-ECDSA-AES128-GCM-SHA256 bits=128/128); Tue, 18 Feb 2025 08:26:07 -0800 (PST) X-Relaying-Domain: iol.unh.edu Date: Tue, 18 Feb 2025 08:26:07 -0800 (PST) Message-ID: <67b4b49f.170a0220.1616da.a99eSMTPIN_ADDED_MISSING@mx.google.com> Received: from [172.17.0.5] (unknown [172.18.0.217]) by postal.iol.unh.edu (Postfix) with ESMTP id DE4E96052471; Tue, 18 Feb 2025 11:26:06 -0500 (EST) Subject: |SUCCESS| pw151575-151582 [PATCH] [v6,8/8] devtools: add script to g From: dpdklab@iol.unh.edu To: Test Report Cc: dpdk-test-reports@iol.unh.edu In-Reply-To: References: Content-Type: text/plain X-BeenThere: test-report@dpdk.org X-Mailman-Version: 2.1.29 Precedence: list List-Id: automatic DPDK test reports List-Unsubscribe: , List-Archive: List-Post: List-Help: List-Subscribe: , Errors-To: test-report-bounces@dpdk.org Test-Label: iol-sample-apps-testing Test-Status: SUCCESS http://dpdk.org/patch/151582 _Testing PASS_ Submitter: Anatoly Burakov Date: Tuesday, February 18 2025 11:15:34 DPDK git baseline: Repo:dpdk Branch: master CommitID:e5176f23ae8b31437c3e5eb875c81f95bf3a9942 151575-151582 --> testing pass Upstream job id: ACVP-FIPS-testing#8946 Test environment and result as below: +--------------------+----------------------+----------------------+ | Environment | compressdev_zlib_pmd | dpdk_fips_validation | +====================+======================+======================+ | Ubuntu 22.04 (ARM) | PASS | SKIPPED | +--------------------+----------------------+----------------------+ | Ubuntu 22.04 | PASS | SKIPPED | +--------------------+----------------------+----------------------+ | Ubuntu 20.04 | SKIPPED | PASS | +--------------------+----------------------+----------------------+ Ubuntu 22.04 (ARM) Kernel: 5.15.0-97-generic Compiler: gcc gcc (Ubuntu 11.4.0-1ubuntu1~22.04) 11.4.0 Ubuntu 22.04 Kernel: 5.15.0-100-generic Compiler: gcc gcc (Ubuntu 11.4.0-1ubuntu1~22.04) 11.4.0 Ubuntu 20.04 Kernel: Depends on container host Compiler: gcc (Ubuntu 9.4.0-1ubuntu1~20.04.2) 9.4.0 To view detailed results, visit: https://lab.dpdk.org/results/dashboard/patchsets/32601/ UNH-IOL DPDK Community Lab To manage your email subscriptions, visit: https://lab.dpdk.org/results/dashboard/preferences/subscriptions/