From mboxrd@z Thu Jan 1 00:00:00 1970 Return-Path: Received: from mails.dpdk.org (mails.dpdk.org [217.70.189.124]) by inbox.dpdk.org (Postfix) with ESMTP id 00F974625B for ; Tue, 18 Feb 2025 17:39:40 +0100 (CET) Received: from mails.dpdk.org (localhost [127.0.0.1]) by mails.dpdk.org (Postfix) with ESMTP id D44BC402CF; Tue, 18 Feb 2025 17:39:40 +0100 (CET) Received: from mail-oi1-f227.google.com (mail-oi1-f227.google.com [209.85.167.227]) by mails.dpdk.org (Postfix) with ESMTP id 75816402C3 for ; Tue, 18 Feb 2025 17:39:39 +0100 (CET) Received: by mail-oi1-f227.google.com with SMTP id 5614622812f47-3f3e0498beaso2231782b6e.1 for ; Tue, 18 Feb 2025 08:39:39 -0800 (PST) DKIM-Signature: v=1; a=rsa-sha256; c=relaxed/relaxed; d=iol.unh.edu; s=unh-iol; t=1739896778; x=1740501578; darn=dpdk.org; h=references:in-reply-to:cc:to:from:subject:message-id:date:from:to :cc:subject:date:message-id:reply-to; bh=AIcTshgPVOHlS+GWvCgZaS984z9fgLO88JA717YHuPI=; b=SMDdujvIQ9UN0Jdwbwkcfu10wm0vEOR3dBjDFWALYQ6nm8fWO1dMwsK2BuEQK+Yl00 PRjQv+aZ3/uF2fAsfKYWL08Ok+UuvIPqmQa5sGGIsgmYgrHW+U4DleG1cVzDsVmJbS0I CYLuR6nVkKRfXWXa6TCuiSlESBUI8cWYdIjPU= X-Google-DKIM-Signature: v=1; a=rsa-sha256; c=relaxed/relaxed; d=1e100.net; s=20230601; t=1739896778; x=1740501578; h=references:in-reply-to:cc:to:from:subject:message-id:date :x-gm-message-state:from:to:cc:subject:date:message-id:reply-to; bh=AIcTshgPVOHlS+GWvCgZaS984z9fgLO88JA717YHuPI=; b=ePhjI3FaM3sDF2ahCBcGkoLFawesCVO5UQEoy7rmL+qDS6lJGE0cq/MDOeeawfaZHl fENOF4QE5Knv/Yv/YFfTPJnDae6RybjWDcvMuM+ghOZ3kMz3JQvLRiSChlTu8NO2u1Hz +yJ7JZ28AFmdKDKtQhx/Mz1GDW2FG4sSL62EKqK5qvpEyG0vHbL7r0HsYBc8oyB4Ns/D qXlwZJ901ISkD8RF5AAt8B666tn1awqnRvkskXY5u/o9ZHSDX1qpk6sisZ7jNzGLgpMD wMS+L/XTQ5ZnpFDGxL3Vt/8Wd3RS65E5p4pbVuj5utK6Bn1AIwlxUSe2YrHEX6sxqJHF LQRA== X-Gm-Message-State: AOJu0YxvHXU8BG7bhYAjJRbEILO37OUq7M/xsRyZYellkpHU6BRQmctX Ary5yjKLr5yFcX2CtF+anxo+MfvX4ObH2JScGMsIivW3/lC/AF5sIfqx9KuCiElMFhLXNGwf9kX yiXIOY651QnuHQjYhDioYQsEmWdGS4lduZKwNE7m3DUYYCH5+0o51R+sU X-Gm-Gg: ASbGncu0PkVrzjnBHu6asOeZr9WhcBtl9UfeuSepgXMBzGlRzPxKfquD0dUieOVzbph QL2UVNCSPM4752vk29RF/V7Xrf/go5Dx4t8sXQjJ41mPwd2pjkQhq9iVEEkqetHQ2S4DfIXmm42 068h1wv8uoOOnOJI2fBI4jqw6E0SCXdeiIenMXAKUPYfRv8hDGsxrMR8RLas9+so9Oj1YlQnQwm 71arKTPXEWm74701cT2yfX9fqRQVZ3EmaG3BFjRGdvPhQYIbTnJhnI9oG5H1EII70wbbOEMkbLw npYVd1GAouDw/vCNHSqrpgQRdljww2fN10RSE3iq3g== X-Google-Smtp-Source: AGHT+IFlMcD7bdASJ1k1of2TQMNirM0zuAOlJ1DOKUEXQnfufG65cdDdcYGUoR1mzY0GsCrp3clZLloUEAab X-Received: by 2002:a05:6808:33c1:b0:3f3:fe34:4262 with SMTP id 5614622812f47-3f40ef1a619mr265175b6e.11.1739896778497; Tue, 18 Feb 2025 08:39:38 -0800 (PST) Received: from postal.iol.unh.edu (postal.iol.unh.edu. [2606:4100:3880:1234::84]) by smtp-relay.gmail.com with ESMTPS id 006d021491bc7-5fcf72b8c7bsm45233eaf.6.2025.02.18.08.39.38 (version=TLS1_2 cipher=ECDHE-ECDSA-AES128-GCM-SHA256 bits=128/128); Tue, 18 Feb 2025 08:39:38 -0800 (PST) X-Relaying-Domain: iol.unh.edu Date: Tue, 18 Feb 2025 08:39:38 -0800 (PST) Message-ID: <67b4b7ca.050a0220.12e18c.220fSMTPIN_ADDED_MISSING@mx.google.com> Received: from [172.17.0.5] (unknown [172.18.0.217]) by postal.iol.unh.edu (Postfix) with ESMTP id F2FBE6052471; Tue, 18 Feb 2025 11:39:37 -0500 (EST) Subject: |SUCCESS| pw151574 [PATCH] config/arm: update NVIDIA BlueField-3 con From: dpdklab@iol.unh.edu To: Test Report Cc: dpdk-test-reports@iol.unh.edu In-Reply-To: <20250218104942.81984-1-getelson@nvidia.com> References: <20250218104942.81984-1-getelson@nvidia.com> Content-Type: text/plain X-BeenThere: test-report@dpdk.org X-Mailman-Version: 2.1.29 Precedence: list List-Id: automatic DPDK test reports List-Unsubscribe: , List-Archive: List-Post: List-Help: List-Subscribe: , Errors-To: test-report-bounces@dpdk.org Test-Label: iol-unit-amd64-testing Test-Status: SUCCESS http://dpdk.org/patch/151574 _Testing PASS_ Submitter: Gregory Etelson Date: Tuesday, February 18 2025 10:49:42 DPDK git baseline: Repo:dpdk Branch: master CommitID:e5176f23ae8b31437c3e5eb875c81f95bf3a9942 151574 --> testing pass Upstream job id: Generic-VM-Unit-Test-DPDK#27266 Test environment and result as below: +---------------------+----------------+ | Environment | dpdk_unit_test | +=====================+================+ | Debian Bullseye | PASS | +---------------------+----------------+ | CentOS Stream 9 | PASS | +---------------------+----------------+ | Fedora 40 | PASS | +---------------------+----------------+ | Fedora 40 (Clang) | PASS | +---------------------+----------------+ | Debian 12 | PASS | +---------------------+----------------+ | CentOS Stream 10 | PASS | +---------------------+----------------+ | Fedora 41 | PASS | +---------------------+----------------+ | Ubuntu 20.04 | PASS | +---------------------+----------------+ | RHEL8 | PASS | +---------------------+----------------+ | RHEL9 | PASS | +---------------------+----------------+ | Fedora 41 (Clang) | PASS | +---------------------+----------------+ | Ubuntu 22.04 | PASS | +---------------------+----------------+ | Ubuntu 24.04 | PASS | +---------------------+----------------+ | Windows Server 2022 | PASS | +---------------------+----------------+ Debian Bullseye Kernel: Depends on container host Compiler: gcc (Debian 10.2.1-6) 10.2.1 20210110 CentOS Stream 9 Kernel: Depends on container host Compiler: gcc 11.5.0 20240719 (Red Hat 11.5.0-2) Fedora 40 Kernel: Depends on container host Compiler: gcc 14.2.1 20240912 (Red Hat 14.2.1-3) Fedora 40 (Clang) Kernel: Depends on container host Compiler: clang 18.1.8 (Fedora 18.1.8-1.fc40) Debian 12 Kernel: Depends on container host Compiler: gcc (Debian 12.2.0-14) 12.2.0 CentOS Stream 10 Kernel: Depends on container host Compiler: gcc 14.2.1 20241104 (Red Hat 14.2.1-6) Fedora 41 Kernel: Depends on container host Compiler: gcc 14.2.1 20240912 (Red Hat 14.2.1-3) Ubuntu 20.04 Kernel: Depends on container host Compiler: gcc (Ubuntu 9.4.0-1ubuntu1~20.04.2) 9.4.0 RHEL8 Kernel: Depends on container host Compiler: gcc 8.5.0 20210514 (Red Hat 8.5.0-22) RHEL9 Kernel: Depends on container host Compiler: gcc 11.5.0 20240719 (Red Hat 11.5.0-2) Fedora 41 (Clang) Kernel: Depends on container host Compiler: clang 19.1.5 (Fedora 19.1.5-1.fc41) Ubuntu 22.04 Kernel: Depends on container host Compiler: gcc (Ubuntu 11.4.0-1ubuntu1~22.04) 11.4.0 Ubuntu 24.04 Kernel: Depends on container host Compiler: gcc (Ubuntu 13.3.0-6ubuntu2~24.04) 13.3.0 Windows Server 2022 Kernel: 10.0.20348.2031 Compiler: clang 15.0.7, gcc 14.1.0 (MinGW), and MSVC VS 19.39.33521 To view detailed results, visit: https://lab.dpdk.org/results/dashboard/patchsets/32600/ UNH-IOL DPDK Community Lab To manage your email subscriptions, visit: https://lab.dpdk.org/results/dashboard/preferences/subscriptions/