From mboxrd@z Thu Jan 1 00:00:00 1970 Return-Path: Received: from mails.dpdk.org (mails.dpdk.org [217.70.189.124]) by inbox.dpdk.org (Postfix) with ESMTP id CC63F4625B for ; Tue, 18 Feb 2025 17:53:42 +0100 (CET) Received: from mails.dpdk.org (localhost [127.0.0.1]) by mails.dpdk.org (Postfix) with ESMTP id C37DD402CF; Tue, 18 Feb 2025 17:53:42 +0100 (CET) Received: from mail-yw1-f226.google.com (mail-yw1-f226.google.com [209.85.128.226]) by mails.dpdk.org (Postfix) with ESMTP id 559ED40264 for ; Tue, 18 Feb 2025 17:53:41 +0100 (CET) Received: by mail-yw1-f226.google.com with SMTP id 00721157ae682-6fb68f495d9so22408527b3.3 for ; Tue, 18 Feb 2025 08:53:41 -0800 (PST) DKIM-Signature: v=1; a=rsa-sha256; c=relaxed/relaxed; d=iol.unh.edu; s=unh-iol; t=1739897620; x=1740502420; darn=dpdk.org; h=references:in-reply-to:cc:to:from:subject:message-id:date:from:to :cc:subject:date:message-id:reply-to; bh=/jbK1BMDKmEATM6a8ay0SRICr8yrxJQ0wxDiCi8k/WE=; b=WKQDDodaaerwimmuOmylp0b93QZYSFecl3SfFGRz6y2P4FRc2Cqc62zIjB+Y2MoG4s eKvj8S2bzypX9hJ3WR7+ApN6ohu4P5+5vMCgAT4gi1bXb90xpx3MvmOy5EEv9xKY8TGY TanE1/iBIFbJLEz/Tpg08/6fcuEX329Vk1L20= X-Google-DKIM-Signature: v=1; a=rsa-sha256; c=relaxed/relaxed; d=1e100.net; s=20230601; t=1739897620; x=1740502420; h=references:in-reply-to:cc:to:from:subject:message-id:date :x-gm-message-state:from:to:cc:subject:date:message-id:reply-to; bh=/jbK1BMDKmEATM6a8ay0SRICr8yrxJQ0wxDiCi8k/WE=; b=TmxzBrLOSGGHu60Z/fENktwrKVYPGE9NKvJRvsbz+J26kDIiE1giBreHvt1LKSdsgp N0NQYuNXJjzgknXLLSsSIgZ0avYlXKBtONNh7qXBdYKfjzgGx7k2+35LnSZe12KQb/wl /R/gQSTe70z6vqIH5gZEDklex8bMvXWxZjzm0m2TQkt2eurJXyiOHwBW1GSCkqM9hvzS DVPbMPg6n2SqK3c8QtCLxMam9Dx0RKkGqJzlIEDQmVMhSoPctFI6rpelU1Srd+N59nkz O5udDlZzPHXMzDaouKTvS8qtD5f+g3qZxET6SXwCkleZQoq9Gd0a2DFkHrxasTLq2Umb gq2Q== X-Gm-Message-State: AOJu0Yz5pwblIuP4+o6AGiBD1Cb121/h2NZhW11DXmLnT1SXz77mlDQK 5rCqjjQ2uv1wiOICy62+idMime2UiQYAadpfe5vrXzy0C5Y/GDOSYVFLtCMI6d57ONT2731BihB 7MwEcWBfjDbFds7nL8dFa1XqONOWd2CxdA/15bGZ4 X-Gm-Gg: ASbGncvS90wqAPZohJdYPvVpNi1Js37URNvk6OfhxmzBiCF73t2PE5XHUQ28HyzWlU0 SRV2QmhkBJ9gXqiWy2YOmCZLgtmQurN+EiDOgWQ+plzx0Cz1/uwslIF13NrdExIyU/UTnJbnX35 leHYEDjnLJiW9cZIqdRpXY1ciGW604wpcXszCLTXW+c7CToy4uJWhkjcGSEDiENjEIENW5zhQDg 8D5OYH8TTfhnpuF+BGk3cdl6s2XyqG5KDcBpHPkcOQaiQf+NgbdmTzuRHRgcK7cNNlcvoIkiGbO KBa5BlApYKbtbpo5i9JZ4oE8VKHCSg== X-Google-Smtp-Source: AGHT+IGFloREYlTTDxLlaSslq19kVwlY9Wp+ERC9NOkhyUxhuQgTliHCgsb8oPQCHddLKfXZzHOjGra7Tm6L X-Received: by 2002:a05:690c:7242:b0:6f7:55a2:4cf5 with SMTP id 00721157ae682-6fba56589eemr4868667b3.2.1739897620642; Tue, 18 Feb 2025 08:53:40 -0800 (PST) Received: from postal.iol.unh.edu (postal.iol.unh.edu. [132.177.123.84]) by smtp-relay.gmail.com with ESMTPS id 00721157ae682-6fb619a051asm1862967b3.54.2025.02.18.08.53.40 (version=TLS1_2 cipher=ECDHE-ECDSA-AES128-GCM-SHA256 bits=128/128); Tue, 18 Feb 2025 08:53:40 -0800 (PST) X-Relaying-Domain: iol.unh.edu Date: Tue, 18 Feb 2025 08:53:40 -0800 (PST) Message-ID: <67b4bb14.050a0220.2ec6d2.83b2SMTPIN_ADDED_MISSING@mx.google.com> Received: from [172.21.0.5] (unknown [172.18.0.240]) by postal.iol.unh.edu (Postfix) with ESMTP id 50CD66052471; Tue, 18 Feb 2025 11:53:40 -0500 (EST) Subject: |SUCCESS| pw151574 [PATCH] config/arm: update NVIDIA BlueField-3 con From: dpdklab@iol.unh.edu To: Test Report Cc: dpdk-test-reports@iol.unh.edu In-Reply-To: <20250218104942.81984-1-getelson@nvidia.com> References: <20250218104942.81984-1-getelson@nvidia.com> Content-Type: text/plain X-BeenThere: test-report@dpdk.org X-Mailman-Version: 2.1.29 Precedence: list List-Id: automatic DPDK test reports List-Unsubscribe: , List-Archive: List-Post: List-Help: List-Subscribe: , Errors-To: test-report-bounces@dpdk.org Test-Label: iol-unit-arm64-testing Test-Status: SUCCESS http://dpdk.org/patch/151574 _Testing PASS_ Submitter: Gregory Etelson Date: Tuesday, February 18 2025 10:49:42 DPDK git baseline: Repo:dpdk Branch: master CommitID:e5176f23ae8b31437c3e5eb875c81f95bf3a9942 151574 --> testing pass Upstream job id: Generic-Unit-Test-DPDK#315864 Test environment and result as below: +-----------------------------+----------------+------------------------------+--------------+---------------------------+ | Environment | dpdk_unit_test | cryptodev_sw_snow3g_autotest | lpm_autotest | cryptodev_sw_zuc_autotest | +=============================+================+==============================+==============+===========================+ | CentOS Stream 9 (ARM) | PASS | SKIPPED | SKIPPED | SKIPPED | +-----------------------------+----------------+------------------------------+--------------+---------------------------+ | CentOS Stream 10 (ARM) | PASS | SKIPPED | SKIPPED | SKIPPED | +-----------------------------+----------------+------------------------------+--------------+---------------------------+ | Debian 11 (Buster) (ARM) | PASS | SKIPPED | SKIPPED | SKIPPED | +-----------------------------+----------------+------------------------------+--------------+---------------------------+ | Debian 12 (arm) | PASS | PASS | SKIPPED | PASS | +-----------------------------+----------------+------------------------------+--------------+---------------------------+ | Fedora 41 (ARM) | PASS | SKIPPED | SKIPPED | SKIPPED | +-----------------------------+----------------+------------------------------+--------------+---------------------------+ | Fedora 40 (ARM) | PASS | SKIPPED | SKIPPED | SKIPPED | +-----------------------------+----------------+------------------------------+--------------+---------------------------+ | Fedora 40 (ARM Clang) | PASS | SKIPPED | SKIPPED | SKIPPED | +-----------------------------+----------------+------------------------------+--------------+---------------------------+ | Ubuntu 20.04 (ARM) | PASS | SKIPPED | SKIPPED | SKIPPED | +-----------------------------+----------------+------------------------------+--------------+---------------------------+ | 32-bit Ubuntu 22.04.4 (ARM) | PASS | SKIPPED | SKIPPED | SKIPPED | +-----------------------------+----------------+------------------------------+--------------+---------------------------+ | Fedora 41 (ARM Clang) | PASS | SKIPPED | SKIPPED | SKIPPED | +-----------------------------+----------------+------------------------------+--------------+---------------------------+ | Ubuntu 22.04 (ARM) | PASS | SKIPPED | SKIPPED | SKIPPED | +-----------------------------+----------------+------------------------------+--------------+---------------------------+ | RHEL9 (ARM) | PASS | SKIPPED | SKIPPED | SKIPPED | +-----------------------------+----------------+------------------------------+--------------+---------------------------+ | Ubuntu 24.04 (ARM) | PASS | SKIPPED | SKIPPED | SKIPPED | +-----------------------------+----------------+------------------------------+--------------+---------------------------+ | Ubuntu 20.04 ARM SVE | SKIPPED | SKIPPED | PASS | SKIPPED | +-----------------------------+----------------+------------------------------+--------------+---------------------------+ CentOS Stream 9 (ARM) Kernel: Depends on container host Compiler: gcc 11.5.0 20240719 (Red Hat 11.5.0-2) CentOS Stream 10 (ARM) Kernel: Depends on container host Compiler: gcc 14.2.1 20241104 (Red Hat 14.2.1-6) Debian 11 (Buster) (ARM) Kernel: Depends on container host Compiler: gcc (Debian 10.2.1-6) 10.2.1 20210110 Debian 12 (arm) Kernel: Depends on container host Compiler: gcc (Debian 12.2.0-14) 12.2.0 Fedora 41 (ARM) Kernel: Depends on container host Compiler: gcc 14.2.1 20240912 (Red Hat 14.2.1-3) Fedora 40 (ARM) Kernel: Depends on container host Compiler: gcc 14.2.1 20240912 (Red Hat 14.2.1-3) Fedora 40 (ARM Clang) Kernel: Depends on container host Compiler: clang 18.1.8 (Fedora 18.1.8-1.fc40) Ubuntu 20.04 (ARM) Kernel: Depends on container host Compiler: gcc (Ubuntu 9.4.0-1ubuntu1~20.04.2) 9.4.0 32-bit Ubuntu 22.04.4 (ARM) Kernel: 5.15.83+ aarch64 Compiler: gcc (Ubuntu 11.4.0-1ubuntu1~22.04) 11.4.0 Fedora 41 (ARM Clang) Kernel: Depends on container host Compiler: clang 19.1.5 (Fedora 19.1.5-1.fc41) Ubuntu 22.04 (ARM) Kernel: Depends on container host Compiler: gcc (Ubuntu 11.4.0-1ubuntu1~22.04) 11.4.0 RHEL9 (ARM) Kernel: Depends on container host Compiler: gcc 11.5.0 20240719 (Red Hat 11.5.0-2) Ubuntu 24.04 (ARM) Kernel: Depends on container host Compiler: gcc (Ubuntu 13.3.0-6ubuntu2~24.04) 13.3.0 Ubuntu 20.04 ARM SVE Kernel: Depends on container host Compiler: gcc (Ubuntu 10.5.0-1ubuntu1~20.04) 10.5.0 To view detailed results, visit: https://lab.dpdk.org/results/dashboard/patchsets/32600/ UNH-IOL DPDK Community Lab To manage your email subscriptions, visit: https://lab.dpdk.org/results/dashboard/preferences/subscriptions/